Workbook
Name _304SS: 'AccuValve Takeoff'!$BT$14:$BT$15
Name _316SS: 'AccuValve Takeoff'!$BU$14:$BU$15
Name AcidRes: 'AccuValve Takeoff'!$BN$149:$BN$152
Name AcidResV: 'AccuValve Takeoff'!$BR$97:$BR$98
Name AL: 'AccuValve Takeoff'!$BO$28:$BO$31
Name Aluminum: 'AccuValve Takeoff'!$BV$14:$BV$15
Name AV: #REF!
Name AV3000M: 'AccuValve Takeoff'!$BR$74:$BR$77
Name AV3000MC: 'AccuValve Takeoff'!$BR$91
Name AV3000X: 'AccuValve Takeoff'!$BL$70:$BL$73
Name AVAVCModel: '[1]AccuValve Selection'!$BJ$10:$BJ$3464
Name AVAVCModel: '[1]AccuValve Selection'!$BJ$10:$BJ$3464
Name AVAVCModel: 'AccuValve Takeoff'!#REF!
Name AVAVCNumber: 'AccuValve Takeoff'!#REF!
Name AVAVCNumber: 'AccuValve Takeoff'!#REF!
Name AVAVCPriceCode: 'AccuValve Takeoff'!#REF!
Name AVC: #REF!
Name AVC5000CR: 'AccuValve Takeoff'!$BL$79
Name AVC5000CRM: 'AccuValve Takeoff'!$BR$86:$BR$88
Name AVC5000M: 'AccuValve Takeoff'!$BR$80:$BR$83
Name AVC5000MC: 'AccuValve Takeoff'!$BR$94
Name AVC5000X: 'AccuValve Takeoff'!$BL$76:$BL$77
Name AVCA: 'AccuValve Takeoff'!$BN$38
Name AVCB: 'AccuValve Takeoff'!$BO$38
Name AVCChoices: #REF!
Name AVCItemNo: 'AccuValve Takeoff'!$AX$10:$AX$2034
Name AVCModel: 'AccuValve Takeoff'!$BC$10:$BC$2021
Name AVCnew: #REF!
Name AVCRmNm: 'AccuValve Takeoff'!$AZ$10:$AZ$2021
Name AVCSource: #REF!
Name AVCTagNo: 'AccuValve Takeoff'!$AY$10:$AY$2034
Name AVItemNo: 'AccuValve Takeoff'!$AR$10:$AR$2021
Name AVModel: #REF!
Name AVnew: #REF!
Name AVnew: #REF!
Name AVnew: #REF!
Name AVNo: '[1]AccuValve Selection'!$BM$10:$BM$1161
Name AVPrice: #REF!
Name AVT3A: 'AccuValve Takeoff'!$BV$19:$BV$20
Name AVT3B: 'AccuValve Takeoff'!$BW$19:$BW$20
Name AVTagNo: 'AccuValve Takeoff'!$AS$10:$AS$2021
Name AVTCB: 'AccuValve Takeoff'!$BX$18:$BX$19
Name AVTChoices: #REF!
Name AVTRmNum: 'AccuValve Takeoff'!$AT$10:$AT$2021
Name AVTSource: #REF!
Name BID: #REF!
Name BioSafetyCab: 'AccuValve Takeoff'!$BN$122:$BN$124
Name BioSafetyCab: 'AccuValve Takeoff'!$BN$121
Name BioSafetyCabV: 'AccuValve Takeoff'!$BP$106:$BP$109
Name BioSafetyCabV: 'AccuValve Takeoff'!$BN$121
Name CageRack: 'AccuValve Takeoff'!$BN$118
Name CageRackV: 'AccuValve Takeoff'!$BP$103
Name canopyEx: 'AccuValve Takeoff'!$BN$127:$BN$135
Name CanopyEx: 'AccuValve Takeoff'!$BN$121
Name CanopyExV: 'AccuValve Takeoff'!$BP$112:$BP$115
Name CanopyExV: 'AccuValve Takeoff'!$BI$110
Name Circular: #REF!
Name Circular: #REF!
Name Circular: #REF!
Name Circular1: #REF!

Sheet Instructions
A1: Accuvalve Engineer Scheduling Tool and Selection Guide 4-10-18_R1
A2: Revised | B2: 43200
A4: TAB | B4: DESCRIPTION | I4: REVISION HISTORY
A5: AccuValve Selection
A6: 1 | B6: This AccuValve Engineer Scheduling Tool and Selection Guide is designed to provide a spreadsheet which enables you properly size valves based on a low pressure drop. Remember that the pressure drop shown is the DP is the minimum pressure required to get the maximum design airflow. | I6: 42912 | J6: First Release to WebSite
A7: 2 | B7: Before beginning to make selections, be sure to select the units of measurement for Volume and Pressure so you can enter the Design Volumes in the units of choice. The Pressure units will self calculate based on Valve Size and maximum design airflow. | I7: 42923 | J7: Corrected Alarm Status on Intermediate Sheet for CSV files so when Enable was selected, "1" would fill CSV, and Disable would fill a "0". Changed Accutrol Address
A8: 3 | B8: Always fill this sheet out from left to right. Some of the cells have drop-down menu selections that are dependent on cells to the left. If it is not filled out left to right errors may occur. Should you require a change once the line has been completed, make sure to delete the INFORMATION ONLY and start again, left to right with the revised information. PLEASE DO NOT DELETE OR INSERT ROWS OF INFORMATION IN THIS SHEET WHICH WILL AFECT THE FORMULAS!! | I8: 42968 | J8: Added Logic to Tag Cell on Takeoff Sheet to flag users by formatting to yellow to warn against using commas and semi colons, and also by formatting the cell to oramge when more than 32 characters are used. Both of these conditions cause problems at the tunnel.
A9: 4 | B9: Cells that are not protected may be copied in the normal manner for Excel spreadsheets. Just remember to copy left cells first. When you paste into the target cells, be sure to use [Paste Special / Values Only] or you may overwrite the pull down information in cell(s), which may cause errors in other areas of the spread sheet. | I9: 42971 | J9: Added Logic to Rep cell and Project on Takeoff Sheet to flag users by formatting to yellow to warn against using commas and semi colons, and also by formatting the cell to oramge when more than 20 characters are used. Both of these conditions cause problems at the tunnel.
A10: 5 | B10: As the selections are being made the part number will be generated on the right side of the spreadsheet. | I10: 42978 | J10: Changed pull down selections on AVC Config form in the BACnet section / Velocity to be MPS instead of M/S and MPM instead of M/M
I11: 42998 | J11: Removed "Off" option for AO1 and AO2 due to tunnel issues. Default is still the same.
A12: AccuValve Schedule | I12: 43003 | J12: Added Pricing to Equipment Summary Page for the Accuvavles. Corrected Fail Positon code for Tunnel.
A13: 1 | B13: The schedule is set up to auto fill from the takeoff sheet. Any information on this sheet will automatically be developed when the takeoff sheet is filled out. | I13: 43024 | J13: Removed AV3000 Model Codes, pull downs and replaced with AVT3000 Model Codes and pull downs. Removed option for insulation on High Temp Valves.
A14: 2 | B14: The schedule is designed for the engineer so they can place the information for AccuValves directly on their drawings in a schedule format. Much of the information from the takeoff sheet is removed to simplify the schedule. The assumption is that common information such as actuator type and options such as insulation, flanges and shutoff requirements will be handled in the comments. | I14: 43033 | J14: Added logic for PD to go to Red if it exceeds selected Max Pressure Drop. Added Logic to transfer Output configuration to AVC Config sheet for AO1 and AO2 from Take Off Sheet. Added Pull Downs for AccuNet and BACnet for the AVT3000 product line. Added logic to itermediate sheet to add the word "end" to the end of the config file to stop tunnel processing.
A15: 3 | B15: The most important item on this sheet is the pressure drop column in green. When you enter the minimum and maximum volumes on the takeoff sheet, the form automatically calculates and inserts the pressure drop for the Accuvalve.
A16: 4 | B16: This schedule is not locked down so you can modify the sheet to your liking. Remember that the information in this sheet references that which is entered on the AccuValve Selection tab. DO NOT INSERT ROWS in this spreadsheet as it will change the imbedded formulas.
I17: 43035 | J17: Added Logic to select PFA Coated valves for 8, 10, 12 and 14" sizes.
A18: Max Design Press Selection | I18: 43039 | J18: Added Room Numbers, if entered on take-off sheet, to Tag information for the valve.
A19: 1 | B19: This tab illustrates the maximum flow through the various valves if the pressure drop is limited to be no more than a certain value. | I19: 43046 | J19: Major changes for AVT3000. Incorporated both AVC5 and AVT3 into same CSV file for the tunnel. Eliminated information from AVC5 rows that were not relavant to the AVT3. Added warning for MAC addresses above 127.
A21: Operating Pressure Selection
A22: 1 | B22: This tab is designed to compare valves for a known volume setting and calculates the pressure drop across the valve. After selecting the valve size in the middle, the sheet shows the next size smaller valve to the left and the next size larger valve to the right to help the user in selecting the proper size valve for the application. | I22: 43153 | J22: Changed Material descriptions so that informatin can be copied from old sheets to new.
A23: 2 | B23: Note that when the Maximum Design volume changes on a valve, the cell at the bottom which indicates pressure will turn green when the pressure differential of the valve drops below 0.300 Wc (75Pa). | I23: 43160 | J23: Changed Take Off Sheet so BACnet and AccuNet are blacked out to prevent choosing for AVC Valves which created Incorrect Model codes. Also made Analog the Default Mode for AVC valves if nothing is chosen on the Configuration Form. Added Space on Controls take-off for Setra products. Added Missing items to Parts & Access. Order Entry & added color shading to highlight Qtys and List Price of chosen items.
I26: 43168 | J26: Changed Controls Takeoff and Equipment Summary to included ARPC Model Code (which is Setra FLEX equivalent).
I27: 43175 | J27: Made corrections in the sheet based on Jon Savona's thorugh checking. Also have added conditional formating on the Tak-Off Sheet to highlight if a wrong actator is chosen for a particular type of valve.

Sheet AccuValve Takeoff
A1: Design Engineer AccuValve Scheduling Tool | N1: Select Measurement Units | T1: Max PD Warning
A2: Fill rows in left to right to build Schedule on separate Tab. | N2: CFM | O2: Volume
N3: in WC | O3: Pressure | T3: 0.2 | U3: =N3 -> in WC
BB4: THESE THREE TABLES GENERATE THE MODEL NUMBERS AND PRICING FOR THE SYSTEM PRICE WORKSHEET
T5: Range of AVC 5000 | V5: Transmitter Range of AVT3000 | Y5: Base | AB5: Shape | AC5: Material | AD5: Actuator | AF5: Size | AH5: AccuNet | AI5: BACnet | AJ5: Flange | AK5: Insulation | AL5: Tight Shutoff | BZ5: Use CI Column to add the Cage Rack Actuator Option | CJ5: Use CS Column to add the Cage Rack Mat'l Set Option | CX5: sum | CY5: sum | DD5: Constant | DE5: Constant | DF5: =0.0026*((DC5)/25)^2+0.0035*(DC5)/25-0.0047 -> -0.0047 | DH5: =0.0017*((DG5-50)/50)^2+0.0041*(DG5-50)/50+0.0056 -> 0.0032 | DJ5: =0.0026*((DI5)/100)^2+0.0012*(DI5)/100-0.0027 -> -0.0027 | DL5: =0.0056*((DK5)/200)^2-0.0008*(DK5)/200+0.0012 -> 0.0012 | DN5: =0.0062*((DM5)/300)^2-0.0094*(DM5)/300+0.0146 -> 0.0146 | DP5: =0.0058*((DO5)/400)^2+0.0106*(DO5)/400-0.013 -> -0.013 | DR5: =0.0063*((DQ5)/500)^2+0.0066*(DQ5)/500-0.0067 -> -0.0067 | DT5: =0.0058*((DS5)/800)^2+0.0106*(DS5)/800-0.013 -> -0.013 | DV5: =0.0063*((DU5)/1000)^2+0.0066*(DU5)/1000-0.0067 -> -0.0067
E6: Base | I6: Options | N6: Xmtr Out | O6: Design Airflow | CX6: =SUM(CX10:CX2020) -> 0 | CY6: =SUM(CY10:CY2020) -> 0 | DD6: 2.118 | DE6: 0.5885
A7: Item | B7: Room # | C7: Device Tag Information | D7: Service | E7: Valve Series | F7: Size | G7: Mat'ls | H7: Actuator | I7: AccuNet | J7: BACnet | K7: Flange | L7: Insulation | M7: Shut Off | O7: =N2 -> CFM | Q7: PD @ Max Design | R7: Shape | S7: Integral Controller | T7: =N2 -> CFM | V7: =N2 -> CFM | X7: Integral Controller | AM7: Release Information | AN7: Item Revision Information | AP7: AV Item No Generator | AV7: AVC and AVT Item No Generator | BY7: Material | BZ7: Determines | CB7: Determines | CD7: Determines | CF7: Determines | CH7: Determines | CJ7: Determines | CL7: Determines | CN7: Determines | CP7: Determines | CR7: Determines | CT7: Determines | CV7: Determines | CX7: Determines | DA7: Actuator Code | DC7: These three blocks convert to CFM, but only the one that agrees with cell K2 is used | DF7: PRESSURE DROP EQUATIONS BY VALVE SIZE
A8: No. | H8: Change Act if RED | O8: Min. | P8: Max. | Q8: =N3 -> in WC | T8: Min | U8: Max | V8: Min | W8: Max | Y8: AccuValve M/N | AR8: AV | AS8: AV | AX8: AVC | AY8: AVC | BB8: MODEL CONVERTER | BG8: Exceed PD Limit | BZ8: Actuator by | CB8: Actuator by | CD8: Valve size | CF8: Valve Type | CH8: Mat'l Sel by | CJ8: Mat'l Sel by | CL8: Mat'l Sel by | CN8: Shutoff by | CP8: Flanges by | CR8: Flanges by | CT8: AccuNet by | CV8: BACNet by | DC8: CFM | DD8: LPS>CFM | DE8: CMH>CFM | DF8: 6" Valve | DH8: 8" Valve | DJ8: 10" Valve | DL8: 12" Valve | DN8: 14" Valve | DP8: 18" Valve | DR8: 24" Valve | DT8: 36" Valve | DV8: 48" Valve
T9: =IF(F9="","",LOOKUP(F9,$BI$40:$BI$40,$BJ$40:$BJ$42)) | AR9: Item No | AS9: Tag No | AT9: AVTRmNum | AX9: Item No | AY9: Tag No | AZ9: AVCRmNm | BB9: CONCATINATE | BC9: AV/AVC Model | BD9: XmtrOut | BZ9: Size | CB9: Size & Service | CD9: by service | CF9: by service | CH9: Size | CJ9: Valve Type | CL9: Valve Type & Svs | CN9: Size | CP9: Material | CR9: AV - AVC | CT9: AVT3 - H-AVT3 | CV9: AVT3 - H-AVT3 | CX9: AV | CY9: AVC | DF9: in. WC | DG9: Pa | DH9: in. WC | DI9: Pa | DJ9: in. WC | DK9: Pa | DL9: in. WC | DM9: Pa | DN9: in. WC | DO9: Pa | DP9: in. WC | DQ9: Pa | DR9: in. WC | DS9: Pa | DT9: in. WC | DU9: Pa | DV9: in. WC | DW9: Pa
A10: 1 | Q10: =IF(P10=""," ",IF($N$3="in WC",IF(F10="","",IF(F10=6,DF10,IF(F10=8,DH10,IF(F10=10,DJ10,IF(F10=12,DL10,IF(F10=14,DN10,IF(F10="12x18",DP10,IF(F10="12x24",DR10,IF(F10="12x36",DT10,IF(F10="12x48",DV10)))))))))),IF(F10=6,DG10,IF(F10=8,DI10,IF(F10=10,DK10,IF(F10=12,DM10,IF(F10=14,DO10,IF(F10="12x18",DQ10,IF(F10="12x24",DS10,IF(F10="12x36",DU10,IF(F10="12x48",DW10))))))))))) | R10: =IF(F10="","",LOOKUP(F10,$BI$14:$BI$22,$BP$14:$BP$22)) | S10: =IF(RIGHT(E10,7)="AVT3000","No",IF(RIGHT(E10,7)="AVC5000","Yes","")) | T10: =IF(F10="","",IF($N$2="CFM",LOOKUP(F10,$BI$14:$BJ$22),IF($N$2="LPS", LOOKUP(F10,$BI$173:$BJ$181),IF($N$2="CMH",LOOKUP(F10,$BI$187:$BJ$195)," ")))) | U10: =IF(F10="","",IF($N$2="CFM",LOOKUP(F10,$BI$14:$BI$22,$BL$14:$BL$22),IF($N$2="LPS", LOOKUP(F10,$BI$173:$BI$181,$BL$173:$BL$181),IF($N$2="CMH",LOOKUP(F10,$BI$187:$BI$195,$BL$187:$BL$195)," ")))) | V10: =IF(F10="","",IF($N$2="CFM",LOOKUP(F10,$BI$14:$BI$22,$BM$14:$BM$22),IF($N$2="LPS", LOOKUP(F10,$BI$173:$BI$181,$BM$173:$BM$181),IF($N$2="CMH",LOOKUP(F10,$BI$187:$BI$195,$BM$187:$BM$195)," ")))) | W10: =IF(F10="","",IF($N$2="CFM",LOOKUP(F10,$BI$14:$BI$22,$BN$14:$BN$22),IF($N$2="LPS", LOOKUP(F10,$BI$173:$BI$181,$BN$173:$BN$181),IF($N$2="CMH",LOOKUP(F10,$BI$187:$BI$195,$BN$187:$BN$195)," ")))) | X10: =IF(RIGHT(E10,7)="AVT3000","No",IF(RIGHT(E10,7)="AVC5000","Yes","")) | Y10: =IF(LEFT(E10,1)="H","H-","") | Z10: =IF(RIGHT(E10,7)="AVT3000","AVT3",IF(RIGHT(E10,7)="AVC5000","AVC5","")) | AA10: =IF(RIGHT(E10,6)="AV3000","AV3",IF(RIGHT(E10,7)="AVC5000","AVC5","")) | AB10: =IF(F10="","",LOOKUP(F10,$BI$14:$BI$22,$BQ$14:$BQ$22)) | AC10: =IF(G10="","",LOOKUP(G10,$BI$31:$BJ$37)) | AD10: =IF(H10="","",LOOKUP(H10,$BI$41:$BJ$47)) | AE10: =IF(AF10="","","-") | AF10: =IF(F10="","",LOOKUP(F10,$BI$14:$BI$22,$BO$14:$BO$22)) | AG10: =IF(G10="","","-") | AH10: =IF(I10="AccuNet","A","") | AI10: =IF(J10="BACnet","B","") | AJ10: =IF(K10="Flanged","F","") | AK10: =IF(L10="Insulation","I","") | AL10: =IF(M10="Tight Shutoff","S","") | AP10: =IF(S10="NO",1,0) -> 0 | AQ10: =AP10 -> 0 | AR10: =IF(AP10>0,AQ10,AQ10+0.1) -> 0.1 | AS10: =IF(S10="NO",C10,"") | AT10: =IF(S10="no",IF(B10="","",B10),"") | AV10: =IF(D10="",0,1) -> 0 | AW10: =AV10 -> 0 | AX10: =IF(AV10>0,AW10,AW10+0.1) -> 0.1 | AY10: =IF(AV10=0,"",IF(C10="","",C10)) | AZ10: =IF(AV10=0,"",IF(B10="","",B10)) | BB10: =CONCATENATE(Y10,Z10,AB10,AC10,AD10,AE10,AF10,AG10,AH10,AI10,AJ10,AK10,AL10) | BC10: =IF(BC3="test",BC7,BB10) | BD10: =IF(N10="","",N10) | BG10: =IF(D10="","",Q10-$T$3) | BY10: =IF(G10="","",IF(LEFT(G10,3)="304","_304SS",IF(LEFT(G10,3)="316","_316SS",G10))) | BZ10: =IF(E10="AVT3000","AV3000X",IF(E10="AVC5000","AVC5000X",IF(E10="H-AVT3000","H_AV3000",IF(E10="H-AVC5000","H_AVC5000","")))) | CB10: =IF(CD10="CageRack","AVC5000CR",BZ10) | CD10: =IF(D10="supply","supply",IF(D10="FH Exhaust","FHExhaust", IF(D10="GE","GE",IF(D10="Other Exhaust","OtherExhaust",IF(D10="Return","Return",IF(D10="Cage Rack","CageRack",IF(D10="Bio Safety Cab","BioSafetyCab",IF(D10="Canopy Ex","CanopyEx",IF(D10="Snorkel","Snorkel",IF(D10="Acid resistant","AcidRes","")))))))))) | CF10: =IF(D10="supply","supplyV",IF(D10="FH Exhaust","FHExhaustV",IF(D10="GE","GEV",IF(D10="Other Exhaust","OtherExhaustV",IF(D10="Return","ReturnV",IF(D10="Cage Rack","CageRackV",IF(D10="Bio Safety Cab","BioSafetyCabV",IF(D10="Canopy Ex","CanopyExV",IF(D10="Snorkel","SnorkelV",IF(D10="Acid resistant","AcidResV","")))))))))) | CH10: =IF(F10=6,"AL",IF(F10=8,"AL",(IF(F10=10,"AL",IF(F10=12,"AL",IF(F10=14,"AL",IF(F10="12x18","NOAL",IF(F10="12x24","NOAL",IF(F10="12x36","NOAL",IF(F10="12x48","NOAL","")))))))))) | CJ10: =IF(AND(D10="acid resistant",E10="AVC5000"),"AVC5000MC",IF(AND(D10="acid resistant",E10="AVT3000"),"AV3000MC",IF(E10="AVT3000","AV3000M",IF(E10="AVC5000","AVC5000M",IF(E10="H-AVT3000","H_AV3000M",IF(E10="H-AVC5000","H_AVC5000M","")))))) | CL10: =IF(CD10="CageRack","AVC5000CRM",CJ10) | CN10: =IF(G10="PFAcoated","NOSOPFA",IF(F10=6,"NOSO",IF(F10=8,"SO",(IF(F10=10,"SO",IF(F10=12,"SO",IF(F10=14,"SO",IF(F10="12x18","SO",IF(F10="12x24","SO",IF(F10="12x36","SO",IF(F10="12x48","SO",""))))))))))) | CP10: =IF(G10="","",IF(G10="PFACoated", "NOFL","FL")) | CR10: =IF(S10="YES","CTL",IF(S10="NO","NOCTL","")) | CT10: =IF(E10="H-AVT3000","H_AVT3A",IF(E10="AVT3000","AVT3A",IF(E10="H-AVC5000","AVCA",IF(E10="AVC5000","AVCA","")))) | CV10: =IF(E10="","",IF(E10="H-AVT3000","H_AVT3B",IF(E10="AVT3000","AVT3B",IF(E10="H-AVC5000","AVCB",IF(E10="AVC5000","AVCB"))))) | CX10: =IF(X10="YES",0,IF(X10="NO",1,"")) | CY10: =IF(X10="YES",1,IF(X10="NO",0,"")) | DA10: =VLOOKUP(H10,$BI$41:$BJ$47,2) -> #N/A | DC10: =P10 -> 0 | DD10: =P10*$DD$6 -> 0 | DE10: =P10*$DE$6 -> 0 | DF10: =IF($N$2="CFM",(0.0026*(($DC10)/25)^2+0.0035*($DC10)/25-0.0047),IF($N$2="LPS",(0.0026*(($DD10)/25)^2+0.0035*($DD10)/25-0.0047),IF($N$2="CMH",(0.0026*(($DE10)/25)^2+0.0035*($DE10)/25-0.0047),""))) -> -0.0047 | DG10: =DF10*249 -> -1.1703 | DH10: =IF($N$2="CFM",(0.0017*(($DC10-50)/50)^2+0.0041*($DC10-50)/50+0.0056),IF($N$2="LPS",(0.0017*(($DD10-50)/50)^2+0.0041*($DD10-50)/50+0.0056),IF($N$2="CMH",(0.0017*(($DE10-50)/50)^2+0.0041*($DE10-50)/50+0.0056),""))) -> 0.0032 | DI10: =DH10*249 -> 0.7968 | DJ10: =IF($N$2="CFM",(0.0026*(($DC10)/100)^2+0.0012*($DC10)/100-0.0027),IF($N$2="LPS",(0.0026*(($DD10)/100)^2+0.0012*($DD10)/100-0.0027),IF($N$2="CMH",(0.0026*(($DE10)/100)^2+0.0012*($DE10)/100-0.0027),""))) -> -0.0027 | DK10: =DJ10*249 -> -0.6723 | DL10: =IF($N$2="CFM",(0.0056*(($DC10)/200)^2-0.0008*($DC10)/200+0.0012),IF($N$2="LPS",(0.0056*(($DD10)/200)^2-0.0008*($DD10)/200+0.0012),IF($N$2="CMH",(0.0056*(($DE10)/200)^2-0.0008*($DE10)/200+0.0012),""))) -> 0.0012 | DM10: =DL10*249 -> 0.2988 | DN10: =IF($N$2="CFM",(0.0062*(($DC10)/300)^2-0.0094*($DC10)/300+0.0146),IF($N$2="LPS",(0.0062*(($DD10)/300)^2-0.0094*($DD10)/300+0.0146),IF($N$2="CMH",(0.0062*(($DE10)/300)^2-0.0094*($DE10)/300+0.0146),""))) -> 0.0146 | DO10: =DN10*249 -> 3.6354 | DP10: =IF($N$2="CFM",(0.0058*((DC10)/400)^2+0.0106*(DC10)/400-0.013),IF($N$2="LPS",(0.0058*((DD10)/400)^2+0.0106*(DD10)/400-0.013),IF($N$2="CMH",(0.0058*((DE10)/400)^2+0.0106*(DE10)/400-0.013),""))) -> -0.013 | DQ10: =DP10*249 -> -3.237 | DR10: =IF($N$2="CFM",(0.0063*(($DC10)/500)^2+0.0066*($DC10)/500-0.0067),IF($N$2="LPS",(0.0063*(($DD10)/500)^2+0.0066*($DD10)/500-0.0067),IF($N$2="CMH",(0.0063*(($DE10)/500)^2+0.0066*($DE10)/500-0.0067),""))) -> -0.0067 | DS10: =DR10*249 -> -1.6683 | DT10: =IF($N$2="CFM",(0.0058*(($DC10)/800)^2+0.0106*($DC10)/800-0.013),IF($N$2="LPS",(0.0058*(($DD10)/800)^2+0.0106*($DD10)/800-0.013),IF($N$2="CMH",(0.0058*(($DE10)/800)^2+0.0106*($DE10)/800-0.013),""))) -> -0.013 | DU10: =DT10*249 -> -3.237 | DV10: =IF($N$2="CFM",(0.0063*(($DC10)/1000)^2+0.0066*($DC10)/1000-0.0067),IF($N$2="LPS",(0.0063*(($DD10)/1000)^2+0.0066*($DD10)/1000-0.0067),IF($N$2="CMH",(0.0063*(($DE10)/1000)^2+0.0066*($DE10)/1000-0.0067),""))) -> -0.0067 | DW10: =DV10*249 -> -1.6683
A11: 2 | Q11: =IF(P11=""," ",IF($N$3="in WC",IF(F11="","",IF(F11=6,DF11,IF(F11=8,DH11,IF(F11=10,DJ11,IF(F11=12,DL11,IF(F11=14,DN11,IF(F11="12x18",DP11,IF(F11="12x24",DR11,IF(F11="12x36",DT11,IF(F11="12x48",DV11)))))))))),IF(F11=6,DG11,IF(F11=8,DI11,IF(F11=10,DK11,IF(F11=12,DM11,IF(F11=14,DO11,IF(F11="12x18",DQ11,IF(F11="12x24",DS11,IF(F11="12x36",DU11,IF(F11="12x48",DW11))))))))))) | R11: =IF(F11="","",LOOKUP(F11,$BI$14:$BI$22,$BP$14:$BP$22)) | S11: =IF(RIGHT(E11,7)="AVT3000","No",IF(RIGHT(E11,7)="AVC5000","Yes","")) | T11: =IF(F11="","",IF($N$2="CFM",LOOKUP(F11,$BI$14:$BJ$22),IF($N$2="LPS", LOOKUP(F11,$BI$173:$BJ$181),IF($N$2="CMH",LOOKUP(F11,$BI$187:$BJ$195)," ")))) | U11: =IF(F11="","",IF($N$2="CFM",LOOKUP(F11,$BI$14:$BI$22,$BL$14:$BL$22),IF($N$2="LPS", LOOKUP(F11,$BI$173:$BI$181,$BL$173:$BL$181),IF($N$2="CMH",LOOKUP(F11,$BI$187:$BI$195,$BL$187:$BL$195)," ")))) | V11: =IF(F11="","",IF($N$2="CFM",LOOKUP(F11,$BI$14:$BI$22,$BM$14:$BM$22),IF($N$2="LPS", LOOKUP(F11,$BI$173:$BI$181,$BM$173:$BM$181),IF($N$2="CMH",LOOKUP(F11,$BI$187:$BI$195,$BM$187:$BM$195)," ")))) | W11: =IF(F11="","",IF($N$2="CFM",LOOKUP(F11,$BI$14:$BI$22,$BN$14:$BN$22),IF($N$2="LPS", LOOKUP(F11,$BI$173:$BI$181,$BN$173:$BN$181),IF($N$2="CMH",LOOKUP(F11,$BI$187:$BI$195,$BN$187:$BN$195)," ")))) | X11: =IF(RIGHT(E11,7)="AVT3000","No",IF(RIGHT(E11,7)="AVC5000","Yes","")) | Y11: =IF(LEFT(E11,1)="H","H-","") | Z11: =IF(RIGHT(E11,7)="AVT3000","AVT3",IF(RIGHT(E11,7)="AVC5000","AVC5","")) | AA11: =IF(RIGHT(E11,6)="AV3000","AV3",IF(RIGHT(E11,7)="AVC5000","AVC5","")) | AB11: =IF(F11="","",LOOKUP(F11,$BI$14:$BI$22,$BQ$14:$BQ$22)) | AC11: =IF(G11="","",LOOKUP(G11,$BI$31:$BJ$37)) | AD11: =IF(H11="","",LOOKUP(H11,$BI$41:$BJ$47)) | AE11: =IF(AF11="","","-") | AF11: =IF(F11="","",LOOKUP(F11,$BI$14:$BI$22,$BO$14:$BO$22)) | AG11: =IF(G11="","","-") | AH11: =IF(I11="AccuNet","A","") | AI11: =IF(J11="BACnet","B","") | AJ11: =IF(K11="Flanged","F","") | AK11: =IF(L11="Insulation","I","") | AL11: =IF(M11="Tight Shutoff","S","") | AP11: =IF(S11="NO",1,0) -> 0 | AQ11: =SUM(AP$10:AP11) -> 0 | AR11: =IF(AP11>0,AQ11,AQ11+0.1) -> 0.1 | AS11: =IF(S11="NO",C11,"") | AT11: =IF(S11="no",IF(B11="","",B11),"") | AV11: =IF(D11="",0,1) -> 0 | AW11: =SUM(AV$10:AV11) -> 0 | AX11: =IF(AV11>0,AW11,AW11+0.1) -> 0.1 | AY11: =IF(AV11=0,"",IF(C11="","",C11)) | AZ11: =IF(AV11=0,"",IF(B11="","",B11)) | BB11: =CONCATENATE(Y11,Z11,AB11,AC11,AD11,AE11,AF11,AG11,AH11,AI11,AJ11,AK11,AL11) | BC11: =BB11 | BD11: =IF(N11="","",N11) | BG11: =IF(D11="","",Q11-$T$3) | BI11: AVC Valve Size | BW11: Set up if/then statememnt | BY11: =IF(G11="","",IF(LEFT(G11,3)="304","_304SS",IF(LEFT(G11,3)="316","_316SS",G11))) | BZ11: =IF(E11="AVT3000","AV3000X",IF(E11="AVC5000","AVC5000X",IF(E11="H-AVT3000","H_AV3000",IF(E11="H-AVC5000","H_AVC5000","")))) | CB11: =IF(CD11="CageRack","AVC5000CR",BZ11) | CD11: =IF(D11="supply","supply",IF(D11="FH Exhaust","FHExhaust", IF(D11="GE","GE",IF(D11="Other Exhaust","OtherExhaust",IF(D11="Return","Return",IF(D11="Cage Rack","CageRack",IF(D11="Bio Safety Cab","BioSafetyCab",IF(D11="Canopy Ex","CanopyEx",IF(D11="Snorkel","Snorkel",IF(D11="Acid resistant","AcidRes","")))))))))) | CF11: =IF(D11="supply","supplyV",IF(D11="FH Exhaust","FHExhaustV",IF(D11="GE","GEV",IF(D11="Other Exhaust","OtherExhaustV",IF(D11="Return","ReturnV",IF(D11="Cage Rack","CageRackV",IF(D11="Bio Safety Cab","BioSafetyCabV",IF(D11="Canopy Ex","CanopyExV",IF(D11="Snorkel","SnorkelV",IF(D11="Acid resistant","AcidResV","")))))))))) | CH11: =IF(F11=6,"AL",IF(F11=8,"AL",(IF(F11=10,"AL",IF(F11=12,"AL",IF(F11=14,"AL",IF(F11="12x18","NOAL",IF(F11="12x24","NOAL",IF(F11="12x36","NOAL",IF(F11="12x48","NOAL","")))))))))) | CJ11: =IF(AND(D11="acid resistant",E11="AVC5000"),"AVC5000MC",IF(AND(D11="acid resistant",E11="AVT3000"),"AV3000MC",IF(E11="AVT3000","AV3000M",IF(E11="AVC5000","AVC5000M",IF(E11="H-AVT3000","H_AV3000M",IF(E11="H-AVC5000","H_AVC5000M","")))))) | CL11: =IF(CD11="CageRack","AVC5000CRM",CJ11) | CN11: =IF(G11="PFAcoated","NOSOPFA",IF(F11=6,"NOSO",IF(F11=8,"SO",(IF(F11=10,"SO",IF(F11=12,"SO",IF(F11=14,"SO",IF(F11="12x18","SO",IF(F11="12x24","SO",IF(F11="12x36","SO",IF(F11="12x48","SO",""))))))))))) | CP11: =IF(G11="","",IF(G11="PFACoated", "NOFL","FL")) | CR11: =IF(S11="YES","CTL",IF(S11="NO","NOCTL","")) | CT11: =IF(E11="H-AVT3000","H_AVT3A",IF(E11="AVT3000","AVT3A",IF(E11="H-AVC5000","AVCA",IF(E11="AVC5000","AVCA","")))) | CV11: =IF(E11="","",IF(E11="H-AVT3000","H_AVT3B",IF(E11="AVT3000","AVT3B",IF(E11="H-AVC5000","AVCB",IF(E11="AVC5000","AVCB"))))) | CX11: =IF(X11="YES",0,IF(X11="NO",1,"")) | CY11: =IF(X11="YES",1,IF(X11="NO",0,"")) | DA11: =IF(H11="","",VLOOKUP(H11,$BI$41:$BJ$47,2)) | DC11: =P11 -> 0 | DD11: =P11*$DD$6 -> 0 | DE11: =P11*$DE$6 -> 0 | DF11: =IF($N$2="CFM",(0.0026*(($DC11)/25)^2+0.0035*($DC11)/25-0.0047),IF($N$2="LPS",(0.0026*(($DD11)/25)^2+0.0035*($DD11)/25-0.0047),IF($N$2="CMH",(0.0026*(($DE11)/25)^2+0.0035*($DE11)/25-0.0047),""))) -> -0.0047 | DG11: =DF11*249 -> -1.1703 | DH11: =IF($N$2="CFM",(0.0017*(($DC11-50)/50)^2+0.0041*($DC11-50)/50+0.0056),IF($N$2="LPS",(0.0017*(($DD11-50)/50)^2+0.0041*($DD11-50)/50+0.0056),IF($N$2="CMH",(0.0017*(($DE11-50)/50)^2+0.0041*($DE11-50)/50+0.0056),""))) -> 0.0032 | DI11: =DH11*249 -> 0.7968 | DJ11: =IF($N$2="CFM",(0.0026*(($DC11)/100)^2+0.0012*($DC11)/100-0.0027),IF($N$2="LPS",(0.0026*(($DD11)/100)^2+0.0012*($DD11)/100-0.0027),IF($N$2="CMH",(0.0026*(($DE11)/100)^2+0.0012*($DE11)/100-0.0027),""))) -> -0.0027 | DK11: =DJ11*249 -> -0.6723 | DL11: =IF($N$2="CFM",(0.0056*(($DC11)/200)^2-0.0008*($DC11)/200+0.0012),IF($N$2="LPS",(0.0056*(($DD11)/200)^2-0.0008*($DD11)/200+0.0012),IF($N$2="CMH",(0.0056*(($DE11)/200)^2-0.0008*($DE11)/200+0.0012),""))) -> 0.0012 | DM11: =DL11*249 -> 0.2988 | DN11: =IF($N$2="CFM",(0.0062*(($DC11)/300)^2-0.0094*($DC11)/300+0.0146),IF($N$2="LPS",(0.0062*(($DD11)/300)^2-0.0094*($DD11)/300+0.0146),IF($N$2="CMH",(0.0062*(($DE11)/300)^2-0.0094*($DE11)/300+0.0146),""))) -> 0.0146 | DO11: =DN11*249 -> 3.6354 | DP11: =IF($N$2="CFM",(0.0058*((DC11)/400)^2+0.0106*(DC11)/400-0.013),IF($N$2="LPS",(0.0058*((DD11)/400)^2+0.0106*(DD11)/400-0.013),IF($N$2="CMH",(0.0058*((DE11)/400)^2+0.0106*(DE11)/400-0.013),""))) -> -0.013 | DQ11: =DP11*249 -> -3.237 | DR11: =IF($N$2="CFM",(0.0063*(($DC11)/500)^2+0.0066*($DC11)/500-0.0067),IF($N$2="LPS",(0.0063*(($DD11)/500)^2+0.0066*($DD11)/500-0.0067),IF($N$2="CMH",(0.0063*(($DE11)/500)^2+0.0066*($DE11)/500-0.0067),""))) -> -0.0067 | DS11: =DR11*249 -> -1.6683 | DT11: =IF($N$2="CFM",(0.0058*(($DC11)/800)^2+0.0106*($DC11)/800-0.013),IF($N$2="LPS",(0.0058*(($DD11)/800)^2+0.0106*($DD11)/800-0.013),IF($N$2="CMH",(0.0058*(($DE11)/800)^2+0.0106*($DE11)/800-0.013),""))) -> -0.013 | DU11: =DT11*249 -> -3.237 | DV11: =IF($N$2="CFM",(0.0063*(($DC11)/1000)^2+0.0066*($DC11)/1000-0.0067),IF($N$2="LPS",(0.0063*(($DD11)/1000)^2+0.0066*($DD11)/1000-0.0067),IF($N$2="CMH",(0.0063*(($DE11)/1000)^2+0.0066*($DE11)/1000-0.0067),""))) -> -0.0067 | DW11: =DV11*249 -> -1.6683
A12: 3 | Q12: =IF(P12=""," ",IF($N$3="in WC",IF(F12="","",IF(F12=6,DF12,IF(F12=8,DH12,IF(F12=10,DJ12,IF(F12=12,DL12,IF(F12=14,DN12,IF(F12="12x18",DP12,IF(F12="12x24",DR12,IF(F12="12x36",DT12,IF(F12="12x48",DV12)))))))))),IF(F12=6,DG12,IF(F12=8,DI12,IF(F12=10,DK12,IF(F12=12,DM12,IF(F12=14,DO12,IF(F12="12x18",DQ12,IF(F12="12x24",DS12,IF(F12="12x36",DU12,IF(F12="12x48",DW12))))))))))) | R12: =IF(F12="","",LOOKUP(F12,$BI$14:$BI$22,$BP$14:$BP$22)) | S12: =IF(RIGHT(E12,7)="AVT3000","No",IF(RIGHT(E12,7)="AVC5000","Yes","")) | T12: =IF(F12="","",IF($N$2="CFM",LOOKUP(F12,$BI$14:$BJ$22),IF($N$2="LPS", LOOKUP(F12,$BI$173:$BJ$181),IF($N$2="CMH",LOOKUP(F12,$BI$187:$BJ$195)," ")))) | U12: =IF(F12="","",IF($N$2="CFM",LOOKUP(F12,$BI$14:$BI$22,$BL$14:$BL$22),IF($N$2="LPS", LOOKUP(F12,$BI$173:$BI$181,$BL$173:$BL$181),IF($N$2="CMH",LOOKUP(F12,$BI$187:$BI$195,$BL$187:$BL$195)," ")))) | V12: =IF(F12="","",IF($N$2="CFM",LOOKUP(F12,$BI$14:$BI$22,$BM$14:$BM$22),IF($N$2="LPS", LOOKUP(F12,$BI$173:$BI$181,$BM$173:$BM$181),IF($N$2="CMH",LOOKUP(F12,$BI$187:$BI$195,$BM$187:$BM$195)," ")))) | W12: =IF(F12="","",IF($N$2="CFM",LOOKUP(F12,$BI$14:$BI$22,$BN$14:$BN$22),IF($N$2="LPS", LOOKUP(F12,$BI$173:$BI$181,$BN$173:$BN$181),IF($N$2="CMH",LOOKUP(F12,$BI$187:$BI$195,$BN$187:$BN$195)," ")))) | X12: =IF(RIGHT(E12,7)="AVT3000","No",IF(RIGHT(E12,7)="AVC5000","Yes","")) | Y12: =IF(LEFT(E12,1)="H","H-","") | Z12: =IF(RIGHT(E12,7)="AVT3000","AVT3",IF(RIGHT(E12,7)="AVC5000","AVC5","")) | AA12: =IF(RIGHT(E12,6)="AV3000","AV3",IF(RIGHT(E12,7)="AVC5000","AVC5","")) | AB12: =IF(F12="","",LOOKUP(F12,$BI$14:$BI$22,$BQ$14:$BQ$22)) | AC12: =IF(G12="","",LOOKUP(G12,$BI$31:$BJ$37)) | AD12: =IF(H12="","",LOOKUP(H12,$BI$41:$BJ$47)) | AE12: =IF(AF12="","","-") | AF12: =IF(F12="","",LOOKUP(F12,$BI$14:$BI$22,$BO$14:$BO$22)) | AG12: =IF(G12="","","-") | AH12: =IF(I12="AccuNet","A","") | AI12: =IF(J12="BACnet","B","") | AJ12: =IF(K12="Flanged","F","") | AK12: =IF(L12="Insulation","I","") | AL12: =IF(M12="Tight Shutoff","S","") | AP12: =IF(S12="NO",1,0) -> 0 | AQ12: =SUM(AP$10:AP12) -> 0 | AR12: =IF(AP12>0,AQ12,AQ12+0.1) -> 0.1 | AS12: =IF(S12="NO",C12,"") | AT12: =IF(S12="no",IF(B12="","",B12),"") | AV12: =IF(D12="",0,1) -> 0 | AW12: =SUM(AV$10:AV12) -> 0 | AX12: =IF(AV12>0,AW12,AW12+0.1) -> 0.1 | AY12: =IF(AV12=0,"",IF(C12="","",C12)) | AZ12: =IF(AV12=0,"",IF(B12="","",B12)) | BB12: =CONCATENATE(Y12,Z12,AB12,AC12,AD12,AE12,AF12,AG12,AH12,AI12,AJ12,AK12,AL12) | BC12: =BB12 | BD12: =IF(N12="","",N12) | BG12: =IF(D12="","",Q12-$T$3) | BJ12: CFM | BM12: Xmtr Range | BR12: Airflow | BY12: =IF(G12="","",IF(LEFT(G12,3)="304","_304SS",IF(LEFT(G12,3)="316","_316SS",G12))) | BZ12: =IF(E12="AVT3000","AV3000X",IF(E12="AVC5000","AVC5000X",IF(E12="H-AVT3000","H_AV3000",IF(E12="H-AVC5000","H_AVC5000","")))) | CB12: =IF(CD12="CageRack","AVC5000CR",BZ12) | CD12: =IF(D12="supply","supply",IF(D12="FH Exhaust","FHExhaust", IF(D12="GE","GE",IF(D12="Other Exhaust","OtherExhaust",IF(D12="Return","Return",IF(D12="Cage Rack","CageRack",IF(D12="Bio Safety Cab","BioSafetyCab",IF(D12="Canopy Ex","CanopyEx",IF(D12="Snorkel","Snorkel",IF(D12="Acid resistant","AcidRes","")))))))))) | CF12: =IF(D12="supply","supplyV",IF(D12="FH Exhaust","FHExhaustV",IF(D12="GE","GEV",IF(D12="Other Exhaust","OtherExhaustV",IF(D12="Return","ReturnV",IF(D12="Cage Rack","CageRackV",IF(D12="Bio Safety Cab","BioSafetyCabV",IF(D12="Canopy Ex","CanopyExV",IF(D12="Snorkel","SnorkelV",IF(D12="Acid resistant","AcidResV","")))))))))) | CH12: =IF(F12=6,"AL",IF(F12=8,"AL",(IF(F12=10,"AL",IF(F12=12,"AL",IF(F12=14,"AL",IF(F12="12x18","NOAL",IF(F12="12x24","NOAL",IF(F12="12x36","NOAL",IF(F12="12x48","NOAL","")))))))))) | CJ12: =IF(AND(D12="acid resistant",E12="AVC5000"),"AVC5000MC",IF(AND(D12="acid resistant",E12="AVT3000"),"AV3000MC",IF(E12="AVT3000","AV3000M",IF(E12="AVC5000","AVC5000M",IF(E12="H-AVT3000","H_AV3000M",IF(E12="H-AVC5000","H_AVC5000M","")))))) | CL12: =IF(CD12="CageRack","AVC5000CRM",CJ12) | CN12: =IF(G12="PFAcoated","NOSOPFA",IF(F12=6,"NOSO",IF(F12=8,"SO",(IF(F12=10,"SO",IF(F12=12,"SO",IF(F12=14,"SO",IF(F12="12x18","SO",IF(F12="12x24","SO",IF(F12="12x36","SO",IF(F12="12x48","SO",""))))))))))) | CP12: =IF(G12="","",IF(G12="PFACoated", "NOFL","FL")) | CR12: =IF(S12="YES","CTL",IF(S12="NO","NOCTL","")) | CT12: =IF(E12="H-AVT3000","H_AVT3A",IF(E12="AVT3000","AVT3A",IF(E12="H-AVC5000","AVCA",IF(E12="AVC5000","AVCA","")))) | CV12: =IF(E12="","",IF(E12="H-AVT3000","H_AVT3B",IF(E12="AVT3000","AVT3B",IF(E12="H-AVC5000","AVCB",IF(E12="AVC5000","AVCB"))))) | CX12: =IF(X12="YES",0,IF(X12="NO",1,"")) | CY12: =IF(X12="YES",1,IF(X12="NO",0,"")) | DA12: =IF(H12="","",VLOOKUP(H12,$BI$41:$BJ$47,2)) | DC12: =P12 -> 0 | DD12: =P12*$DD$6 -> 0 | DE12: =P12*$DE$6 -> 0 | DF12: =IF($N$2="CFM",(0.0026*(($DC12)/25)^2+0.0035*($DC12)/25-0.0047),IF($N$2="LPS",(0.0026*(($DD12)/25)^2+0.0035*($DD12)/25-0.0047),IF($N$2="CMH",(0.0026*(($DE12)/25)^2+0.0035*($DE12)/25-0.0047),""))) -> -0.0047 | DG12: =DF12*249 -> -1.1703 | DH12: =IF($N$2="CFM",(0.0017*(($DC12-50)/50)^2+0.0041*($DC12-50)/50+0.0056),IF($N$2="LPS",(0.0017*(($DD12-50)/50)^2+0.0041*($DD12-50)/50+0.0056),IF($N$2="CMH",(0.0017*(($DE12-50)/50)^2+0.0041*($DE12-50)/50+0.0056),""))) -> 0.0032 | DI12: =DH12*249 -> 0.7968 | DJ12: =IF($N$2="CFM",(0.0026*(($DC12)/100)^2+0.0012*($DC12)/100-0.0027),IF($N$2="LPS",(0.0026*(($DD12)/100)^2+0.0012*($DD12)/100-0.0027),IF($N$2="CMH",(0.0026*(($DE12)/100)^2+0.0012*($DE12)/100-0.0027),""))) -> -0.0027 | DK12: =DJ12*249 -> -0.6723 | DL12: =IF($N$2="CFM",(0.0056*(($DC12)/200)^2-0.0008*($DC12)/200+0.0012),IF($N$2="LPS",(0.0056*(($DD12)/200)^2-0.0008*($DD12)/200+0.0012),IF($N$2="CMH",(0.0056*(($DE12)/200)^2-0.0008*($DE12)/200+0.0012),""))) -> 0.0012 | DM12: =DL12*249 -> 0.2988 | DN12: =IF($N$2="CFM",(0.0062*(($DC12)/300)^2-0.0094*($DC12)/300+0.0146),IF($N$2="LPS",(0.0062*(($DD12)/300)^2-0.0094*($DD12)/300+0.0146),IF($N$2="CMH",(0.0062*(($DE12)/300)^2-0.0094*($DE12)/300+0.0146),""))) -> 0.0146 | DO12: =DN12*249 -> 3.6354 | DP12: =IF($N$2="CFM",(0.0058*((DC12)/400)^2+0.0106*(DC12)/400-0.013),IF($N$2="LPS",(0.0058*((DD12)/400)^2+0.0106*(DD12)/400-0.013),IF($N$2="CMH",(0.0058*((DE12)/400)^2+0.0106*(DE12)/400-0.013),""))) -> -0.013 | DQ12: =DP12*249 -> -3.237 | DR12: =IF($N$2="CFM",(0.0063*(($DC12)/500)^2+0.0066*($DC12)/500-0.0067),IF($N$2="LPS",(0.0063*(($DD12)/500)^2+0.0066*($DD12)/500-0.0067),IF($N$2="CMH",(0.0063*(($DE12)/500)^2+0.0066*($DE12)/500-0.0067),""))) -> -0.0067 | DS12: =DR12*249 -> -1.6683 | DT12: =IF($N$2="CFM",(0.0058*(($DC12)/800)^2+0.0106*($DC12)/800-0.013),IF($N$2="LPS",(0.0058*(($DD12)/800)^2+0.0106*($DD12)/800-0.013),IF($N$2="CMH",(0.0058*(($DE12)/800)^2+0.0106*($DE12)/800-0.013),""))) -> -0.013 | DU12: =DT12*249 -> -3.237 | DV12: =IF($N$2="CFM",(0.0063*(($DC12)/1000)^2+0.0066*($DC12)/1000-0.0067),IF($N$2="LPS",(0.0063*(($DD12)/1000)^2+0.0066*($DD12)/1000-0.0067),IF($N$2="CMH",(0.0063*(($DE12)/1000)^2+0.0066*($DE12)/1000-0.0067),""))) -> -0.0067 | DW12: =DV12*249 -> -1.6683
A13: 4 | Q13: =IF(P13=""," ",IF($N$3="in WC",IF(F13="","",IF(F13=6,DF13,IF(F13=8,DH13,IF(F13=10,DJ13,IF(F13=12,DL13,IF(F13=14,DN13,IF(F13="12x18",DP13,IF(F13="12x24",DR13,IF(F13="12x36",DT13,IF(F13="12x48",DV13)))))))))),IF(F13=6,DG13,IF(F13=8,DI13,IF(F13=10,DK13,IF(F13=12,DM13,IF(F13=14,DO13,IF(F13="12x18",DQ13,IF(F13="12x24",DS13,IF(F13="12x36",DU13,IF(F13="12x48",DW13))))))))))) | R13: =IF(F13="","",LOOKUP(F13,$BI$14:$BI$22,$BP$14:$BP$22)) | S13: =IF(RIGHT(E13,7)="AVT3000","No",IF(RIGHT(E13,7)="AVC5000","Yes","")) | T13: =IF(F13="","",IF($N$2="CFM",LOOKUP(F13,$BI$14:$BJ$22),IF($N$2="LPS", LOOKUP(F13,$BI$173:$BJ$181),IF($N$2="CMH",LOOKUP(F13,$BI$187:$BJ$195)," ")))) | U13: =IF(F13="","",IF($N$2="CFM",LOOKUP(F13,$BI$14:$BI$22,$BL$14:$BL$22),IF($N$2="LPS", LOOKUP(F13,$BI$173:$BI$181,$BL$173:$BL$181),IF($N$2="CMH",LOOKUP(F13,$BI$187:$BI$195,$BL$187:$BL$195)," ")))) | V13: =IF(F13="","",IF($N$2="CFM",LOOKUP(F13,$BI$14:$BI$22,$BM$14:$BM$22),IF($N$2="LPS", LOOKUP(F13,$BI$173:$BI$181,$BM$173:$BM$181),IF($N$2="CMH",LOOKUP(F13,$BI$187:$BI$195,$BM$187:$BM$195)," ")))) | W13: =IF(F13="","",IF($N$2="CFM",LOOKUP(F13,$BI$14:$BI$22,$BN$14:$BN$22),IF($N$2="LPS", LOOKUP(F13,$BI$173:$BI$181,$BN$173:$BN$181),IF($N$2="CMH",LOOKUP(F13,$BI$187:$BI$195,$BN$187:$BN$195)," ")))) | X13: =IF(RIGHT(E13,7)="AVT3000","No",IF(RIGHT(E13,7)="AVC5000","Yes","")) | Y13: =IF(LEFT(E13,1)="H","H-","") | Z13: =IF(RIGHT(E13,7)="AVT3000","AVT3",IF(RIGHT(E13,7)="AVC5000","AVC5","")) | AA13: =IF(RIGHT(E13,6)="AV3000","AV3",IF(RIGHT(E13,7)="AVC5000","AVC5","")) | AB13: =IF(F13="","",LOOKUP(F13,$BI$14:$BI$22,$BQ$14:$BQ$22)) | AC13: =IF(G13="","",LOOKUP(G13,$BI$31:$BJ$37)) | AD13: =IF(H13="","",LOOKUP(H13,$BI$41:$BJ$47)) | AE13: =IF(AF13="","","-") | AF13: =IF(F13="","",LOOKUP(F13,$BI$14:$BI$22,$BO$14:$BO$22)) | AG13: =IF(G13="","","-") | AH13: =IF(I13="AccuNet","A","") | AI13: =IF(J13="BACnet","B","") | AJ13: =IF(K13="Flanged","F","") | AK13: =IF(L13="Insulation","I","") | AL13: =IF(M13="Tight Shutoff","S","") | AP13: =IF(S13="NO",1,0) -> 0 | AQ13: =SUM(AP$10:AP13) -> 0 | AR13: =IF(AP13>0,AQ13,AQ13+0.1) -> 0.1 | AS13: =IF(S13="NO",C13,"") | AT13: =IF(S13="no",IF(B13="","",B13),"") | AV13: =IF(D13="",0,1) -> 0 | AW13: =SUM(AV$10:AV13) -> 0 | AX13: =IF(AV13>0,AW13,AW13+0.1) -> 0.1 | AY13: =IF(AV13=0,"",IF(C13="","",C13)) | AZ13: =IF(AV13=0,"",IF(B13="","",B13)) | BB13: =CONCATENATE(Y13,Z13,AB13,AC13,AD13,AE13,AF13,AG13,AH13,AI13,AJ13,AK13,AL13) | BC13: =BB13 | BD13: =IF(N13="","",N13) | BG13: =IF(D13="","",Q13-$T$3) | BI13: Size | BJ13: Min | BK13: Max .3" | BL13: AVC5 Max | BM13: Min | BN13: AV3 Max | BO13: M/N | BP13: Shape | BQ13: M/N | BR13: Area | BT13: _304SS | BU13: _316SS | BV13: Aluminum | BW13: HighTemp. | BX13: PFACoated | BY13: =IF(G13="","",IF(LEFT(G13,3)="304","_304SS",IF(LEFT(G13,3)="316","_316SS",G13))) | BZ13: =IF(E13="AVT3000","AV3000X",IF(E13="AVC5000","AVC5000X",IF(E13="H-AVT3000","H_AV3000",IF(E13="H-AVC5000","H_AVC5000","")))) | CB13: =IF(CD13="CageRack","AVC5000CR",BZ13) | CD13: =IF(D13="supply","supply",IF(D13="FH Exhaust","FHExhaust", IF(D13="GE","GE",IF(D13="Other Exhaust","OtherExhaust",IF(D13="Return","Return",IF(D13="Cage Rack","CageRack",IF(D13="Bio Safety Cab","BioSafetyCab",IF(D13="Canopy Ex","CanopyEx",IF(D13="Snorkel","Snorkel",IF(D13="Acid resistant","AcidRes","")))))))))) | CF13: =IF(D13="supply","supplyV",IF(D13="FH Exhaust","FHExhaustV",IF(D13="GE","GEV",IF(D13="Other Exhaust","OtherExhaustV",IF(D13="Return","ReturnV",IF(D13="Cage Rack","CageRackV",IF(D13="Bio Safety Cab","BioSafetyCabV",IF(D13="Canopy Ex","CanopyExV",IF(D13="Snorkel","SnorkelV",IF(D13="Acid resistant","AcidResV","")))))))))) | CH13: =IF(F13=6,"AL",IF(F13=8,"AL",(IF(F13=10,"AL",IF(F13=12,"AL",IF(F13=14,"AL",IF(F13="12x18","NOAL",IF(F13="12x24","NOAL",IF(F13="12x36","NOAL",IF(F13="12x48","NOAL","")))))))))) | CJ13: =IF(AND(D13="acid resistant",E13="AVC5000"),"AVC5000MC",IF(AND(D13="acid resistant",E13="AVT3000"),"AV3000MC",IF(E13="AVT3000","AV3000M",IF(E13="AVC5000","AVC5000M",IF(E13="H-AVT3000","H_AV3000M",IF(E13="H-AVC5000","H_AVC5000M","")))))) | CL13: =IF(CD13="CageRack","AVC5000CRM",CJ13) | CN13: =IF(G13="PFAcoated","NOSOPFA",IF(F13=6,"NOSO",IF(F13=8,"SO",(IF(F13=10,"SO",IF(F13=12,"SO",IF(F13=14,"SO",IF(F13="12x18","SO",IF(F13="12x24","SO",IF(F13="12x36","SO",IF(F13="12x48","SO",""))))))))))) | CP13: =IF(G13="","",IF(G13="PFACoated", "NOFL","FL")) | CR13: =IF(S13="YES","CTL",IF(S13="NO","NOCTL","")) | CT13: =IF(E13="H-AVT3000","H_AVT3A",IF(E13="AVT3000","AVT3A",IF(E13="H-AVC5000","AVCA",IF(E13="AVC5000","AVCA","")))) | CV13: =IF(E13="","",IF(E13="H-AVT3000","H_AVT3B",IF(E13="AVT3000","AVT3B",IF(E13="H-AVC5000","AVCB",IF(E13="AVC5000","AVCB"))))) | CX13: =IF(X13="YES",0,IF(X13="NO",1,"")) | CY13: =IF(X13="YES",1,IF(X13="NO",0,"")) | DA13: =IF(H13="","",VLOOKUP(H13,$BI$41:$BJ$47,2)) | DC13: =P13 -> 0 | DD13: =P13*$DD$6 -> 0 | DE13: =P13*$DE$6 -> 0 | DF13: =IF($N$2="CFM",(0.0026*(($DC13)/25)^2+0.0035*($DC13)/25-0.0047),IF($N$2="LPS",(0.0026*(($DD13)/25)^2+0.0035*($DD13)/25-0.0047),IF($N$2="CMH",(0.0026*(($DE13)/25)^2+0.0035*($DE13)/25-0.0047),""))) -> -0.0047 | DG13: =DF13*249 -> -1.1703 | DH13: =IF($N$2="CFM",(0.0017*(($DC13-50)/50)^2+0.0041*($DC13-50)/50+0.0056),IF($N$2="LPS",(0.0017*(($DD13-50)/50)^2+0.0041*($DD13-50)/50+0.0056),IF($N$2="CMH",(0.0017*(($DE13-50)/50)^2+0.0041*($DE13-50)/50+0.0056),""))) -> 0.0032 | DI13: =DH13*249 -> 0.7968 | DJ13: =IF($N$2="CFM",(0.0026*(($DC13)/100)^2+0.0012*($DC13)/100-0.0027),IF($N$2="LPS",(0.0026*(($DD13)/100)^2+0.0012*($DD13)/100-0.0027),IF($N$2="CMH",(0.0026*(($DE13)/100)^2+0.0012*($DE13)/100-0.0027),""))) -> -0.0027 | DK13: =DJ13*249 -> -0.6723 | DL13: =IF($N$2="CFM",(0.0056*(($DC13)/200)^2-0.0008*($DC13)/200+0.0012),IF($N$2="LPS",(0.0056*(($DD13)/200)^2-0.0008*($DD13)/200+0.0012),IF($N$2="CMH",(0.0056*(($DE13)/200)^2-0.0008*($DE13)/200+0.0012),""))) -> 0.0012 | DM13: =DL13*249 -> 0.2988 | DN13: =IF($N$2="CFM",(0.0062*(($DC13)/300)^2-0.0094*($DC13)/300+0.0146),IF($N$2="LPS",(0.0062*(($DD13)/300)^2-0.0094*($DD13)/300+0.0146),IF($N$2="CMH",(0.0062*(($DE13)/300)^2-0.0094*($DE13)/300+0.0146),""))) -> 0.0146 | DO13: =DN13*249 -> 3.6354 | DP13: =IF($N$2="CFM",(0.0058*((DC13)/400)^2+0.0106*(DC13)/400-0.013),IF($N$2="LPS",(0.0058*((DD13)/400)^2+0.0106*(DD13)/400-0.013),IF($N$2="CMH",(0.0058*((DE13)/400)^2+0.0106*(DE13)/400-0.013),""))) -> -0.013 | DQ13: =DP13*249 -> -3.237 | DR13: =IF($N$2="CFM",(0.0063*(($DC13)/500)^2+0.0066*($DC13)/500-0.0067),IF($N$2="LPS",(0.0063*(($DD13)/500)^2+0.0066*($DD13)/500-0.0067),IF($N$2="CMH",(0.0063*(($DE13)/500)^2+0.0066*($DE13)/500-0.0067),""))) -> -0.0067 | DS13: =DR13*249 -> -1.6683 | DT13: =IF($N$2="CFM",(0.0058*(($DC13)/800)^2+0.0106*($DC13)/800-0.013),IF($N$2="LPS",(0.0058*(($DD13)/800)^2+0.0106*($DD13)/800-0.013),IF($N$2="CMH",(0.0058*(($DE13)/800)^2+0.0106*($DE13)/800-0.013),""))) -> -0.013 | DU13: =DT13*249 -> -3.237 | DV13: =IF($N$2="CFM",(0.0063*(($DC13)/1000)^2+0.0066*($DC13)/1000-0.0067),IF($N$2="LPS",(0.0063*(($DD13)/1000)^2+0.0066*($DD13)/1000-0.0067),IF($N$2="CMH",(0.0063*(($DE13)/1000)^2+0.0066*($DE13)/1000-0.0067),""))) -> -0.0067 | DW13: =DV13*249 -> -1.6683
A14: 5 | Q14: =IF(P14=""," ",IF($N$3="in WC",IF(F14="","",IF(F14=6,DF14,IF(F14=8,DH14,IF(F14=10,DJ14,IF(F14=12,DL14,IF(F14=14,DN14,IF(F14="12x18",DP14,IF(F14="12x24",DR14,IF(F14="12x36",DT14,IF(F14="12x48",DV14)))))))))),IF(F14=6,DG14,IF(F14=8,DI14,IF(F14=10,DK14,IF(F14=12,DM14,IF(F14=14,DO14,IF(F14="12x18",DQ14,IF(F14="12x24",DS14,IF(F14="12x36",DU14,IF(F14="12x48",DW14))))))))))) | R14: =IF(F14="","",LOOKUP(F14,$BI$14:$BI$22,$BP$14:$BP$22)) | S14: =IF(RIGHT(E14,7)="AVT3000","No",IF(RIGHT(E14,7)="AVC5000","Yes","")) | T14: =IF(F14="","",IF($N$2="CFM",LOOKUP(F14,$BI$14:$BJ$22),IF($N$2="LPS", LOOKUP(F14,$BI$173:$BJ$181),IF($N$2="CMH",LOOKUP(F14,$BI$187:$BJ$195)," ")))) | U14: =IF(F14="","",IF($N$2="CFM",LOOKUP(F14,$BI$14:$BI$22,$BL$14:$BL$22),IF($N$2="LPS", LOOKUP(F14,$BI$173:$BI$181,$BL$173:$BL$181),IF($N$2="CMH",LOOKUP(F14,$BI$187:$BI$195,$BL$187:$BL$195)," ")))) | V14: =IF(F14="","",IF($N$2="CFM",LOOKUP(F14,$BI$14:$BI$22,$BM$14:$BM$22),IF($N$2="LPS", LOOKUP(F14,$BI$173:$BI$181,$BM$173:$BM$181),IF($N$2="CMH",LOOKUP(F14,$BI$187:$BI$195,$BM$187:$BM$195)," ")))) | W14: =IF(F14="","",IF($N$2="CFM",LOOKUP(F14,$BI$14:$BI$22,$BN$14:$BN$22),IF($N$2="LPS", LOOKUP(F14,$BI$173:$BI$181,$BN$173:$BN$181),IF($N$2="CMH",LOOKUP(F14,$BI$187:$BI$195,$BN$187:$BN$195)," ")))) | X14: =IF(RIGHT(E14,7)="AVT3000","No",IF(RIGHT(E14,7)="AVC5000","Yes","")) | Y14: =IF(LEFT(E14,1)="H","H-","") | Z14: =IF(RIGHT(E14,7)="AVT3000","AVT3",IF(RIGHT(E14,7)="AVC5000","AVC5","")) | AA14: =IF(RIGHT(E14,6)="AV3000","AV3",IF(RIGHT(E14,7)="AVC5000","AVC5","")) | AB14: =IF(F14="","",LOOKUP(F14,$BI$14:$BI$22,$BQ$14:$BQ$22)) | AC14: =IF(G14="","",LOOKUP(G14,$BI$31:$BJ$37)) | AD14: =IF(H14="","",LOOKUP(H14,$BI$41:$BJ$47)) | AE14: =IF(AF14="","","-") | AF14: =IF(F14="","",LOOKUP(F14,$BI$14:$BI$22,$BO$14:$BO$22)) | AG14: =IF(G14="","","-") | AH14: =IF(I14="AccuNet","A","") | AI14: =IF(J14="BACnet","B","") | AJ14: =IF(K14="Flanged","F","") | AK14: =IF(L14="Insulation","I","") | AL14: =IF(M14="Tight Shutoff","S","") | AP14: =IF(S14="NO",1,0) -> 0 | AQ14: =SUM(AP$10:AP14) -> 0 | AR14: =IF(AP14>0,AQ14,AQ14+0.1) -> 0.1 | AS14: =IF(S14="NO",C14,"") | AT14: =IF(S14="no",IF(B14="","",B14),"") | AV14: =IF(D14="",0,1) -> 0 | AW14: =SUM(AV$10:AV14) -> 0 | AX14: =IF(AV14>0,AW14,AW14+0.1) -> 0.1 | AY14: =IF(AV14=0,"",IF(C14="","",C14)) | AZ14: =IF(AV14=0,"",IF(B14="","",B14)) | BB14: =CONCATENATE(Y14,Z14,AB14,AC14,AD14,AE14,AF14,AG14,AH14,AI14,AJ14,AK14,AL14) | BC14: =BB14 | BD14: =IF(N14="","",N14) | BG14: =IF(D14="","",Q14-$T$3) | BI14: 6 | BJ14: 30 | BK14: 250 | BL14: 315 | BM14: 0 | BN14: 330 | BO14: 06 | BP14: Round | BQ14: 1 | BR14: 0.08 | BY14: =IF(G14="","",IF(LEFT(G14,3)="304","_304SS",IF(LEFT(G14,3)="316","_316SS",G14))) | BZ14: =IF(E14="AVT3000","AV3000X",IF(E14="AVC5000","AVC5000X",IF(E14="H-AVT3000","H_AV3000",IF(E14="H-AVC5000","H_AVC5000","")))) | CB14: =IF(CD14="CageRack","AVC5000CR",BZ14) | CD14: =IF(D14="supply","supply",IF(D14="FH Exhaust","FHExhaust", IF(D14="GE","GE",IF(D14="Other Exhaust","OtherExhaust",IF(D14="Return","Return",IF(D14="Cage Rack","CageRack",IF(D14="Bio Safety Cab","BioSafetyCab",IF(D14="Canopy Ex","CanopyEx",IF(D14="Snorkel","Snorkel",IF(D14="Acid resistant","AcidRes","")))))))))) | CF14: =IF(D14="supply","supplyV",IF(D14="FH Exhaust","FHExhaustV",IF(D14="GE","GEV",IF(D14="Other Exhaust","OtherExhaustV",IF(D14="Return","ReturnV",IF(D14="Cage Rack","CageRackV",IF(D14="Bio Safety Cab","BioSafetyCabV",IF(D14="Canopy Ex","CanopyExV",IF(D14="Snorkel","SnorkelV",IF(D14="Acid resistant","AcidResV","")))))))))) | CH14: =IF(F14=6,"AL",IF(F14=8,"AL",(IF(F14=10,"AL",IF(F14=12,"AL",IF(F14=14,"AL",IF(F14="12x18","NOAL",IF(F14="12x24","NOAL",IF(F14="12x36","NOAL",IF(F14="12x48","NOAL","")))))))))) | CJ14: =IF(AND(D14="acid resistant",E14="AVC5000"),"AVC5000MC",IF(AND(D14="acid resistant",E14="AVT3000"),"AV3000MC",IF(E14="AVT3000","AV3000M",IF(E14="AVC5000","AVC5000M",IF(E14="H-AVT3000","H_AV3000M",IF(E14="H-AVC5000","H_AVC5000M","")))))) | CL14: =IF(CD14="CageRack","AVC5000CRM",CJ14) | CN14: =IF(G14="PFAcoated","NOSOPFA",IF(F14=6,"NOSO",IF(F14=8,"SO",(IF(F14=10,"SO",IF(F14=12,"SO",IF(F14=14,"SO",IF(F14="12x18","SO",IF(F14="12x24","SO",IF(F14="12x36","SO",IF(F14="12x48","SO",""))))))))))) | CP14: =IF(G14="","",IF(G14="PFACoated", "NOFL","FL")) | CR14: =IF(S14="YES","CTL",IF(S14="NO","NOCTL","")) | CT14: =IF(E14="H-AVT3000","H_AVT3A",IF(E14="AVT3000","AVT3A",IF(E14="H-AVC5000","AVCA",IF(E14="AVC5000","AVCA","")))) | CV14: =IF(E14="","",IF(E14="H-AVT3000","H_AVT3B",IF(E14="AVT3000","AVT3B",IF(E14="H-AVC5000","AVCB",IF(E14="AVC5000","AVCB"))))) | CX14: =IF(X14="YES",0,IF(X14="NO",1,"")) | CY14: =IF(X14="YES",1,IF(X14="NO",0,"")) | DA14: =IF(H14="","",VLOOKUP(H14,$BI$41:$BJ$47,2)) | DC14: =P14 -> 0 | DD14: =P14*$DD$6 -> 0 | DE14: =P14*$DE$6 -> 0 | DF14: =IF($N$2="CFM",(0.0026*(($DC14)/25)^2+0.0035*($DC14)/25-0.0047),IF($N$2="LPS",(0.0026*(($DD14)/25)^2+0.0035*($DD14)/25-0.0047),IF($N$2="CMH",(0.0026*(($DE14)/25)^2+0.0035*($DE14)/25-0.0047),""))) -> -0.0047 | DG14: =DF14*249 -> -1.1703 | DH14: =IF($N$2="CFM",(0.0017*(($DC14-50)/50)^2+0.0041*($DC14-50)/50+0.0056),IF($N$2="LPS",(0.0017*(($DD14-50)/50)^2+0.0041*($DD14-50)/50+0.0056),IF($N$2="CMH",(0.0017*(($DE14-50)/50)^2+0.0041*($DE14-50)/50+0.0056),""))) -> 0.0032 | DI14: =DH14*249 -> 0.7968 | DJ14: =IF($N$2="CFM",(0.0026*(($DC14)/100)^2+0.0012*($DC14)/100-0.0027),IF($N$2="LPS",(0.0026*(($DD14)/100)^2+0.0012*($DD14)/100-0.0027),IF($N$2="CMH",(0.0026*(($DE14)/100)^2+0.0012*($DE14)/100-0.0027),""))) -> -0.0027 | DK14: =DJ14*249 -> -0.6723 | DL14: =IF($N$2="CFM",(0.0056*(($DC14)/200)^2-0.0008*($DC14)/200+0.0012),IF($N$2="LPS",(0.0056*(($DD14)/200)^2-0.0008*($DD14)/200+0.0012),IF($N$2="CMH",(0.0056*(($DE14)/200)^2-0.0008*($DE14)/200+0.0012),""))) -> 0.0012 | DM14: =DL14*249 -> 0.2988 | DN14: =IF($N$2="CFM",(0.0062*(($DC14)/300)^2-0.0094*($DC14)/300+0.0146),IF($N$2="LPS",(0.0062*(($DD14)/300)^2-0.0094*($DD14)/300+0.0146),IF($N$2="CMH",(0.0062*(($DE14)/300)^2-0.0094*($DE14)/300+0.0146),""))) -> 0.0146 | DO14: =DN14*249 -> 3.6354 | DP14: =IF($N$2="CFM",(0.0058*((DC14)/400)^2+0.0106*(DC14)/400-0.013),IF($N$2="LPS",(0.0058*((DD14)/400)^2+0.0106*(DD14)/400-0.013),IF($N$2="CMH",(0.0058*((DE14)/400)^2+0.0106*(DE14)/400-0.013),""))) -> -0.013 | DQ14: =DP14*249 -> -3.237 | DR14: =IF($N$2="CFM",(0.0063*(($DC14)/500)^2+0.0066*($DC14)/500-0.0067),IF($N$2="LPS",(0.0063*(($DD14)/500)^2+0.0066*($DD14)/500-0.0067),IF($N$2="CMH",(0.0063*(($DE14)/500)^2+0.0066*($DE14)/500-0.0067),""))) -> -0.0067 | DS14: =DR14*249 -> -1.6683 | DT14: =IF($N$2="CFM",(0.0058*(($DC14)/800)^2+0.0106*($DC14)/800-0.013),IF($N$2="LPS",(0.0058*(($DD14)/800)^2+0.0106*($DD14)/800-0.013),IF($N$2="CMH",(0.0058*(($DE14)/800)^2+0.0106*($DE14)/800-0.013),""))) -> -0.013 | DU14: =DT14*249 -> -3.237 | DV14: =IF($N$2="CFM",(0.0063*(($DC14)/1000)^2+0.0066*($DC14)/1000-0.0067),IF($N$2="LPS",(0.0063*(($DD14)/1000)^2+0.0066*($DD14)/1000-0.0067),IF($N$2="CMH",(0.0063*(($DE14)/1000)^2+0.0066*($DE14)/1000-0.0067),""))) -> -0.0067 | DW14: =DV14*249 -> -1.6683
A15: 6 | Q15: =IF(P15=""," ",IF($N$3="in WC",IF(F15="","",IF(F15=6,DF15,IF(F15=8,DH15,IF(F15=10,DJ15,IF(F15=12,DL15,IF(F15=14,DN15,IF(F15="12x18",DP15,IF(F15="12x24",DR15,IF(F15="12x36",DT15,IF(F15="12x48",DV15)))))))))),IF(F15=6,DG15,IF(F15=8,DI15,IF(F15=10,DK15,IF(F15=12,DM15,IF(F15=14,DO15,IF(F15="12x18",DQ15,IF(F15="12x24",DS15,IF(F15="12x36",DU15,IF(F15="12x48",DW15))))))))))) | R15: =IF(F15="","",LOOKUP(F15,$BI$14:$BI$22,$BP$14:$BP$22)) | S15: =IF(RIGHT(E15,7)="AVT3000","No",IF(RIGHT(E15,7)="AVC5000","Yes","")) | T15: =IF(F15="","",IF($N$2="CFM",LOOKUP(F15,$BI$14:$BJ$22),IF($N$2="LPS", LOOKUP(F15,$BI$173:$BJ$181),IF($N$2="CMH",LOOKUP(F15,$BI$187:$BJ$195)," ")))) | U15: =IF(F15="","",IF($N$2="CFM",LOOKUP(F15,$BI$14:$BI$22,$BL$14:$BL$22),IF($N$2="LPS", LOOKUP(F15,$BI$173:$BI$181,$BL$173:$BL$181),IF($N$2="CMH",LOOKUP(F15,$BI$187:$BI$195,$BL$187:$BL$195)," ")))) | V15: =IF(F15="","",IF($N$2="CFM",LOOKUP(F15,$BI$14:$BI$22,$BM$14:$BM$22),IF($N$2="LPS", LOOKUP(F15,$BI$173:$BI$181,$BM$173:$BM$181),IF($N$2="CMH",LOOKUP(F15,$BI$187:$BI$195,$BM$187:$BM$195)," ")))) | W15: =IF(F15="","",IF($N$2="CFM",LOOKUP(F15,$BI$14:$BI$22,$BN$14:$BN$22),IF($N$2="LPS", LOOKUP(F15,$BI$173:$BI$181,$BN$173:$BN$181),IF($N$2="CMH",LOOKUP(F15,$BI$187:$BI$195,$BN$187:$BN$195)," ")))) | X15: =IF(RIGHT(E15,7)="AVT3000","No",IF(RIGHT(E15,7)="AVC5000","Yes","")) | Y15: =IF(LEFT(E15,1)="H","H-","") | Z15: =IF(RIGHT(E15,7)="AVT3000","AVT3",IF(RIGHT(E15,7)="AVC5000","AVC5","")) | AA15: =IF(RIGHT(E15,6)="AV3000","AV3",IF(RIGHT(E15,7)="AVC5000","AVC5","")) | AB15: =IF(F15="","",LOOKUP(F15,$BI$14:$BI$22,$BQ$14:$BQ$22)) | AC15: =IF(G15="","",LOOKUP(G15,$BI$31:$BJ$37)) | AD15: =IF(H15="","",LOOKUP(H15,$BI$41:$BJ$47)) | AE15: =IF(AF15="","","-") | AF15: =IF(F15="","",LOOKUP(F15,$BI$14:$BI$22,$BO$14:$BO$22)) | AG15: =IF(G15="","","-") | AH15: =IF(I15="AccuNet","A","") | AI15: =IF(J15="BACnet","B","") | AJ15: =IF(K15="Flanged","F","") | AK15: =IF(L15="Insulation","I","") | AL15: =IF(M15="Tight Shutoff","S","") | AP15: =IF(S15="NO",1,0) -> 0 | AQ15: =SUM(AP$10:AP15) -> 0 | AR15: =IF(AP15>0,AQ15,AQ15+0.1) -> 0.1 | AS15: =IF(S15="NO",C15,"") | AT15: =IF(S15="no",IF(B15="","",B15),"") | AV15: =IF(D15="",0,1) -> 0 | AW15: =SUM(AV$10:AV15) -> 0 | AX15: =IF(AV15>0,AW15,AW15+0.1) -> 0.1 | AY15: =IF(AV15=0,"",IF(C15="","",C15)) | AZ15: =IF(AV15=0,"",IF(B15="","",B15)) | BB15: =CONCATENATE(Y15,Z15,AB15,AC15,AD15,AE15,AF15,AG15,AH15,AI15,AJ15,AK15,AL15) | BC15: =BB15 | BD15: =IF(N15="","",N15) | BG15: =IF(D15="","",Q15-$T$3) | BI15: 8 | BJ15: 80 | BK15: 650 | BL15: 800 | BM15: 0 | BN15: 850 | BO15: 08 | BP15: Round | BQ15: 1 | BR15: 0.16 | BT15: Insulation | BU15: Insulation | BV15: Insulation | BW15: Not Available | BX15: Not Available | BY15: =IF(G15="","",IF(LEFT(G15,3)="304","_304SS",IF(LEFT(G15,3)="316","_316SS",G15))) | BZ15: =IF(E15="AVT3000","AV3000X",IF(E15="AVC5000","AVC5000X",IF(E15="H-AVT3000","H_AV3000",IF(E15="H-AVC5000","H_AVC5000","")))) | CB15: =IF(CD15="CageRack","AVC5000CR",BZ15) | CD15: =IF(D15="supply","supply",IF(D15="FH Exhaust","FHExhaust", IF(D15="GE","GE",IF(D15="Other Exhaust","OtherExhaust",IF(D15="Return","Return",IF(D15="Cage Rack","CageRack",IF(D15="Bio Safety Cab","BioSafetyCab",IF(D15="Canopy Ex","CanopyEx",IF(D15="Snorkel","Snorkel",IF(D15="Acid resistant","AcidRes","")))))))))) | CF15: =IF(D15="supply","supplyV",IF(D15="FH Exhaust","FHExhaustV",IF(D15="GE","GEV",IF(D15="Other Exhaust","OtherExhaustV",IF(D15="Return","ReturnV",IF(D15="Cage Rack","CageRackV",IF(D15="Bio Safety Cab","BioSafetyCabV",IF(D15="Canopy Ex","CanopyExV",IF(D15="Snorkel","SnorkelV",IF(D15="Acid resistant","AcidResV","")))))))))) | CH15: =IF(F15=6,"AL",IF(F15=8,"AL",(IF(F15=10,"AL",IF(F15=12,"AL",IF(F15=14,"AL",IF(F15="12x18","NOAL",IF(F15="12x24","NOAL",IF(F15="12x36","NOAL",IF(F15="12x48","NOAL","")))))))))) | CJ15: =IF(AND(D15="acid resistant",E15="AVC5000"),"AVC5000MC",IF(AND(D15="acid resistant",E15="AVT3000"),"AV3000MC",IF(E15="AVT3000","AV3000M",IF(E15="AVC5000","AVC5000M",IF(E15="H-AVT3000","H_AV3000M",IF(E15="H-AVC5000","H_AVC5000M","")))))) | CL15: =IF(CD15="CageRack","AVC5000CRM",CJ15) | CN15: =IF(G15="PFAcoated","NOSOPFA",IF(F15=6,"NOSO",IF(F15=8,"SO",(IF(F15=10,"SO",IF(F15=12,"SO",IF(F15=14,"SO",IF(F15="12x18","SO",IF(F15="12x24","SO",IF(F15="12x36","SO",IF(F15="12x48","SO",""))))))))))) | CP15: =IF(G15="","",IF(G15="PFACoated", "NOFL","FL")) | CR15: =IF(S15="YES","CTL",IF(S15="NO","NOCTL","")) | CT15: =IF(E15="H-AVT3000","H_AVT3A",IF(E15="AVT3000","AVT3A",IF(E15="H-AVC5000","AVCA",IF(E15="AVC5000","AVCA","")))) | CV15: =IF(E15="","",IF(E15="H-AVT3000","H_AVT3B",IF(E15="AVT3000","AVT3B",IF(E15="H-AVC5000","AVCB",IF(E15="AVC5000","AVCB"))))) | CX15: =IF(X15="YES",0,IF(X15="NO",1,"")) | CY15: =IF(X15="YES",1,IF(X15="NO",0,"")) | DA15: =IF(H15="","",VLOOKUP(H15,$BI$41:$BJ$47,2)) | DC15: =P15 -> 0 | DD15: =P15*$DD$6 -> 0 | DE15: =P15*$DE$6 -> 0 | DF15: =IF($N$2="CFM",(0.0026*(($DC15)/25)^2+0.0035*($DC15)/25-0.0047),IF($N$2="LPS",(0.0026*(($DD15)/25)^2+0.0035*($DD15)/25-0.0047),IF($N$2="CMH",(0.0026*(($DE15)/25)^2+0.0035*($DE15)/25-0.0047),""))) -> -0.0047 | DG15: =DF15*249 -> -1.1703 | DH15: =IF($N$2="CFM",(0.0017*(($DC15-50)/50)^2+0.0041*($DC15-50)/50+0.0056),IF($N$2="LPS",(0.0017*(($DD15-50)/50)^2+0.0041*($DD15-50)/50+0.0056),IF($N$2="CMH",(0.0017*(($DE15-50)/50)^2+0.0041*($DE15-50)/50+0.0056),""))) -> 0.0032 | DI15: =DH15*249 -> 0.7968 | DJ15: =IF($N$2="CFM",(0.0026*(($DC15)/100)^2+0.0012*($DC15)/100-0.0027),IF($N$2="LPS",(0.0026*(($DD15)/100)^2+0.0012*($DD15)/100-0.0027),IF($N$2="CMH",(0.0026*(($DE15)/100)^2+0.0012*($DE15)/100-0.0027),""))) -> -0.0027 | DK15: =DJ15*249 -> -0.6723 | DL15: =IF($N$2="CFM",(0.0056*(($DC15)/200)^2-0.0008*($DC15)/200+0.0012),IF($N$2="LPS",(0.0056*(($DD15)/200)^2-0.0008*($DD15)/200+0.0012),IF($N$2="CMH",(0.0056*(($DE15)/200)^2-0.0008*($DE15)/200+0.0012),""))) -> 0.0012 | DM15: =DL15*249 -> 0.2988 | DN15: =IF($N$2="CFM",(0.0062*(($DC15)/300)^2-0.0094*($DC15)/300+0.0146),IF($N$2="LPS",(0.0062*(($DD15)/300)^2-0.0094*($DD15)/300+0.0146),IF($N$2="CMH",(0.0062*(($DE15)/300)^2-0.0094*($DE15)/300+0.0146),""))) -> 0.0146 | DO15: =DN15*249 -> 3.6354 | DP15: =IF($N$2="CFM",(0.0058*((DC15)/400)^2+0.0106*(DC15)/400-0.013),IF($N$2="LPS",(0.0058*((DD15)/400)^2+0.0106*(DD15)/400-0.013),IF($N$2="CMH",(0.0058*((DE15)/400)^2+0.0106*(DE15)/400-0.013),""))) -> -0.013 | DQ15: =DP15*249 -> -3.237 | DR15: =IF($N$2="CFM",(0.0063*(($DC15)/500)^2+0.0066*($DC15)/500-0.0067),IF($N$2="LPS",(0.0063*(($DD15)/500)^2+0.0066*($DD15)/500-0.0067),IF($N$2="CMH",(0.0063*(($DE15)/500)^2+0.0066*($DE15)/500-0.0067),""))) -> -0.0067 | DS15: =DR15*249 -> -1.6683 | DT15: =IF($N$2="CFM",(0.0058*(($DC15)/800)^2+0.0106*($DC15)/800-0.013),IF($N$2="LPS",(0.0058*(($DD15)/800)^2+0.0106*($DD15)/800-0.013),IF($N$2="CMH",(0.0058*(($DE15)/800)^2+0.0106*($DE15)/800-0.013),""))) -> -0.013 | DU15: =DT15*249 -> -3.237 | DV15: =IF($N$2="CFM",(0.0063*(($DC15)/1000)^2+0.0066*($DC15)/1000-0.0067),IF($N$2="LPS",(0.0063*(($DD15)/1000)^2+0.0066*($DD15)/1000-0.0067),IF($N$2="CMH",(0.0063*(($DE15)/1000)^2+0.0066*($DE15)/1000-0.0067),""))) -> -0.0067 | DW15: =DV15*249 -> -1.6683
A16: 7 | Q16: =IF(P16=""," ",IF($N$3="in WC",IF(F16="","",IF(F16=6,DF16,IF(F16=8,DH16,IF(F16=10,DJ16,IF(F16=12,DL16,IF(F16=14,DN16,IF(F16="12x18",DP16,IF(F16="12x24",DR16,IF(F16="12x36",DT16,IF(F16="12x48",DV16)))))))))),IF(F16=6,DG16,IF(F16=8,DI16,IF(F16=10,DK16,IF(F16=12,DM16,IF(F16=14,DO16,IF(F16="12x18",DQ16,IF(F16="12x24",DS16,IF(F16="12x36",DU16,IF(F16="12x48",DW16))))))))))) | R16: =IF(F16="","",LOOKUP(F16,$BI$14:$BI$22,$BP$14:$BP$22)) | S16: =IF(RIGHT(E16,7)="AVT3000","No",IF(RIGHT(E16,7)="AVC5000","Yes","")) | T16: =IF(F16="","",IF($N$2="CFM",LOOKUP(F16,$BI$14:$BJ$22),IF($N$2="LPS", LOOKUP(F16,$BI$173:$BJ$181),IF($N$2="CMH",LOOKUP(F16,$BI$187:$BJ$195)," ")))) | U16: =IF(F16="","",IF($N$2="CFM",LOOKUP(F16,$BI$14:$BI$22,$BL$14:$BL$22),IF($N$2="LPS", LOOKUP(F16,$BI$173:$BI$181,$BL$173:$BL$181),IF($N$2="CMH",LOOKUP(F16,$BI$187:$BI$195,$BL$187:$BL$195)," ")))) | V16: =IF(F16="","",IF($N$2="CFM",LOOKUP(F16,$BI$14:$BI$22,$BM$14:$BM$22),IF($N$2="LPS", LOOKUP(F16,$BI$173:$BI$181,$BM$173:$BM$181),IF($N$2="CMH",LOOKUP(F16,$BI$187:$BI$195,$BM$187:$BM$195)," ")))) | W16: =IF(F16="","",IF($N$2="CFM",LOOKUP(F16,$BI$14:$BI$22,$BN$14:$BN$22),IF($N$2="LPS", LOOKUP(F16,$BI$173:$BI$181,$BN$173:$BN$181),IF($N$2="CMH",LOOKUP(F16,$BI$187:$BI$195,$BN$187:$BN$195)," ")))) | X16: =IF(RIGHT(E16,7)="AVT3000","No",IF(RIGHT(E16,7)="AVC5000","Yes","")) | Y16: =IF(LEFT(E16,1)="H","H-","") | Z16: =IF(RIGHT(E16,7)="AVT3000","AVT3",IF(RIGHT(E16,7)="AVC5000","AVC5","")) | AA16: =IF(RIGHT(E16,6)="AV3000","AV3",IF(RIGHT(E16,7)="AVC5000","AVC5","")) | AB16: =IF(F16="","",LOOKUP(F16,$BI$14:$BI$22,$BQ$14:$BQ$22)) | AC16: =IF(G16="","",LOOKUP(G16,$BI$31:$BJ$37)) | AD16: =IF(H16="","",LOOKUP(H16,$BI$41:$BJ$47)) | AE16: =IF(AF16="","","-") | AF16: =IF(F16="","",LOOKUP(F16,$BI$14:$BI$22,$BO$14:$BO$22)) | AG16: =IF(G16="","","-") | AH16: =IF(I16="AccuNet","A","") | AI16: =IF(J16="BACnet","B","") | AJ16: =IF(K16="Flanged","F","") | AK16: =IF(L16="Insulation","I","") | AL16: =IF(M16="Tight Shutoff","S","") | AP16: =IF(S16="NO",1,0) -> 0 | AQ16: =SUM(AP$10:AP16) -> 0 | AR16: =IF(AP16>0,AQ16,AQ16+0.1) -> 0.1 | AS16: =IF(S16="NO",C16,"") | AT16: =IF(S16="no",IF(B16="","",B16),"") | AV16: =IF(D16="",0,1) -> 0 | AW16: =SUM(AV$10:AV16) -> 0 | AX16: =IF(AV16>0,AW16,AW16+0.1) -> 0.1 | AY16: =IF(AV16=0,"",IF(C16="","",C16)) | AZ16: =IF(AV16=0,"",IF(B16="","",B16)) | BB16: =CONCATENATE(Y16,Z16,AB16,AC16,AD16,AE16,AF16,AG16,AH16,AI16,AJ16,AK16,AL16) | BC16: =BB16 | BD16: =IF(N16="","",N16) | BG16: =IF(D16="","",Q16-$T$3) | BI16: 10 | BJ16: 120 | BK16: 1000 | BL16: 1300 | BM16: 0 | BN16: 1370 | BO16: 10 | BP16: Round | BQ16: 1 | BR16: 0.26 | BY16: =IF(G16="","",IF(LEFT(G16,3)="304","_304SS",IF(LEFT(G16,3)="316","_316SS",G16))) | BZ16: =IF(E16="AVT3000","AV3000X",IF(E16="AVC5000","AVC5000X",IF(E16="H-AVT3000","H_AV3000",IF(E16="H-AVC5000","H_AVC5000","")))) | CB16: =IF(CD16="CageRack","AVC5000CR",BZ16) | CD16: =IF(D16="supply","supply",IF(D16="FH Exhaust","FHExhaust", IF(D16="GE","GE",IF(D16="Other Exhaust","OtherExhaust",IF(D16="Return","Return",IF(D16="Cage Rack","CageRack",IF(D16="Bio Safety Cab","BioSafetyCab",IF(D16="Canopy Ex","CanopyEx",IF(D16="Snorkel","Snorkel",IF(D16="Acid resistant","AcidRes","")))))))))) | CF16: =IF(D16="supply","supplyV",IF(D16="FH Exhaust","FHExhaustV",IF(D16="GE","GEV",IF(D16="Other Exhaust","OtherExhaustV",IF(D16="Return","ReturnV",IF(D16="Cage Rack","CageRackV",IF(D16="Bio Safety Cab","BioSafetyCabV",IF(D16="Canopy Ex","CanopyExV",IF(D16="Snorkel","SnorkelV",IF(D16="Acid resistant","AcidResV","")))))))))) | CH16: =IF(F16=6,"AL",IF(F16=8,"AL",(IF(F16=10,"AL",IF(F16=12,"AL",IF(F16=14,"AL",IF(F16="12x18","NOAL",IF(F16="12x24","NOAL",IF(F16="12x36","NOAL",IF(F16="12x48","NOAL","")))))))))) | CJ16: =IF(AND(D16="acid resistant",E16="AVC5000"),"AVC5000MC",IF(AND(D16="acid resistant",E16="AVT3000"),"AV3000MC",IF(E16="AVT3000","AV3000M",IF(E16="AVC5000","AVC5000M",IF(E16="H-AVT3000","H_AV3000M",IF(E16="H-AVC5000","H_AVC5000M","")))))) | CL16: =IF(CD16="CageRack","AVC5000CRM",CJ16) | CN16: =IF(G16="PFAcoated","NOSOPFA",IF(F16=6,"NOSO",IF(F16=8,"SO",(IF(F16=10,"SO",IF(F16=12,"SO",IF(F16=14,"SO",IF(F16="12x18","SO",IF(F16="12x24","SO",IF(F16="12x36","SO",IF(F16="12x48","SO",""))))))))))) | CP16: =IF(G16="","",IF(G16="PFACoated", "NOFL","FL")) | CR16: =IF(S16="YES","CTL",IF(S16="NO","NOCTL","")) | CT16: =IF(E16="H-AVT3000","H_AVT3A",IF(E16="AVT3000","AVT3A",IF(E16="H-AVC5000","AVCA",IF(E16="AVC5000","AVCA","")))) | CV16: =IF(E16="","",IF(E16="H-AVT3000","H_AVT3B",IF(E16="AVT3000","AVT3B",IF(E16="H-AVC5000","AVCB",IF(E16="AVC5000","AVCB"))))) | CX16: =IF(X16="YES",0,IF(X16="NO",1,"")) | CY16: =IF(X16="YES",1,IF(X16="NO",0,"")) | DA16: =IF(H16="","",VLOOKUP(H16,$BI$41:$BJ$47,2)) | DC16: =P16 -> 0 | DD16: =P16*$DD$6 -> 0 | DE16: =P16*$DE$6 -> 0 | DF16: =IF($N$2="CFM",(0.0026*(($DC16)/25)^2+0.0035*($DC16)/25-0.0047),IF($N$2="LPS",(0.0026*(($DD16)/25)^2+0.0035*($DD16)/25-0.0047),IF($N$2="CMH",(0.0026*(($DE16)/25)^2+0.0035*($DE16)/25-0.0047),""))) -> -0.0047 | DG16: =DF16*249 -> -1.1703 | DH16: =IF($N$2="CFM",(0.0017*(($DC16-50)/50)^2+0.0041*($DC16-50)/50+0.0056),IF($N$2="LPS",(0.0017*(($DD16-50)/50)^2+0.0041*($DD16-50)/50+0.0056),IF($N$2="CMH",(0.0017*(($DE16-50)/50)^2+0.0041*($DE16-50)/50+0.0056),""))) -> 0.0032 | DI16: =DH16*249 -> 0.7968 | DJ16: =IF($N$2="CFM",(0.0026*(($DC16)/100)^2+0.0012*($DC16)/100-0.0027),IF($N$2="LPS",(0.0026*(($DD16)/100)^2+0.0012*($DD16)/100-0.0027),IF($N$2="CMH",(0.0026*(($DE16)/100)^2+0.0012*($DE16)/100-0.0027),""))) -> -0.0027 | DK16: =DJ16*249 -> -0.6723 | DL16: =IF($N$2="CFM",(0.0056*(($DC16)/200)^2-0.0008*($DC16)/200+0.0012),IF($N$2="LPS",(0.0056*(($DD16)/200)^2-0.0008*($DD16)/200+0.0012),IF($N$2="CMH",(0.0056*(($DE16)/200)^2-0.0008*($DE16)/200+0.0012),""))) -> 0.0012 | DM16: =DL16*249 -> 0.2988 | DN16: =IF($N$2="CFM",(0.0062*(($DC16)/300)^2-0.0094*($DC16)/300+0.0146),IF($N$2="LPS",(0.0062*(($DD16)/300)^2-0.0094*($DD16)/300+0.0146),IF($N$2="CMH",(0.0062*(($DE16)/300)^2-0.0094*($DE16)/300+0.0146),""))) -> 0.0146 | DO16: =DN16*249 -> 3.6354 | DP16: =IF($N$2="CFM",(0.0058*((DC16)/400)^2+0.0106*(DC16)/400-0.013),IF($N$2="LPS",(0.0058*((DD16)/400)^2+0.0106*(DD16)/400-0.013),IF($N$2="CMH",(0.0058*((DE16)/400)^2+0.0106*(DE16)/400-0.013),""))) -> -0.013 | DQ16: =DP16*249 -> -3.237 | DR16: =IF($N$2="CFM",(0.0063*(($DC16)/500)^2+0.0066*($DC16)/500-0.0067),IF($N$2="LPS",(0.0063*(($DD16)/500)^2+0.0066*($DD16)/500-0.0067),IF($N$2="CMH",(0.0063*(($DE16)/500)^2+0.0066*($DE16)/500-0.0067),""))) -> -0.0067 | DS16: =DR16*249 -> -1.6683 | DT16: =IF($N$2="CFM",(0.0058*(($DC16)/800)^2+0.0106*($DC16)/800-0.013),IF($N$2="LPS",(0.0058*(($DD16)/800)^2+0.0106*($DD16)/800-0.013),IF($N$2="CMH",(0.0058*(($DE16)/800)^2+0.0106*($DE16)/800-0.013),""))) -> -0.013 | DU16: =DT16*249 -> -3.237 | DV16: =IF($N$2="CFM",(0.0063*(($DC16)/1000)^2+0.0066*($DC16)/1000-0.0067),IF($N$2="LPS",(0.0063*(($DD16)/1000)^2+0.0066*($DD16)/1000-0.0067),IF($N$2="CMH",(0.0063*(($DE16)/1000)^2+0.0066*($DE16)/1000-0.0067),""))) -> -0.0067 | DW16: =DV16*249 -> -1.6683
A17: 8 | Q17: =IF(P17=""," ",IF($N$3="in WC",IF(F17="","",IF(F17=6,DF17,IF(F17=8,DH17,IF(F17=10,DJ17,IF(F17=12,DL17,IF(F17=14,DN17,IF(F17="12x18",DP17,IF(F17="12x24",DR17,IF(F17="12x36",DT17,IF(F17="12x48",DV17)))))))))),IF(F17=6,DG17,IF(F17=8,DI17,IF(F17=10,DK17,IF(F17=12,DM17,IF(F17=14,DO17,IF(F17="12x18",DQ17,IF(F17="12x24",DS17,IF(F17="12x36",DU17,IF(F17="12x48",DW17))))))))))) | R17: =IF(F17="","",LOOKUP(F17,$BI$14:$BI$22,$BP$14:$BP$22)) | S17: =IF(RIGHT(E17,7)="AVT3000","No",IF(RIGHT(E17,7)="AVC5000","Yes","")) | T17: =IF(F17="","",IF($N$2="CFM",LOOKUP(F17,$BI$14:$BJ$22),IF($N$2="LPS", LOOKUP(F17,$BI$173:$BJ$181),IF($N$2="CMH",LOOKUP(F17,$BI$187:$BJ$195)," ")))) | U17: =IF(F17="","",IF($N$2="CFM",LOOKUP(F17,$BI$14:$BI$22,$BL$14:$BL$22),IF($N$2="LPS", LOOKUP(F17,$BI$173:$BI$181,$BL$173:$BL$181),IF($N$2="CMH",LOOKUP(F17,$BI$187:$BI$195,$BL$187:$BL$195)," ")))) | V17: =IF(F17="","",IF($N$2="CFM",LOOKUP(F17,$BI$14:$BI$22,$BM$14:$BM$22),IF($N$2="LPS", LOOKUP(F17,$BI$173:$BI$181,$BM$173:$BM$181),IF($N$2="CMH",LOOKUP(F17,$BI$187:$BI$195,$BM$187:$BM$195)," ")))) | W17: =IF(F17="","",IF($N$2="CFM",LOOKUP(F17,$BI$14:$BI$22,$BN$14:$BN$22),IF($N$2="LPS", LOOKUP(F17,$BI$173:$BI$181,$BN$173:$BN$181),IF($N$2="CMH",LOOKUP(F17,$BI$187:$BI$195,$BN$187:$BN$195)," ")))) | X17: =IF(RIGHT(E17,7)="AVT3000","No",IF(RIGHT(E17,7)="AVC5000","Yes","")) | Y17: =IF(LEFT(E17,1)="H","H-","") | Z17: =IF(RIGHT(E17,7)="AVT3000","AVT3",IF(RIGHT(E17,7)="AVC5000","AVC5","")) | AA17: =IF(RIGHT(E17,6)="AV3000","AV3",IF(RIGHT(E17,7)="AVC5000","AVC5","")) | AB17: =IF(F17="","",LOOKUP(F17,$BI$14:$BI$22,$BQ$14:$BQ$22)) | AC17: =IF(G17="","",LOOKUP(G17,$BI$31:$BJ$37)) | AD17: =IF(H17="","",LOOKUP(H17,$BI$41:$BJ$47)) | AE17: =IF(AF17="","","-") | AF17: =IF(F17="","",LOOKUP(F17,$BI$14:$BI$22,$BO$14:$BO$22)) | AG17: =IF(G17="","","-") | AH17: =IF(I17="AccuNet","A","") | AI17: =IF(J17="BACnet","B","") | AJ17: =IF(K17="Flanged","F","") | AK17: =IF(L17="Insulation","I","") | AL17: =IF(M17="Tight Shutoff","S","") | AP17: =IF(S17="NO",1,0) -> 0 | AQ17: =SUM(AP$10:AP17) -> 0 | AR17: =IF(AP17>0,AQ17,AQ17+0.1) -> 0.1 | AS17: =IF(S17="NO",C17,"") | AT17: =IF(S17="no",IF(B17="","",B17),"") | AV17: =IF(D17="",0,1) -> 0 | AW17: =SUM(AV$10:AV17) -> 0 | AX17: =IF(AV17>0,AW17,AW17+0.1) -> 0.1 | AY17: =IF(AV17=0,"",IF(C17="","",C17)) | AZ17: =IF(AV17=0,"",IF(B17="","",B17)) | BB17: =CONCATENATE(Y17,Z17,AB17,AC17,AD17,AE17,AF17,AG17,AH17,AI17,AJ17,AK17,AL17) | BC17: =BB17 | BD17: =IF(N17="","",N17) | BG17: =IF(D17="","",Q17-$T$3) | BI17: 12 | BJ17: 180 | BK17: 1450 | BL17: 1790 | BM17: 0 | BN17: 1900 | BO17: 12 | BP17: Round | BQ17: 1 | BR17: 0.36 | BY17: =IF(G17="","",IF(LEFT(G17,3)="304","_304SS",IF(LEFT(G17,3)="316","_316SS",G17))) | BZ17: =IF(E17="AVT3000","AV3000X",IF(E17="AVC5000","AVC5000X",IF(E17="H-AVT3000","H_AV3000",IF(E17="H-AVC5000","H_AVC5000","")))) | CB17: =IF(CD17="CageRack","AVC5000CR",BZ17) | CD17: =IF(D17="supply","supply",IF(D17="FH Exhaust","FHExhaust", IF(D17="GE","GE",IF(D17="Other Exhaust","OtherExhaust",IF(D17="Return","Return",IF(D17="Cage Rack","CageRack",IF(D17="Bio Safety Cab","BioSafetyCab",IF(D17="Canopy Ex","CanopyEx",IF(D17="Snorkel","Snorkel",IF(D17="Acid resistant","AcidRes","")))))))))) | CF17: =IF(D17="supply","supplyV",IF(D17="FH Exhaust","FHExhaustV",IF(D17="GE","GEV",IF(D17="Other Exhaust","OtherExhaustV",IF(D17="Return","ReturnV",IF(D17="Cage Rack","CageRackV",IF(D17="Bio Safety Cab","BioSafetyCabV",IF(D17="Canopy Ex","CanopyExV",IF(D17="Snorkel","SnorkelV",IF(D17="Acid resistant","AcidResV","")))))))))) | CH17: =IF(F17=6,"AL",IF(F17=8,"AL",(IF(F17=10,"AL",IF(F17=12,"AL",IF(F17=14,"AL",IF(F17="12x18","NOAL",IF(F17="12x24","NOAL",IF(F17="12x36","NOAL",IF(F17="12x48","NOAL","")))))))))) | CJ17: =IF(AND(D17="acid resistant",E17="AVC5000"),"AVC5000MC",IF(AND(D17="acid resistant",E17="AVT3000"),"AV3000MC",IF(E17="AVT3000","AV3000M",IF(E17="AVC5000","AVC5000M",IF(E17="H-AVT3000","H_AV3000M",IF(E17="H-AVC5000","H_AVC5000M","")))))) | CL17: =IF(CD17="CageRack","AVC5000CRM",CJ17) | CN17: =IF(G17="PFAcoated","NOSOPFA",IF(F17=6,"NOSO",IF(F17=8,"SO",(IF(F17=10,"SO",IF(F17=12,"SO",IF(F17=14,"SO",IF(F17="12x18","SO",IF(F17="12x24","SO",IF(F17="12x36","SO",IF(F17="12x48","SO",""))))))))))) | CP17: =IF(G17="","",IF(G17="PFACoated", "NOFL","FL")) | CR17: =IF(S17="YES","CTL",IF(S17="NO","NOCTL","")) | CT17: =IF(E17="H-AVT3000","H_AVT3A",IF(E17="AVT3000","AVT3A",IF(E17="H-AVC5000","AVCA",IF(E17="AVC5000","AVCA","")))) | CV17: =IF(E17="","",IF(E17="H-AVT3000","H_AVT3B",IF(E17="AVT3000","AVT3B",IF(E17="H-AVC5000","AVCB",IF(E17="AVC5000","AVCB"))))) | CX17: =IF(X17="YES",0,IF(X17="NO",1,"")) | CY17: =IF(X17="YES",1,IF(X17="NO",0,"")) | DA17: =IF(H17="","",VLOOKUP(H17,$BI$41:$BJ$47,2)) | DC17: =P17 -> 0 | DD17: =P17*$DD$6 -> 0 | DE17: =P17*$DE$6 -> 0 | DF17: =IF($N$2="CFM",(0.0026*(($DC17)/25)^2+0.0035*($DC17)/25-0.0047),IF($N$2="LPS",(0.0026*(($DD17)/25)^2+0.0035*($DD17)/25-0.0047),IF($N$2="CMH",(0.0026*(($DE17)/25)^2+0.0035*($DE17)/25-0.0047),""))) -> -0.0047 | DG17: =DF17*249 -> -1.1703 | DH17: =IF($N$2="CFM",(0.0017*(($DC17-50)/50)^2+0.0041*($DC17-50)/50+0.0056),IF($N$2="LPS",(0.0017*(($DD17-50)/50)^2+0.0041*($DD17-50)/50+0.0056),IF($N$2="CMH",(0.0017*(($DE17-50)/50)^2+0.0041*($DE17-50)/50+0.0056),""))) -> 0.0032 | DI17: =DH17*249 -> 0.7968 | DJ17: =IF($N$2="CFM",(0.0026*(($DC17)/100)^2+0.0012*($DC17)/100-0.0027),IF($N$2="LPS",(0.0026*(($DD17)/100)^2+0.0012*($DD17)/100-0.0027),IF($N$2="CMH",(0.0026*(($DE17)/100)^2+0.0012*($DE17)/100-0.0027),""))) -> -0.0027 | DK17: =DJ17*249 -> -0.6723 | DL17: =IF($N$2="CFM",(0.0056*(($DC17)/200)^2-0.0008*($DC17)/200+0.0012),IF($N$2="LPS",(0.0056*(($DD17)/200)^2-0.0008*($DD17)/200+0.0012),IF($N$2="CMH",(0.0056*(($DE17)/200)^2-0.0008*($DE17)/200+0.0012),""))) -> 0.0012 | DM17: =DL17*249 -> 0.2988 | DN17: =IF($N$2="CFM",(0.0062*(($DC17)/300)^2-0.0094*($DC17)/300+0.0146),IF($N$2="LPS",(0.0062*(($DD17)/300)^2-0.0094*($DD17)/300+0.0146),IF($N$2="CMH",(0.0062*(($DE17)/300)^2-0.0094*($DE17)/300+0.0146),""))) -> 0.0146 | DO17: =DN17*249 -> 3.6354 | DP17: =IF($N$2="CFM",(0.0058*((DC17)/400)^2+0.0106*(DC17)/400-0.013),IF($N$2="LPS",(0.0058*((DD17)/400)^2+0.0106*(DD17)/400-0.013),IF($N$2="CMH",(0.0058*((DE17)/400)^2+0.0106*(DE17)/400-0.013),""))) -> -0.013 | DQ17: =DP17*249 -> -3.237 | DR17: =IF($N$2="CFM",(0.0063*(($DC17)/500)^2+0.0066*($DC17)/500-0.0067),IF($N$2="LPS",(0.0063*(($DD17)/500)^2+0.0066*($DD17)/500-0.0067),IF($N$2="CMH",(0.0063*(($DE17)/500)^2+0.0066*($DE17)/500-0.0067),""))) -> -0.0067 | DS17: =DR17*249 -> -1.6683 | DT17: =IF($N$2="CFM",(0.0058*(($DC17)/800)^2+0.0106*($DC17)/800-0.013),IF($N$2="LPS",(0.0058*(($DD17)/800)^2+0.0106*($DD17)/800-0.013),IF($N$2="CMH",(0.0058*(($DE17)/800)^2+0.0106*($DE17)/800-0.013),""))) -> -0.013 | DU17: =DT17*249 -> -3.237 | DV17: =IF($N$2="CFM",(0.0063*(($DC17)/1000)^2+0.0066*($DC17)/1000-0.0067),IF($N$2="LPS",(0.0063*(($DD17)/1000)^2+0.0066*($DD17)/1000-0.0067),IF($N$2="CMH",(0.0063*(($DE17)/1000)^2+0.0066*($DE17)/1000-0.0067),""))) -> -0.0067 | DW17: =DV17*249 -> -1.6683
A18: 9 | Q18: =IF(P18=""," ",IF($N$3="in WC",IF(F18="","",IF(F18=6,DF18,IF(F18=8,DH18,IF(F18=10,DJ18,IF(F18=12,DL18,IF(F18=14,DN18,IF(F18="12x18",DP18,IF(F18="12x24",DR18,IF(F18="12x36",DT18,IF(F18="12x48",DV18)))))))))),IF(F18=6,DG18,IF(F18=8,DI18,IF(F18=10,DK18,IF(F18=12,DM18,IF(F18=14,DO18,IF(F18="12x18",DQ18,IF(F18="12x24",DS18,IF(F18="12x36",DU18,IF(F18="12x48",DW18))))))))))) | R18: =IF(F18="","",LOOKUP(F18,$BI$14:$BI$22,$BP$14:$BP$22)) | S18: =IF(RIGHT(E18,7)="AVT3000","No",IF(RIGHT(E18,7)="AVC5000","Yes","")) | T18: =IF(F18="","",IF($N$2="CFM",LOOKUP(F18,$BI$14:$BJ$22),IF($N$2="LPS", LOOKUP(F18,$BI$173:$BJ$181),IF($N$2="CMH",LOOKUP(F18,$BI$187:$BJ$195)," ")))) | U18: =IF(F18="","",IF($N$2="CFM",LOOKUP(F18,$BI$14:$BI$22,$BL$14:$BL$22),IF($N$2="LPS", LOOKUP(F18,$BI$173:$BI$181,$BL$173:$BL$181),IF($N$2="CMH",LOOKUP(F18,$BI$187:$BI$195,$BL$187:$BL$195)," ")))) | V18: =IF(F18="","",IF($N$2="CFM",LOOKUP(F18,$BI$14:$BI$22,$BM$14:$BM$22),IF($N$2="LPS", LOOKUP(F18,$BI$173:$BI$181,$BM$173:$BM$181),IF($N$2="CMH",LOOKUP(F18,$BI$187:$BI$195,$BM$187:$BM$195)," ")))) | W18: =IF(F18="","",IF($N$2="CFM",LOOKUP(F18,$BI$14:$BI$22,$BN$14:$BN$22),IF($N$2="LPS", LOOKUP(F18,$BI$173:$BI$181,$BN$173:$BN$181),IF($N$2="CMH",LOOKUP(F18,$BI$187:$BI$195,$BN$187:$BN$195)," ")))) | X18: =IF(RIGHT(E18,7)="AVT3000","No",IF(RIGHT(E18,7)="AVC5000","Yes","")) | Y18: =IF(LEFT(E18,1)="H","H-","") | Z18: =IF(RIGHT(E18,7)="AVT3000","AVT3",IF(RIGHT(E18,7)="AVC5000","AVC5","")) | AA18: =IF(RIGHT(E18,6)="AV3000","AV3",IF(RIGHT(E18,7)="AVC5000","AVC5","")) | AB18: =IF(F18="","",LOOKUP(F18,$BI$14:$BI$22,$BQ$14:$BQ$22)) | AC18: =IF(G18="","",LOOKUP(G18,$BI$31:$BJ$37)) | AD18: =IF(H18="","",LOOKUP(H18,$BI$41:$BJ$47)) | AE18: =IF(AF18="","","-") | AF18: =IF(F18="","",LOOKUP(F18,$BI$14:$BI$22,$BO$14:$BO$22)) | AG18: =IF(G18="","","-") | AH18: =IF(I18="AccuNet","A","") | AI18: =IF(J18="BACnet","B","") | AJ18: =IF(K18="Flanged","F","") | AK18: =IF(L18="Insulation","I","") | AL18: =IF(M18="Tight Shutoff","S","") | AP18: =IF(S18="NO",1,0) -> 0 | AQ18: =SUM(AP$10:AP18) -> 0 | AR18: =IF(AP18>0,AQ18,AQ18+0.1) -> 0.1 | AS18: =IF(S18="NO",C18,"") | AT18: =IF(S18="no",IF(B18="","",B18),"") | AV18: =IF(D18="",0,1) -> 0 | AW18: =SUM(AV$10:AV18) -> 0 | AX18: =IF(AV18>0,AW18,AW18+0.1) -> 0.1 | AY18: =IF(AV18=0,"",IF(C18="","",C18)) | AZ18: =IF(AV18=0,"",IF(B18="","",B18)) | BB18: =CONCATENATE(Y18,Z18,AB18,AC18,AD18,AE18,AF18,AG18,AH18,AI18,AJ18,AK18,AL18) | BC18: =BB18 | BD18: =IF(N18="","",N18) | BG18: =IF(D18="","",Q18-$T$3) | BI18: 14 | BJ18: 250 | BK18: 2300 | BL18: 2750 | BM18: 0 | BN18: 3000 | BO18: 14 | BP18: Round | BQ18: 1 | BR18: 0.52 | BT18: H_AVT3A | BU18: H_AVT3B | BV18: AVT3A | BW18: AVT3B | BX18: AVTCB | BY18: =IF(G18="","",IF(LEFT(G18,3)="304","_304SS",IF(LEFT(G18,3)="316","_316SS",G18))) | BZ18: =IF(E18="AVT3000","AV3000X",IF(E18="AVC5000","AVC5000X",IF(E18="H-AVT3000","H_AV3000",IF(E18="H-AVC5000","H_AVC5000","")))) | CB18: =IF(CD18="CageRack","AVC5000CR",BZ18) | CD18: =IF(D18="supply","supply",IF(D18="FH Exhaust","FHExhaust", IF(D18="GE","GE",IF(D18="Other Exhaust","OtherExhaust",IF(D18="Return","Return",IF(D18="Cage Rack","CageRack",IF(D18="Bio Safety Cab","BioSafetyCab",IF(D18="Canopy Ex","CanopyEx",IF(D18="Snorkel","Snorkel",IF(D18="Acid resistant","AcidRes","")))))))))) | CF18: =IF(D18="supply","supplyV",IF(D18="FH Exhaust","FHExhaustV",IF(D18="GE","GEV",IF(D18="Other Exhaust","OtherExhaustV",IF(D18="Return","ReturnV",IF(D18="Cage Rack","CageRackV",IF(D18="Bio Safety Cab","BioSafetyCabV",IF(D18="Canopy Ex","CanopyExV",IF(D18="Snorkel","SnorkelV",IF(D18="Acid resistant","AcidResV","")))))))))) | CH18: =IF(F18=6,"AL",IF(F18=8,"AL",(IF(F18=10,"AL",IF(F18=12,"AL",IF(F18=14,"AL",IF(F18="12x18","NOAL",IF(F18="12x24","NOAL",IF(F18="12x36","NOAL",IF(F18="12x48","NOAL","")))))))))) | CJ18: =IF(AND(D18="acid resistant",E18="AVC5000"),"AVC5000MC",IF(AND(D18="acid resistant",E18="AVT3000"),"AV3000MC",IF(E18="AVT3000","AV3000M",IF(E18="AVC5000","AVC5000M",IF(E18="H-AVT3000","H_AV3000M",IF(E18="H-AVC5000","H_AVC5000M","")))))) | CL18: =IF(CD18="CageRack","AVC5000CRM",CJ18) | CN18: =IF(G18="PFAcoated","NOSOPFA",IF(F18=6,"NOSO",IF(F18=8,"SO",(IF(F18=10,"SO",IF(F18=12,"SO",IF(F18=14,"SO",IF(F18="12x18","SO",IF(F18="12x24","SO",IF(F18="12x36","SO",IF(F18="12x48","SO",""))))))))))) | CP18: =IF(G18="","",IF(G18="PFACoated", "NOFL","FL")) | CR18: =IF(S18="YES","CTL",IF(S18="NO","NOCTL","")) | CT18: =IF(E18="H-AVT3000","H_AVT3A",IF(E18="AVT3000","AVT3A",IF(E18="H-AVC5000","AVCA",IF(E18="AVC5000","AVCA","")))) | CV18: =IF(E18="","",IF(E18="H-AVT3000","H_AVT3B",IF(E18="AVT3000","AVT3B",IF(E18="H-AVC5000","AVCB",IF(E18="AVC5000","AVCB"))))) | CX18: =IF(X18="YES",0,IF(X18="NO",1,"")) | CY18: =IF(X18="YES",1,IF(X18="NO",0,"")) | DA18: =IF(H18="","",VLOOKUP(H18,$BI$41:$BJ$47,2)) | DC18: =P18 -> 0 | DD18: =P18*$DD$6 -> 0 | DE18: =P18*$DE$6 -> 0 | DF18: =IF($N$2="CFM",(0.0026*(($DC18)/25)^2+0.0035*($DC18)/25-0.0047),IF($N$2="LPS",(0.0026*(($DD18)/25)^2+0.0035*($DD18)/25-0.0047),IF($N$2="CMH",(0.0026*(($DE18)/25)^2+0.0035*($DE18)/25-0.0047),""))) -> -0.0047 | DG18: =DF18*249 -> -1.1703 | DH18: =IF($N$2="CFM",(0.0017*(($DC18-50)/50)^2+0.0041*($DC18-50)/50+0.0056),IF($N$2="LPS",(0.0017*(($DD18-50)/50)^2+0.0041*($DD18-50)/50+0.0056),IF($N$2="CMH",(0.0017*(($DE18-50)/50)^2+0.0041*($DE18-50)/50+0.0056),""))) -> 0.0032 | DI18: =DH18*249 -> 0.7968 | DJ18: =IF($N$2="CFM",(0.0026*(($DC18)/100)^2+0.0012*($DC18)/100-0.0027),IF($N$2="LPS",(0.0026*(($DD18)/100)^2+0.0012*($DD18)/100-0.0027),IF($N$2="CMH",(0.0026*(($DE18)/100)^2+0.0012*($DE18)/100-0.0027),""))) -> -0.0027 | DK18: =DJ18*249 -> -0.6723 | DL18: =IF($N$2="CFM",(0.0056*(($DC18)/200)^2-0.0008*($DC18)/200+0.0012),IF($N$2="LPS",(0.0056*(($DD18)/200)^2-0.0008*($DD18)/200+0.0012),IF($N$2="CMH",(0.0056*(($DE18)/200)^2-0.0008*($DE18)/200+0.0012),""))) -> 0.0012 | DM18: =DL18*249 -> 0.2988 | DN18: =IF($N$2="CFM",(0.0062*(($DC18)/300)^2-0.0094*($DC18)/300+0.0146),IF($N$2="LPS",(0.0062*(($DD18)/300)^2-0.0094*($DD18)/300+0.0146),IF($N$2="CMH",(0.0062*(($DE18)/300)^2-0.0094*($DE18)/300+0.0146),""))) -> 0.0146 | DO18: =DN18*249 -> 3.6354 | DP18: =IF($N$2="CFM",(0.0058*((DC18)/400)^2+0.0106*(DC18)/400-0.013),IF($N$2="LPS",(0.0058*((DD18)/400)^2+0.0106*(DD18)/400-0.013),IF($N$2="CMH",(0.0058*((DE18)/400)^2+0.0106*(DE18)/400-0.013),""))) -> -0.013 | DQ18: =DP18*249 -> -3.237 | DR18: =IF($N$2="CFM",(0.0063*(($DC18)/500)^2+0.0066*($DC18)/500-0.0067),IF($N$2="LPS",(0.0063*(($DD18)/500)^2+0.0066*($DD18)/500-0.0067),IF($N$2="CMH",(0.0063*(($DE18)/500)^2+0.0066*($DE18)/500-0.0067),""))) -> -0.0067 | DS18: =DR18*249 -> -1.6683 | DT18: =IF($N$2="CFM",(0.0058*(($DC18)/800)^2+0.0106*($DC18)/800-0.013),IF($N$2="LPS",(0.0058*(($DD18)/800)^2+0.0106*($DD18)/800-0.013),IF($N$2="CMH",(0.0058*(($DE18)/800)^2+0.0106*($DE18)/800-0.013),""))) -> -0.013 | DU18: =DT18*249 -> -3.237 | DV18: =IF($N$2="CFM",(0.0063*(($DC18)/1000)^2+0.0066*($DC18)/1000-0.0067),IF($N$2="LPS",(0.0063*(($DD18)/1000)^2+0.0066*($DD18)/1000-0.0067),IF($N$2="CMH",(0.0063*(($DE18)/1000)^2+0.0066*($DE18)/1000-0.0067),""))) -> -0.0067 | DW18: =DV18*249 -> -1.6683
A19: 10 | Q19: =IF(P19=""," ",IF($N$3="in WC",IF(F19="","",IF(F19=6,DF19,IF(F19=8,DH19,IF(F19=10,DJ19,IF(F19=12,DL19,IF(F19=14,DN19,IF(F19="12x18",DP19,IF(F19="12x24",DR19,IF(F19="12x36",DT19,IF(F19="12x48",DV19)))))))))),IF(F19=6,DG19,IF(F19=8,DI19,IF(F19=10,DK19,IF(F19=12,DM19,IF(F19=14,DO19,IF(F19="12x18",DQ19,IF(F19="12x24",DS19,IF(F19="12x36",DU19,IF(F19="12x48",DW19))))))))))) | R19: =IF(F19="","",LOOKUP(F19,$BI$14:$BI$22,$BP$14:$BP$22)) | S19: =IF(RIGHT(E19,7)="AVT3000","No",IF(RIGHT(E19,7)="AVC5000","Yes","")) | T19: =IF(F19="","",IF($N$2="CFM",LOOKUP(F19,$BI$14:$BJ$22),IF($N$2="LPS", LOOKUP(F19,$BI$173:$BJ$181),IF($N$2="CMH",LOOKUP(F19,$BI$187:$BJ$195)," ")))) | U19: =IF(F19="","",IF($N$2="CFM",LOOKUP(F19,$BI$14:$BI$22,$BL$14:$BL$22),IF($N$2="LPS", LOOKUP(F19,$BI$173:$BI$181,$BL$173:$BL$181),IF($N$2="CMH",LOOKUP(F19,$BI$187:$BI$195,$BL$187:$BL$195)," ")))) | V19: =IF(F19="","",IF($N$2="CFM",LOOKUP(F19,$BI$14:$BI$22,$BM$14:$BM$22),IF($N$2="LPS", LOOKUP(F19,$BI$173:$BI$181,$BM$173:$BM$181),IF($N$2="CMH",LOOKUP(F19,$BI$187:$BI$195,$BM$187:$BM$195)," ")))) | W19: =IF(F19="","",IF($N$2="CFM",LOOKUP(F19,$BI$14:$BI$22,$BN$14:$BN$22),IF($N$2="LPS", LOOKUP(F19,$BI$173:$BI$181,$BN$173:$BN$181),IF($N$2="CMH",LOOKUP(F19,$BI$187:$BI$195,$BN$187:$BN$195)," ")))) | X19: =IF(RIGHT(E19,7)="AVT3000","No",IF(RIGHT(E19,7)="AVC5000","Yes","")) | Y19: =IF(LEFT(E19,1)="H","H-","") | Z19: =IF(RIGHT(E19,7)="AVT3000","AVT3",IF(RIGHT(E19,7)="AVC5000","AVC5","")) | AA19: =IF(RIGHT(E19,6)="AV3000","AV3",IF(RIGHT(E19,7)="AVC5000","AVC5","")) | AB19: =IF(F19="","",LOOKUP(F19,$BI$14:$BI$22,$BQ$14:$BQ$22)) | AC19: =IF(G19="","",LOOKUP(G19,$BI$31:$BJ$37)) | AD19: =IF(H19="","",LOOKUP(H19,$BI$41:$BJ$47)) | AE19: =IF(AF19="","","-") | AF19: =IF(F19="","",LOOKUP(F19,$BI$14:$BI$22,$BO$14:$BO$22)) | AG19: =IF(G19="","","-") | AH19: =IF(I19="AccuNet","A","") | AI19: =IF(J19="BACnet","B","") | AJ19: =IF(K19="Flanged","F","") | AK19: =IF(L19="Insulation","I","") | AL19: =IF(M19="Tight Shutoff","S","") | AP19: =IF(S19="NO",1,0) -> 0 | AQ19: =SUM(AP$10:AP19) -> 0 | AR19: =IF(AP19>0,AQ19,AQ19+0.1) -> 0.1 | AS19: =IF(S19="NO",C19,"") | AT19: =IF(S19="no",IF(B19="","",B19),"") | AV19: =IF(D19="",0,1) -> 0 | AW19: =SUM(AV$10:AV19) -> 0 | AX19: =IF(AV19>0,AW19,AW19+0.1) -> 0.1 | AY19: =IF(AV19=0,"",IF(C19="","",C19)) | AZ19: =IF(AV19=0,"",IF(B19="","",B19)) | BB19: =CONCATENATE(Y19,Z19,AB19,AC19,AD19,AE19,AF19,AG19,AH19,AI19,AJ19,AK19,AL19) | BC19: =BB19 | BD19: =IF(N19="","",N19) | BG19: =IF(D19="","",Q19-$T$3) | BI19: 12x18 | BJ19: 260 | BK19: 2500 | BL19: 3200 | BM19: 0 | BN19: 3400 | BO19: 18 | BP19: Rectangular | BQ19: 2 | BR19: 0.57 | BY19: =IF(G19="","",IF(LEFT(G19,3)="304","_304SS",IF(LEFT(G19,3)="316","_316SS",G19))) | BZ19: =IF(E19="AVT3000","AV3000X",IF(E19="AVC5000","AVC5000X",IF(E19="H-AVT3000","H_AV3000",IF(E19="H-AVC5000","H_AVC5000","")))) | CB19: =IF(CD19="CageRack","AVC5000CR",BZ19) | CD19: =IF(D19="supply","supply",IF(D19="FH Exhaust","FHExhaust", IF(D19="GE","GE",IF(D19="Other Exhaust","OtherExhaust",IF(D19="Return","Return",IF(D19="Cage Rack","CageRack",IF(D19="Bio Safety Cab","BioSafetyCab",IF(D19="Canopy Ex","CanopyEx",IF(D19="Snorkel","Snorkel",IF(D19="Acid resistant","AcidRes","")))))))))) | CF19: =IF(D19="supply","supplyV",IF(D19="FH Exhaust","FHExhaustV",IF(D19="GE","GEV",IF(D19="Other Exhaust","OtherExhaustV",IF(D19="Return","ReturnV",IF(D19="Cage Rack","CageRackV",IF(D19="Bio Safety Cab","BioSafetyCabV",IF(D19="Canopy Ex","CanopyExV",IF(D19="Snorkel","SnorkelV",IF(D19="Acid resistant","AcidResV","")))))))))) | CH19: =IF(F19=6,"AL",IF(F19=8,"AL",(IF(F19=10,"AL",IF(F19=12,"AL",IF(F19=14,"AL",IF(F19="12x18","NOAL",IF(F19="12x24","NOAL",IF(F19="12x36","NOAL",IF(F19="12x48","NOAL","")))))))))) | CJ19: =IF(AND(D19="acid resistant",E19="AVC5000"),"AVC5000MC",IF(AND(D19="acid resistant",E19="AVT3000"),"AV3000MC",IF(E19="AVT3000","AV3000M",IF(E19="AVC5000","AVC5000M",IF(E19="H-AVT3000","H_AV3000M",IF(E19="H-AVC5000","H_AVC5000M","")))))) | CL19: =IF(CD19="CageRack","AVC5000CRM",CJ19) | CN19: =IF(G19="PFAcoated","NOSOPFA",IF(F19=6,"NOSO",IF(F19=8,"SO",(IF(F19=10,"SO",IF(F19=12,"SO",IF(F19=14,"SO",IF(F19="12x18","SO",IF(F19="12x24","SO",IF(F19="12x36","SO",IF(F19="12x48","SO",""))))))))))) | CP19: =IF(G19="","",IF(G19="PFACoated", "NOFL","FL")) | CR19: =IF(S19="YES","CTL",IF(S19="NO","NOCTL","")) | CT19: =IF(E19="H-AVT3000","H_AVT3A",IF(E19="AVT3000","AVT3A",IF(E19="H-AVC5000","AVCA",IF(E19="AVC5000","AVCA","")))) | CV19: =IF(E19="","",IF(E19="H-AVT3000","H_AVT3B",IF(E19="AVT3000","AVT3B",IF(E19="H-AVC5000","AVCB",IF(E19="AVC5000","AVCB"))))) | CX19: =IF(X19="YES",0,IF(X19="NO",1,"")) | CY19: =IF(X19="YES",1,IF(X19="NO",0,"")) | DA19: =IF(H19="","",VLOOKUP(H19,$BI$41:$BJ$47,2)) | DC19: =P19 -> 0 | DD19: =P19*$DD$6 -> 0 | DE19: =P19*$DE$6 -> 0 | DF19: =IF($N$2="CFM",(0.0026*(($DC19)/25)^2+0.0035*($DC19)/25-0.0047),IF($N$2="LPS",(0.0026*(($DD19)/25)^2+0.0035*($DD19)/25-0.0047),IF($N$2="CMH",(0.0026*(($DE19)/25)^2+0.0035*($DE19)/25-0.0047),""))) -> -0.0047 | DG19: =DF19*249 -> -1.1703 | DH19: =IF($N$2="CFM",(0.0017*(($DC19-50)/50)^2+0.0041*($DC19-50)/50+0.0056),IF($N$2="LPS",(0.0017*(($DD19-50)/50)^2+0.0041*($DD19-50)/50+0.0056),IF($N$2="CMH",(0.0017*(($DE19-50)/50)^2+0.0041*($DE19-50)/50+0.0056),""))) -> 0.0032 | DI19: =DH19*249 -> 0.7968 | DJ19: =IF($N$2="CFM",(0.0026*(($DC19)/100)^2+0.0012*($DC19)/100-0.0027),IF($N$2="LPS",(0.0026*(($DD19)/100)^2+0.0012*($DD19)/100-0.0027),IF($N$2="CMH",(0.0026*(($DE19)/100)^2+0.0012*($DE19)/100-0.0027),""))) -> -0.0027 | DK19: =DJ19*249 -> -0.6723 | DL19: =IF($N$2="CFM",(0.0056*(($DC19)/200)^2-0.0008*($DC19)/200+0.0012),IF($N$2="LPS",(0.0056*(($DD19)/200)^2-0.0008*($DD19)/200+0.0012),IF($N$2="CMH",(0.0056*(($DE19)/200)^2-0.0008*($DE19)/200+0.0012),""))) -> 0.0012 | DM19: =DL19*249 -> 0.2988 | DN19: =IF($N$2="CFM",(0.0062*(($DC19)/300)^2-0.0094*($DC19)/300+0.0146),IF($N$2="LPS",(0.0062*(($DD19)/300)^2-0.0094*($DD19)/300+0.0146),IF($N$2="CMH",(0.0062*(($DE19)/300)^2-0.0094*($DE19)/300+0.0146),""))) -> 0.0146 | DO19: =DN19*249 -> 3.6354 | DP19: =IF($N$2="CFM",(0.0058*((DC19)/400)^2+0.0106*(DC19)/400-0.013),IF($N$2="LPS",(0.0058*((DD19)/400)^2+0.0106*(DD19)/400-0.013),IF($N$2="CMH",(0.0058*((DE19)/400)^2+0.0106*(DE19)/400-0.013),""))) -> -0.013 | DQ19: =DP19*249 -> -3.237 | DR19: =IF($N$2="CFM",(0.0063*(($DC19)/500)^2+0.0066*($DC19)/500-0.0067),IF($N$2="LPS",(0.0063*(($DD19)/500)^2+0.0066*($DD19)/500-0.0067),IF($N$2="CMH",(0.0063*(($DE19)/500)^2+0.0066*($DE19)/500-0.0067),""))) -> -0.0067 | DS19: =DR19*249 -> -1.6683 | DT19: =IF($N$2="CFM",(0.0058*(($DC19)/800)^2+0.0106*($DC19)/800-0.013),IF($N$2="LPS",(0.0058*(($DD19)/800)^2+0.0106*($DD19)/800-0.013),IF($N$2="CMH",(0.0058*(($DE19)/800)^2+0.0106*($DE19)/800-0.013),""))) -> -0.013 | DU19: =DT19*249 -> -3.237 | DV19: =IF($N$2="CFM",(0.0063*(($DC19)/1000)^2+0.0066*($DC19)/1000-0.0067),IF($N$2="LPS",(0.0063*(($DD19)/1000)^2+0.0066*($DD19)/1000-0.0067),IF($N$2="CMH",(0.0063*(($DE19)/1000)^2+0.0066*($DE19)/1000-0.0067),""))) -> -0.0067 | DW19: =DV19*249 -> -1.6683
A20: 11 | Q20: =IF(P20=""," ",IF($N$3="in WC",IF(F20="","",IF(F20=6,DF20,IF(F20=8,DH20,IF(F20=10,DJ20,IF(F20=12,DL20,IF(F20=14,DN20,IF(F20="12x18",DP20,IF(F20="12x24",DR20,IF(F20="12x36",DT20,IF(F20="12x48",DV20)))))))))),IF(F20=6,DG20,IF(F20=8,DI20,IF(F20=10,DK20,IF(F20=12,DM20,IF(F20=14,DO20,IF(F20="12x18",DQ20,IF(F20="12x24",DS20,IF(F20="12x36",DU20,IF(F20="12x48",DW20))))))))))) | R20: =IF(F20="","",LOOKUP(F20,$BI$14:$BI$22,$BP$14:$BP$22)) | S20: =IF(RIGHT(E20,7)="AVT3000","No",IF(RIGHT(E20,7)="AVC5000","Yes","")) | T20: =IF(F20="","",IF($N$2="CFM",LOOKUP(F20,$BI$14:$BJ$22),IF($N$2="LPS", LOOKUP(F20,$BI$173:$BJ$181),IF($N$2="CMH",LOOKUP(F20,$BI$187:$BJ$195)," ")))) | U20: =IF(F20="","",IF($N$2="CFM",LOOKUP(F20,$BI$14:$BI$22,$BL$14:$BL$22),IF($N$2="LPS", LOOKUP(F20,$BI$173:$BI$181,$BL$173:$BL$181),IF($N$2="CMH",LOOKUP(F20,$BI$187:$BI$195,$BL$187:$BL$195)," ")))) | V20: =IF(F20="","",IF($N$2="CFM",LOOKUP(F20,$BI$14:$BI$22,$BM$14:$BM$22),IF($N$2="LPS", LOOKUP(F20,$BI$173:$BI$181,$BM$173:$BM$181),IF($N$2="CMH",LOOKUP(F20,$BI$187:$BI$195,$BM$187:$BM$195)," ")))) | W20: =IF(F20="","",IF($N$2="CFM",LOOKUP(F20,$BI$14:$BI$22,$BN$14:$BN$22),IF($N$2="LPS", LOOKUP(F20,$BI$173:$BI$181,$BN$173:$BN$181),IF($N$2="CMH",LOOKUP(F20,$BI$187:$BI$195,$BN$187:$BN$195)," ")))) | X20: =IF(RIGHT(E20,7)="AVT3000","No",IF(RIGHT(E20,7)="AVC5000","Yes","")) | Y20: =IF(LEFT(E20,1)="H","H-","") | Z20: =IF(RIGHT(E20,7)="AVT3000","AVT3",IF(RIGHT(E20,7)="AVC5000","AVC5","")) | AA20: =IF(RIGHT(E20,6)="AV3000","AV3",IF(RIGHT(E20,7)="AVC5000","AVC5","")) | AB20: =IF(F20="","",LOOKUP(F20,$BI$14:$BI$22,$BQ$14:$BQ$22)) | AC20: =IF(G20="","",LOOKUP(G20,$BI$31:$BJ$37)) | AD20: =IF(H20="","",LOOKUP(H20,$BI$41:$BJ$47)) | AE20: =IF(AF20="","","-") | AF20: =IF(F20="","",LOOKUP(F20,$BI$14:$BI$22,$BO$14:$BO$22)) | AG20: =IF(G20="","","-") | AH20: =IF(I20="AccuNet","A","") | AI20: =IF(J20="BACnet","B","") | AJ20: =IF(K20="Flanged","F","") | AK20: =IF(L20="Insulation","I","") | AL20: =IF(M20="Tight Shutoff","S","") | AP20: =IF(S20="NO",1,0) -> 0 | AQ20: =SUM(AP$10:AP20) -> 0 | AR20: =IF(AP20>0,AQ20,AQ20+0.1) -> 0.1 | AS20: =IF(S20="NO",C20,"") | AT20: =IF(S20="no",IF(B20="","",B20),"") | AV20: =IF(D20="",0,1) -> 0 | AW20: =SUM(AV$10:AV20) -> 0 | AX20: =IF(AV20>0,AW20,AW20+0.1) -> 0.1 | AY20: =IF(AV20=0,"",IF(C20="","",C20)) | AZ20: =IF(AV20=0,"",IF(B20="","",B20)) | BB20: =CONCATENATE(Y20,Z20,AB20,AC20,AD20,AE20,AF20,AG20,AH20,AI20,AJ20,AK20,AL20) | BC20: =BB20 | BD20: =IF(N20="","",N20) | BG20: =IF(D20="","",Q20-$T$3) | BI20: 12x24 | BJ20: 350 | BK20: 3200 | BL20: 4000 | BM20: 0 | BN20: 4200 | BO20: 24 | BP20: Rectangular | BQ20: 2 | BR20: 0.76 | BT20: AccuNet | BU20: BACnet | BV20: AccuNet | BW20: BACnet | BX20: Included | BY20: =IF(G20="","",IF(LEFT(G20,3)="304","_304SS",IF(LEFT(G20,3)="316","_316SS",G20))) | BZ20: =IF(E20="AVT3000","AV3000X",IF(E20="AVC5000","AVC5000X",IF(E20="H-AVT3000","H_AV3000",IF(E20="H-AVC5000","H_AVC5000","")))) | CB20: =IF(CD20="CageRack","AVC5000CR",BZ20) | CD20: =IF(D20="supply","supply",IF(D20="FH Exhaust","FHExhaust", IF(D20="GE","GE",IF(D20="Other Exhaust","OtherExhaust",IF(D20="Return","Return",IF(D20="Cage Rack","CageRack",IF(D20="Bio Safety Cab","BioSafetyCab",IF(D20="Canopy Ex","CanopyEx",IF(D20="Snorkel","Snorkel",IF(D20="Acid resistant","AcidRes","")))))))))) | CF20: =IF(D20="supply","supplyV",IF(D20="FH Exhaust","FHExhaustV",IF(D20="GE","GEV",IF(D20="Other Exhaust","OtherExhaustV",IF(D20="Return","ReturnV",IF(D20="Cage Rack","CageRackV",IF(D20="Bio Safety Cab","BioSafetyCabV",IF(D20="Canopy Ex","CanopyExV",IF(D20="Snorkel","SnorkelV",IF(D20="Acid resistant","AcidResV","")))))))))) | CH20: =IF(F20=6,"AL",IF(F20=8,"AL",(IF(F20=10,"AL",IF(F20=12,"AL",IF(F20=14,"AL",IF(F20="12x18","NOAL",IF(F20="12x24","NOAL",IF(F20="12x36","NOAL",IF(F20="12x48","NOAL","")))))))))) | CJ20: =IF(AND(D20="acid resistant",E20="AVC5000"),"AVC5000MC",IF(AND(D20="acid resistant",E20="AVT3000"),"AV3000MC",IF(E20="AVT3000","AV3000M",IF(E20="AVC5000","AVC5000M",IF(E20="H-AVT3000","H_AV3000M",IF(E20="H-AVC5000","H_AVC5000M","")))))) | CL20: =IF(CD20="CageRack","AVC5000CRM",CJ20) | CN20: =IF(G20="PFAcoated","NOSOPFA",IF(F20=6,"NOSO",IF(F20=8,"SO",(IF(F20=10,"SO",IF(F20=12,"SO",IF(F20=14,"SO",IF(F20="12x18","SO",IF(F20="12x24","SO",IF(F20="12x36","SO",IF(F20="12x48","SO",""))))))))))) | CP20: =IF(G20="","",IF(G20="PFACoated", "NOFL","FL")) | CR20: =IF(S20="YES","CTL",IF(S20="NO","NOCTL","")) | CT20: =IF(E20="H-AVT3000","H_AVT3A",IF(E20="AVT3000","AVT3A",IF(E20="H-AVC5000","AVCA",IF(E20="AVC5000","AVCA","")))) | CV20: =IF(E20="","",IF(E20="H-AVT3000","H_AVT3B",IF(E20="AVT3000","AVT3B",IF(E20="H-AVC5000","AVCB",IF(E20="AVC5000","AVCB"))))) | CX20: =IF(X20="YES",0,IF(X20="NO",1,"")) | CY20: =IF(X20="YES",1,IF(X20="NO",0,"")) | DA20: =IF(H20="","",VLOOKUP(H20,$BI$41:$BJ$47,2)) | DC20: =P20 -> 0 | DD20: =P20*$DD$6 -> 0 | DE20: =P20*$DE$6 -> 0 | DF20: =IF($N$2="CFM",(0.0026*(($DC20)/25)^2+0.0035*($DC20)/25-0.0047),IF($N$2="LPS",(0.0026*(($DD20)/25)^2+0.0035*($DD20)/25-0.0047),IF($N$2="CMH",(0.0026*(($DE20)/25)^2+0.0035*($DE20)/25-0.0047),""))) -> -0.0047 | DG20: =DF20*249 -> -1.1703 | DH20: =IF($N$2="CFM",(0.0017*(($DC20-50)/50)^2+0.0041*($DC20-50)/50+0.0056),IF($N$2="LPS",(0.0017*(($DD20-50)/50)^2+0.0041*($DD20-50)/50+0.0056),IF($N$2="CMH",(0.0017*(($DE20-50)/50)^2+0.0041*($DE20-50)/50+0.0056),""))) -> 0.0032 | DI20: =DH20*249 -> 0.7968 | DJ20: =IF($N$2="CFM",(0.0026*(($DC20)/100)^2+0.0012*($DC20)/100-0.0027),IF($N$2="LPS",(0.0026*(($DD20)/100)^2+0.0012*($DD20)/100-0.0027),IF($N$2="CMH",(0.0026*(($DE20)/100)^2+0.0012*($DE20)/100-0.0027),""))) -> -0.0027 | DK20: =DJ20*249 -> -0.6723 | DL20: =IF($N$2="CFM",(0.0056*(($DC20)/200)^2-0.0008*($DC20)/200+0.0012),IF($N$2="LPS",(0.0056*(($DD20)/200)^2-0.0008*($DD20)/200+0.0012),IF($N$2="CMH",(0.0056*(($DE20)/200)^2-0.0008*($DE20)/200+0.0012),""))) -> 0.0012 | DM20: =DL20*249 -> 0.2988 | DN20: =IF($N$2="CFM",(0.0062*(($DC20)/300)^2-0.0094*($DC20)/300+0.0146),IF($N$2="LPS",(0.0062*(($DD20)/300)^2-0.0094*($DD20)/300+0.0146),IF($N$2="CMH",(0.0062*(($DE20)/300)^2-0.0094*($DE20)/300+0.0146),""))) -> 0.0146 | DO20: =DN20*249 -> 3.6354 | DP20: =IF($N$2="CFM",(0.0058*((DC20)/400)^2+0.0106*(DC20)/400-0.013),IF($N$2="LPS",(0.0058*((DD20)/400)^2+0.0106*(DD20)/400-0.013),IF($N$2="CMH",(0.0058*((DE20)/400)^2+0.0106*(DE20)/400-0.013),""))) -> -0.013 | DQ20: =DP20*249 -> -3.237 | DR20: =IF($N$2="CFM",(0.0063*(($DC20)/500)^2+0.0066*($DC20)/500-0.0067),IF($N$2="LPS",(0.0063*(($DD20)/500)^2+0.0066*($DD20)/500-0.0067),IF($N$2="CMH",(0.0063*(($DE20)/500)^2+0.0066*($DE20)/500-0.0067),""))) -> -0.0067 | DS20: =DR20*249 -> -1.6683 | DT20: =IF($N$2="CFM",(0.0058*(($DC20)/800)^2+0.0106*($DC20)/800-0.013),IF($N$2="LPS",(0.0058*(($DD20)/800)^2+0.0106*($DD20)/800-0.013),IF($N$2="CMH",(0.0058*(($DE20)/800)^2+0.0106*($DE20)/800-0.013),""))) -> -0.013 | DU20: =DT20*249 -> -3.237 | DV20: =IF($N$2="CFM",(0.0063*(($DC20)/1000)^2+0.0066*($DC20)/1000-0.0067),IF($N$2="LPS",(0.0063*(($DD20)/1000)^2+0.0066*($DD20)/1000-0.0067),IF($N$2="CMH",(0.0063*(($DE20)/1000)^2+0.0066*($DE20)/1000-0.0067),""))) -> -0.0067 | DW20: =DV20*249 -> -1.6683
A21: 12 | Q21: =IF(P21=""," ",IF($N$3="in WC",IF(F21="","",IF(F21=6,DF21,IF(F21=8,DH21,IF(F21=10,DJ21,IF(F21=12,DL21,IF(F21=14,DN21,IF(F21="12x18",DP21,IF(F21="12x24",DR21,IF(F21="12x36",DT21,IF(F21="12x48",DV21)))))))))),IF(F21=6,DG21,IF(F21=8,DI21,IF(F21=10,DK21,IF(F21=12,DM21,IF(F21=14,DO21,IF(F21="12x18",DQ21,IF(F21="12x24",DS21,IF(F21="12x36",DU21,IF(F21="12x48",DW21))))))))))) | R21: =IF(F21="","",LOOKUP(F21,$BI$14:$BI$22,$BP$14:$BP$22)) | S21: =IF(RIGHT(E21,7)="AVT3000","No",IF(RIGHT(E21,7)="AVC5000","Yes","")) | T21: =IF(F21="","",IF($N$2="CFM",LOOKUP(F21,$BI$14:$BJ$22),IF($N$2="LPS", LOOKUP(F21,$BI$173:$BJ$181),IF($N$2="CMH",LOOKUP(F21,$BI$187:$BJ$195)," ")))) | U21: =IF(F21="","",IF($N$2="CFM",LOOKUP(F21,$BI$14:$BI$22,$BL$14:$BL$22),IF($N$2="LPS", LOOKUP(F21,$BI$173:$BI$181,$BL$173:$BL$181),IF($N$2="CMH",LOOKUP(F21,$BI$187:$BI$195,$BL$187:$BL$195)," ")))) | V21: =IF(F21="","",IF($N$2="CFM",LOOKUP(F21,$BI$14:$BI$22,$BM$14:$BM$22),IF($N$2="LPS", LOOKUP(F21,$BI$173:$BI$181,$BM$173:$BM$181),IF($N$2="CMH",LOOKUP(F21,$BI$187:$BI$195,$BM$187:$BM$195)," ")))) | W21: =IF(F21="","",IF($N$2="CFM",LOOKUP(F21,$BI$14:$BI$22,$BN$14:$BN$22),IF($N$2="LPS", LOOKUP(F21,$BI$173:$BI$181,$BN$173:$BN$181),IF($N$2="CMH",LOOKUP(F21,$BI$187:$BI$195,$BN$187:$BN$195)," ")))) | X21: =IF(RIGHT(E21,7)="AVT3000","No",IF(RIGHT(E21,7)="AVC5000","Yes","")) | Y21: =IF(LEFT(E21,1)="H","H-","") | Z21: =IF(RIGHT(E21,7)="AVT3000","AVT3",IF(RIGHT(E21,7)="AVC5000","AVC5","")) | AA21: =IF(RIGHT(E21,6)="AV3000","AV3",IF(RIGHT(E21,7)="AVC5000","AVC5","")) | AB21: =IF(F21="","",LOOKUP(F21,$BI$14:$BI$22,$BQ$14:$BQ$22)) | AC21: =IF(G21="","",LOOKUP(G21,$BI$31:$BJ$37)) | AD21: =IF(H21="","",LOOKUP(H21,$BI$41:$BJ$47)) | AE21: =IF(AF21="","","-") | AF21: =IF(F21="","",LOOKUP(F21,$BI$14:$BI$22,$BO$14:$BO$22)) | AG21: =IF(G21="","","-") | AH21: =IF(I21="AccuNet","A","") | AI21: =IF(J21="BACnet","B","") | AJ21: =IF(K21="Flanged","F","") | AK21: =IF(L21="Insulation","I","") | AL21: =IF(M21="Tight Shutoff","S","") | AP21: =IF(S21="NO",1,0) -> 0 | AQ21: =SUM(AP$10:AP21) -> 0 | AR21: =IF(AP21>0,AQ21,AQ21+0.1) -> 0.1 | AS21: =IF(S21="NO",C21,"") | AT21: =IF(S21="no",IF(B21="","",B21),"") | AV21: =IF(D21="",0,1) -> 0 | AW21: =SUM(AV$10:AV21) -> 0 | AX21: =IF(AV21>0,AW21,AW21+0.1) -> 0.1 | AY21: =IF(AV21=0,"",IF(C21="","",C21)) | AZ21: =IF(AV21=0,"",IF(B21="","",B21)) | BB21: =CONCATENATE(Y21,Z21,AB21,AC21,AD21,AE21,AF21,AG21,AH21,AI21,AJ21,AK21,AL21) | BC21: =BB21 | BD21: =IF(N21="","",N21) | BG21: =IF(D21="","",Q21-$T$3) | BI21: 12x36 | BJ21: 520 | BK21: 5000 | BL21: 6400 | BM21: 0 | BN21: 6800 | BO21: 36 | BP21: Rectangular | BQ21: 2 | BR21: 1.14 | BY21: =IF(G21="","",IF(LEFT(G21,3)="304","_304SS",IF(LEFT(G21,3)="316","_316SS",G21))) | BZ21: =IF(E21="AVT3000","AV3000X",IF(E21="AVC5000","AVC5000X",IF(E21="H-AVT3000","H_AV3000",IF(E21="H-AVC5000","H_AVC5000","")))) | CB21: =IF(CD21="CageRack","AVC5000CR",BZ21) | CD21: =IF(D21="supply","supply",IF(D21="FH Exhaust","FHExhaust", IF(D21="GE","GE",IF(D21="Other Exhaust","OtherExhaust",IF(D21="Return","Return",IF(D21="Cage Rack","CageRack",IF(D21="Bio Safety Cab","BioSafetyCab",IF(D21="Canopy Ex","CanopyEx",IF(D21="Snorkel","Snorkel",IF(D21="Acid resistant","AcidRes","")))))))))) | CF21: =IF(D21="supply","supplyV",IF(D21="FH Exhaust","FHExhaustV",IF(D21="GE","GEV",IF(D21="Other Exhaust","OtherExhaustV",IF(D21="Return","ReturnV",IF(D21="Cage Rack","CageRackV",IF(D21="Bio Safety Cab","BioSafetyCabV",IF(D21="Canopy Ex","CanopyExV",IF(D21="Snorkel","SnorkelV",IF(D21="Acid resistant","AcidResV","")))))))))) | CH21: =IF(F21=6,"AL",IF(F21=8,"AL",(IF(F21=10,"AL",IF(F21=12,"AL",IF(F21=14,"AL",IF(F21="12x18","NOAL",IF(F21="12x24","NOAL",IF(F21="12x36","NOAL",IF(F21="12x48","NOAL","")))))))))) | CJ21: =IF(AND(D21="acid resistant",E21="AVC5000"),"AVC5000MC",IF(AND(D21="acid resistant",E21="AVT3000"),"AV3000MC",IF(E21="AVT3000","AV3000M",IF(E21="AVC5000","AVC5000M",IF(E21="H-AVT3000","H_AV3000M",IF(E21="H-AVC5000","H_AVC5000M","")))))) | CL21: =IF(CD21="CageRack","AVC5000CRM",CJ21) | CN21: =IF(G21="PFAcoated","NOSOPFA",IF(F21=6,"NOSO",IF(F21=8,"SO",(IF(F21=10,"SO",IF(F21=12,"SO",IF(F21=14,"SO",IF(F21="12x18","SO",IF(F21="12x24","SO",IF(F21="12x36","SO",IF(F21="12x48","SO",""))))))))))) | CP21: =IF(G21="","",IF(G21="PFACoated", "NOFL","FL")) | CR21: =IF(S21="YES","CTL",IF(S21="NO","NOCTL","")) | CT21: =IF(E21="H-AVT3000","H_AVT3A",IF(E21="AVT3000","AVT3A",IF(E21="H-AVC5000","AVCA",IF(E21="AVC5000","AVCA","")))) | CV21: =IF(E21="","",IF(E21="H-AVT3000","H_AVT3B",IF(E21="AVT3000","AVT3B",IF(E21="H-AVC5000","AVCB",IF(E21="AVC5000","AVCB"))))) | CX21: =IF(X21="YES",0,IF(X21="NO",1,"")) | CY21: =IF(X21="YES",1,IF(X21="NO",0,"")) | DA21: =IF(H21="","",VLOOKUP(H21,$BI$41:$BJ$47,2)) | DC21: =P21 -> 0 | DD21: =P21*$DD$6 -> 0 | DE21: =P21*$DE$6 -> 0 | DF21: =IF($N$2="CFM",(0.0026*(($DC21)/25)^2+0.0035*($DC21)/25-0.0047),IF($N$2="LPS",(0.0026*(($DD21)/25)^2+0.0035*($DD21)/25-0.0047),IF($N$2="CMH",(0.0026*(($DE21)/25)^2+0.0035*($DE21)/25-0.0047),""))) -> -0.0047 | DG21: =DF21*249 -> -1.1703 | DH21: =IF($N$2="CFM",(0.0017*(($DC21-50)/50)^2+0.0041*($DC21-50)/50+0.0056),IF($N$2="LPS",(0.0017*(($DD21-50)/50)^2+0.0041*($DD21-50)/50+0.0056),IF($N$2="CMH",(0.0017*(($DE21-50)/50)^2+0.0041*($DE21-50)/50+0.0056),""))) -> 0.0032 | DI21: =DH21*249 -> 0.7968 | DJ21: =IF($N$2="CFM",(0.0026*(($DC21)/100)^2+0.0012*($DC21)/100-0.0027),IF($N$2="LPS",(0.0026*(($DD21)/100)^2+0.0012*($DD21)/100-0.0027),IF($N$2="CMH",(0.0026*(($DE21)/100)^2+0.0012*($DE21)/100-0.0027),""))) -> -0.0027 | DK21: =DJ21*249 -> -0.6723 | DL21: =IF($N$2="CFM",(0.0056*(($DC21)/200)^2-0.0008*($DC21)/200+0.0012),IF($N$2="LPS",(0.0056*(($DD21)/200)^2-0.0008*($DD21)/200+0.0012),IF($N$2="CMH",(0.0056*(($DE21)/200)^2-0.0008*($DE21)/200+0.0012),""))) -> 0.0012 | DM21: =DL21*249 -> 0.2988 | DN21: =IF($N$2="CFM",(0.0062*(($DC21)/300)^2-0.0094*($DC21)/300+0.0146),IF($N$2="LPS",(0.0062*(($DD21)/300)^2-0.0094*($DD21)/300+0.0146),IF($N$2="CMH",(0.0062*(($DE21)/300)^2-0.0094*($DE21)/300+0.0146),""))) -> 0.0146 | DO21: =DN21*249 -> 3.6354 | DP21: =IF($N$2="CFM",(0.0058*((DC21)/400)^2+0.0106*(DC21)/400-0.013),IF($N$2="LPS",(0.0058*((DD21)/400)^2+0.0106*(DD21)/400-0.013),IF($N$2="CMH",(0.0058*((DE21)/400)^2+0.0106*(DE21)/400-0.013),""))) -> -0.013 | DQ21: =DP21*249 -> -3.237 | DR21: =IF($N$2="CFM",(0.0063*(($DC21)/500)^2+0.0066*($DC21)/500-0.0067),IF($N$2="LPS",(0.0063*(($DD21)/500)^2+0.0066*($DD21)/500-0.0067),IF($N$2="CMH",(0.0063*(($DE21)/500)^2+0.0066*($DE21)/500-0.0067),""))) -> -0.0067 | DS21: =DR21*249 -> -1.6683 | DT21: =IF($N$2="CFM",(0.0058*(($DC21)/800)^2+0.0106*($DC21)/800-0.013),IF($N$2="LPS",(0.0058*(($DD21)/800)^2+0.0106*($DD21)/800-0.013),IF($N$2="CMH",(0.0058*(($DE21)/800)^2+0.0106*($DE21)/800-0.013),""))) -> -0.013 | DU21: =DT21*249 -> -3.237 | DV21: =IF($N$2="CFM",(0.0063*(($DC21)/1000)^2+0.0066*($DC21)/1000-0.0067),IF($N$2="LPS",(0.0063*(($DD21)/1000)^2+0.0066*($DD21)/1000-0.0067),IF($N$2="CMH",(0.0063*(($DE21)/1000)^2+0.0066*($DE21)/1000-0.0067),""))) -> -0.0067 | DW21: =DV21*249 -> -1.6683
A22: 13 | Q22: =IF(P22=""," ",IF($N$3="in WC",IF(F22="","",IF(F22=6,DF22,IF(F22=8,DH22,IF(F22=10,DJ22,IF(F22=12,DL22,IF(F22=14,DN22,IF(F22="12x18",DP22,IF(F22="12x24",DR22,IF(F22="12x36",DT22,IF(F22="12x48",DV22)))))))))),IF(F22=6,DG22,IF(F22=8,DI22,IF(F22=10,DK22,IF(F22=12,DM22,IF(F22=14,DO22,IF(F22="12x18",DQ22,IF(F22="12x24",DS22,IF(F22="12x36",DU22,IF(F22="12x48",DW22))))))))))) | R22: =IF(F22="","",LOOKUP(F22,$BI$14:$BI$22,$BP$14:$BP$22)) | S22: =IF(RIGHT(E22,7)="AVT3000","No",IF(RIGHT(E22,7)="AVC5000","Yes","")) | T22: =IF(F22="","",IF($N$2="CFM",LOOKUP(F22,$BI$14:$BJ$22),IF($N$2="LPS", LOOKUP(F22,$BI$173:$BJ$181),IF($N$2="CMH",LOOKUP(F22,$BI$187:$BJ$195)," ")))) | U22: =IF(F22="","",IF($N$2="CFM",LOOKUP(F22,$BI$14:$BI$22,$BL$14:$BL$22),IF($N$2="LPS", LOOKUP(F22,$BI$173:$BI$181,$BL$173:$BL$181),IF($N$2="CMH",LOOKUP(F22,$BI$187:$BI$195,$BL$187:$BL$195)," ")))) | V22: =IF(F22="","",IF($N$2="CFM",LOOKUP(F22,$BI$14:$BI$22,$BM$14:$BM$22),IF($N$2="LPS", LOOKUP(F22,$BI$173:$BI$181,$BM$173:$BM$181),IF($N$2="CMH",LOOKUP(F22,$BI$187:$BI$195,$BM$187:$BM$195)," ")))) | W22: =IF(F22="","",IF($N$2="CFM",LOOKUP(F22,$BI$14:$BI$22,$BN$14:$BN$22),IF($N$2="LPS", LOOKUP(F22,$BI$173:$BI$181,$BN$173:$BN$181),IF($N$2="CMH",LOOKUP(F22,$BI$187:$BI$195,$BN$187:$BN$195)," ")))) | X22: =IF(RIGHT(E22,7)="AVT3000","No",IF(RIGHT(E22,7)="AVC5000","Yes","")) | Y22: =IF(LEFT(E22,1)="H","H-","") | Z22: =IF(RIGHT(E22,7)="AVT3000","AVT3",IF(RIGHT(E22,7)="AVC5000","AVC5","")) | AA22: =IF(RIGHT(E22,6)="AV3000","AV3",IF(RIGHT(E22,7)="AVC5000","AVC5","")) | AB22: =IF(F22="","",LOOKUP(F22,$BI$14:$BI$22,$BQ$14:$BQ$22)) | AC22: =IF(G22="","",LOOKUP(G22,$BI$31:$BJ$37)) | AD22: =IF(H22="","",LOOKUP(H22,$BI$41:$BJ$47)) | AE22: =IF(AF22="","","-") | AF22: =IF(F22="","",LOOKUP(F22,$BI$14:$BI$22,$BO$14:$BO$22)) | AG22: =IF(G22="","","-") | AH22: =IF(I22="AccuNet","A","") | AI22: =IF(J22="BACnet","B","") | AJ22: =IF(K22="Flanged","F","") | AK22: =IF(L22="Insulation","I","") | AL22: =IF(M22="Tight Shutoff","S","") | AP22: =IF(S22="NO",1,0) -> 0 | AQ22: =SUM(AP$10:AP22) -> 0 | AR22: =IF(AP22>0,AQ22,AQ22+0.1) -> 0.1 | AS22: =IF(S22="NO",C22,"") | AT22: =IF(S22="no",IF(B22="","",B22),"") | AV22: =IF(D22="",0,1) -> 0 | AW22: =SUM(AV$10:AV22) -> 0 | AX22: =IF(AV22>0,AW22,AW22+0.1) -> 0.1 | AY22: =IF(AV22=0,"",IF(C22="","",C22)) | AZ22: =IF(AV22=0,"",IF(B22="","",B22)) | BB22: =CONCATENATE(Y22,Z22,AB22,AC22,AD22,AE22,AF22,AG22,AH22,AI22,AJ22,AK22,AL22) | BC22: =BB22 | BD22: =IF(N22="","",N22) | BG22: =IF(D22="","",Q22-$T$3) | BI22: 12x48 | BJ22: 700 | BK22: 5400 | BL22: 8000 | BM22: 0 | BN22: 8400 | BO22: 48 | BP22: Rectangular | BQ22: 2 | BR22: 1.52 | BY22: =IF(G22="","",IF(LEFT(G22,3)="304","_304SS",IF(LEFT(G22,3)="316","_316SS",G22))) | BZ22: =IF(E22="AVT3000","AV3000X",IF(E22="AVC5000","AVC5000X",IF(E22="H-AVT3000","H_AV3000",IF(E22="H-AVC5000","H_AVC5000","")))) | CB22: =IF(CD22="CageRack","AVC5000CR",BZ22) | CD22: =IF(D22="supply","supply",IF(D22="FH Exhaust","FHExhaust", IF(D22="GE","GE",IF(D22="Other Exhaust","OtherExhaust",IF(D22="Return","Return",IF(D22="Cage Rack","CageRack",IF(D22="Bio Safety Cab","BioSafetyCab",IF(D22="Canopy Ex","CanopyEx",IF(D22="Snorkel","Snorkel",IF(D22="Acid resistant","AcidRes","")))))))))) | CF22: =IF(D22="supply","supplyV",IF(D22="FH Exhaust","FHExhaustV",IF(D22="GE","GEV",IF(D22="Other Exhaust","OtherExhaustV",IF(D22="Return","ReturnV",IF(D22="Cage Rack","CageRackV",IF(D22="Bio Safety Cab","BioSafetyCabV",IF(D22="Canopy Ex","CanopyExV",IF(D22="Snorkel","SnorkelV",IF(D22="Acid resistant","AcidResV","")))))))))) | CH22: =IF(F22=6,"AL",IF(F22=8,"AL",(IF(F22=10,"AL",IF(F22=12,"AL",IF(F22=14,"AL",IF(F22="12x18","NOAL",IF(F22="12x24","NOAL",IF(F22="12x36","NOAL",IF(F22="12x48","NOAL","")))))))))) | CJ22: =IF(AND(D22="acid resistant",E22="AVC5000"),"AVC5000MC",IF(AND(D22="acid resistant",E22="AVT3000"),"AV3000MC",IF(E22="AVT3000","AV3000M",IF(E22="AVC5000","AVC5000M",IF(E22="H-AVT3000","H_AV3000M",IF(E22="H-AVC5000","H_AVC5000M","")))))) | CL22: =IF(CD22="CageRack","AVC5000CRM",CJ22) | CN22: =IF(G22="PFAcoated","NOSOPFA",IF(F22=6,"NOSO",IF(F22=8,"SO",(IF(F22=10,"SO",IF(F22=12,"SO",IF(F22=14,"SO",IF(F22="12x18","SO",IF(F22="12x24","SO",IF(F22="12x36","SO",IF(F22="12x48","SO",""))))))))))) | CP22: =IF(G22="","",IF(G22="PFACoated", "NOFL","FL")) | CR22: =IF(S22="YES","CTL",IF(S22="NO","NOCTL","")) | CT22: =IF(E22="H-AVT3000","H_AVT3A",IF(E22="AVT3000","AVT3A",IF(E22="H-AVC5000","AVCA",IF(E22="AVC5000","AVCA","")))) | CV22: =IF(E22="","",IF(E22="H-AVT3000","H_AVT3B",IF(E22="AVT3000","AVT3B",IF(E22="H-AVC5000","AVCB",IF(E22="AVC5000","AVCB"))))) | CX22: =IF(X22="YES",0,IF(X22="NO",1,"")) | CY22: =IF(X22="YES",1,IF(X22="NO",0,"")) | DA22: =IF(H22="","",VLOOKUP(H22,$BI$41:$BJ$47,2)) | DC22: =P22 -> 0 | DD22: =P22*$DD$6 -> 0 | DE22: =P22*$DE$6 -> 0 | DF22: =IF($N$2="CFM",(0.0026*(($DC22)/25)^2+0.0035*($DC22)/25-0.0047),IF($N$2="LPS",(0.0026*(($DD22)/25)^2+0.0035*($DD22)/25-0.0047),IF($N$2="CMH",(0.0026*(($DE22)/25)^2+0.0035*($DE22)/25-0.0047),""))) -> -0.0047 | DG22: =DF22*249 -> -1.1703 | DH22: =IF($N$2="CFM",(0.0017*(($DC22-50)/50)^2+0.0041*($DC22-50)/50+0.0056),IF($N$2="LPS",(0.0017*(($DD22-50)/50)^2+0.0041*($DD22-50)/50+0.0056),IF($N$2="CMH",(0.0017*(($DE22-50)/50)^2+0.0041*($DE22-50)/50+0.0056),""))) -> 0.0032 | DI22: =DH22*249 -> 0.7968 | DJ22: =IF($N$2="CFM",(0.0026*(($DC22)/100)^2+0.0012*($DC22)/100-0.0027),IF($N$2="LPS",(0.0026*(($DD22)/100)^2+0.0012*($DD22)/100-0.0027),IF($N$2="CMH",(0.0026*(($DE22)/100)^2+0.0012*($DE22)/100-0.0027),""))) -> -0.0027 | DK22: =DJ22*249 -> -0.6723 | DL22: =IF($N$2="CFM",(0.0056*(($DC22)/200)^2-0.0008*($DC22)/200+0.0012),IF($N$2="LPS",(0.0056*(($DD22)/200)^2-0.0008*($DD22)/200+0.0012),IF($N$2="CMH",(0.0056*(($DE22)/200)^2-0.0008*($DE22)/200+0.0012),""))) -> 0.0012 | DM22: =DL22*249 -> 0.2988 | DN22: =IF($N$2="CFM",(0.0062*(($DC22)/300)^2-0.0094*($DC22)/300+0.0146),IF($N$2="LPS",(0.0062*(($DD22)/300)^2-0.0094*($DD22)/300+0.0146),IF($N$2="CMH",(0.0062*(($DE22)/300)^2-0.0094*($DE22)/300+0.0146),""))) -> 0.0146 | DO22: =DN22*249 -> 3.6354 | DP22: =IF($N$2="CFM",(0.0058*((DC22)/400)^2+0.0106*(DC22)/400-0.013),IF($N$2="LPS",(0.0058*((DD22)/400)^2+0.0106*(DD22)/400-0.013),IF($N$2="CMH",(0.0058*((DE22)/400)^2+0.0106*(DE22)/400-0.013),""))) -> -0.013 | DQ22: =DP22*249 -> -3.237 | DR22: =IF($N$2="CFM",(0.0063*(($DC22)/500)^2+0.0066*($DC22)/500-0.0067),IF($N$2="LPS",(0.0063*(($DD22)/500)^2+0.0066*($DD22)/500-0.0067),IF($N$2="CMH",(0.0063*(($DE22)/500)^2+0.0066*($DE22)/500-0.0067),""))) -> -0.0067 | DS22: =DR22*249 -> -1.6683 | DT22: =IF($N$2="CFM",(0.0058*(($DC22)/800)^2+0.0106*($DC22)/800-0.013),IF($N$2="LPS",(0.0058*(($DD22)/800)^2+0.0106*($DD22)/800-0.013),IF($N$2="CMH",(0.0058*(($DE22)/800)^2+0.0106*($DE22)/800-0.013),""))) -> -0.013 | DU22: =DT22*249 -> -3.237 | DV22: =IF($N$2="CFM",(0.0063*(($DC22)/1000)^2+0.0066*($DC22)/1000-0.0067),IF($N$2="LPS",(0.0063*(($DD22)/1000)^2+0.0066*($DD22)/1000-0.0067),IF($N$2="CMH",(0.0063*(($DE22)/1000)^2+0.0066*($DE22)/1000-0.0067),""))) -> -0.0067 | DW22: =DV22*249 -> -1.6683
A23: 14 | Q23: =IF(P23=""," ",IF($N$3="in WC",IF(F23="","",IF(F23=6,DF23,IF(F23=8,DH23,IF(F23=10,DJ23,IF(F23=12,DL23,IF(F23=14,DN23,IF(F23="12x18",DP23,IF(F23="12x24",DR23,IF(F23="12x36",DT23,IF(F23="12x48",DV23)))))))))),IF(F23=6,DG23,IF(F23=8,DI23,IF(F23=10,DK23,IF(F23=12,DM23,IF(F23=14,DO23,IF(F23="12x18",DQ23,IF(F23="12x24",DS23,IF(F23="12x36",DU23,IF(F23="12x48",DW23))))))))))) | R23: =IF(F23="","",LOOKUP(F23,$BI$14:$BI$22,$BP$14:$BP$22)) | S23: =IF(RIGHT(E23,7)="AVT3000","No",IF(RIGHT(E23,7)="AVC5000","Yes","")) | T23: =IF(F23="","",IF($N$2="CFM",LOOKUP(F23,$BI$14:$BJ$22),IF($N$2="LPS", LOOKUP(F23,$BI$173:$BJ$181),IF($N$2="CMH",LOOKUP(F23,$BI$187:$BJ$195)," ")))) | U23: =IF(F23="","",IF($N$2="CFM",LOOKUP(F23,$BI$14:$BI$22,$BL$14:$BL$22),IF($N$2="LPS", LOOKUP(F23,$BI$173:$BI$181,$BL$173:$BL$181),IF($N$2="CMH",LOOKUP(F23,$BI$187:$BI$195,$BL$187:$BL$195)," ")))) | V23: =IF(F23="","",IF($N$2="CFM",LOOKUP(F23,$BI$14:$BI$22,$BM$14:$BM$22),IF($N$2="LPS", LOOKUP(F23,$BI$173:$BI$181,$BM$173:$BM$181),IF($N$2="CMH",LOOKUP(F23,$BI$187:$BI$195,$BM$187:$BM$195)," ")))) | W23: =IF(F23="","",IF($N$2="CFM",LOOKUP(F23,$BI$14:$BI$22,$BN$14:$BN$22),IF($N$2="LPS", LOOKUP(F23,$BI$173:$BI$181,$BN$173:$BN$181),IF($N$2="CMH",LOOKUP(F23,$BI$187:$BI$195,$BN$187:$BN$195)," ")))) | X23: =IF(RIGHT(E23,7)="AVT3000","No",IF(RIGHT(E23,7)="AVC5000","Yes","")) | Y23: =IF(LEFT(E23,1)="H","H-","") | Z23: =IF(RIGHT(E23,7)="AVT3000","AVT3",IF(RIGHT(E23,7)="AVC5000","AVC5","")) | AA23: =IF(RIGHT(E23,6)="AV3000","AV3",IF(RIGHT(E23,7)="AVC5000","AVC5","")) | AB23: =IF(F23="","",LOOKUP(F23,$BI$14:$BI$22,$BQ$14:$BQ$22)) | AC23: =IF(G23="","",LOOKUP(G23,$BI$31:$BJ$37)) | AD23: =IF(H23="","",LOOKUP(H23,$BI$41:$BJ$47)) | AE23: =IF(AF23="","","-") | AF23: =IF(F23="","",LOOKUP(F23,$BI$14:$BI$22,$BO$14:$BO$22)) | AG23: =IF(G23="","","-") | AH23: =IF(I23="AccuNet","A","") | AI23: =IF(J23="BACnet","B","") | AJ23: =IF(K23="Flanged","F","") | AK23: =IF(L23="Insulation","I","") | AL23: =IF(M23="Tight Shutoff","S","") | AP23: =IF(S23="NO",1,0) -> 0 | AQ23: =SUM(AP$10:AP23) -> 0 | AR23: =IF(AP23>0,AQ23,AQ23+0.1) -> 0.1 | AS23: =IF(S23="NO",C23,"") | AT23: =IF(S23="no",IF(B23="","",B23),"") | AV23: =IF(D23="",0,1) -> 0 | AW23: =SUM(AV$10:AV23) -> 0 | AX23: =IF(AV23>0,AW23,AW23+0.1) -> 0.1 | AY23: =IF(AV23=0,"",IF(C23="","",C23)) | AZ23: =IF(AV23=0,"",IF(B23="","",B23)) | BB23: =CONCATENATE(Y23,Z23,AB23,AC23,AD23,AE23,AF23,AG23,AH23,AI23,AJ23,AK23,AL23) | BC23: =BB23 | BD23: =IF(N23="","",N23) | BG23: =IF(D23="","",Q23-$T$3) | BY23: =IF(G23="","",IF(LEFT(G23,3)="304","_304SS",IF(LEFT(G23,3)="316","_316SS",G23))) | BZ23: =IF(E23="AVT3000","AV3000X",IF(E23="AVC5000","AVC5000X",IF(E23="H-AVT3000","H_AV3000",IF(E23="H-AVC5000","H_AVC5000","")))) | CB23: =IF(CD23="CageRack","AVC5000CR",BZ23) | CD23: =IF(D23="supply","supply",IF(D23="FH Exhaust","FHExhaust", IF(D23="GE","GE",IF(D23="Other Exhaust","OtherExhaust",IF(D23="Return","Return",IF(D23="Cage Rack","CageRack",IF(D23="Bio Safety Cab","BioSafetyCab",IF(D23="Canopy Ex","CanopyEx",IF(D23="Snorkel","Snorkel",IF(D23="Acid resistant","AcidRes","")))))))))) | CF23: =IF(D23="supply","supplyV",IF(D23="FH Exhaust","FHExhaustV",IF(D23="GE","GEV",IF(D23="Other Exhaust","OtherExhaustV",IF(D23="Return","ReturnV",IF(D23="Cage Rack","CageRackV",IF(D23="Bio Safety Cab","BioSafetyCabV",IF(D23="Canopy Ex","CanopyExV",IF(D23="Snorkel","SnorkelV",IF(D23="Acid resistant","AcidResV","")))))))))) | CH23: =IF(F23=6,"AL",IF(F23=8,"AL",(IF(F23=10,"AL",IF(F23=12,"AL",IF(F23=14,"AL",IF(F23="12x18","NOAL",IF(F23="12x24","NOAL",IF(F23="12x36","NOAL",IF(F23="12x48","NOAL","")))))))))) | CJ23: =IF(AND(D23="acid resistant",E23="AVC5000"),"AVC5000MC",IF(AND(D23="acid resistant",E23="AVT3000"),"AV3000MC",IF(E23="AVT3000","AV3000M",IF(E23="AVC5000","AVC5000M",IF(E23="H-AVT3000","H_AV3000M",IF(E23="H-AVC5000","H_AVC5000M","")))))) | CL23: =IF(CD23="CageRack","AVC5000CRM",CJ23) | CN23: =IF(G23="PFAcoated","NOSOPFA",IF(F23=6,"NOSO",IF(F23=8,"SO",(IF(F23=10,"SO",IF(F23=12,"SO",IF(F23=14,"SO",IF(F23="12x18","SO",IF(F23="12x24","SO",IF(F23="12x36","SO",IF(F23="12x48","SO",""))))))))))) | CP23: =IF(G23="","",IF(G23="PFACoated", "NOFL","FL")) | CR23: =IF(S23="YES","CTL",IF(S23="NO","NOCTL","")) | CT23: =IF(E23="H-AVT3000","H_AVT3A",IF(E23="AVT3000","AVT3A",IF(E23="H-AVC5000","AVCA",IF(E23="AVC5000","AVCA","")))) | CV23: =IF(E23="","",IF(E23="H-AVT3000","H_AVT3B",IF(E23="AVT3000","AVT3B",IF(E23="H-AVC5000","AVCB",IF(E23="AVC5000","AVCB"))))) | CX23: =IF(S23="YES",0,IF(S23="NO",1,"")) | CY23: =IF(S23="YES",1,IF(S23="NO",0,"")) | DA23: =IF(H23="","",VLOOKUP(H23,$BI$41:$BJ$47,2)) | DC23: =P23 -> 0 | DD23: =P23*$DD$6 -> 0 | DE23: =P23*$DE$6 -> 0 | DF23: =IF($N$2="CFM",(0.0026*(($DC23)/25)^2+0.0035*($DC23)/25-0.0047),IF($N$2="LPS",(0.0026*(($DD23)/25)^2+0.0035*($DD23)/25-0.0047),IF($N$2="CMH",(0.0026*(($DE23)/25)^2+0.0035*($DE23)/25-0.0047),""))) -> -0.0047 | DG23: =DF23*249 -> -1.1703 | DH23: =IF($N$2="CFM",(0.0017*(($DC23-50)/50)^2+0.0041*($DC23-50)/50+0.0056),IF($N$2="LPS",(0.0017*(($DD23-50)/50)^2+0.0041*($DD23-50)/50+0.0056),IF($N$2="CMH",(0.0017*(($DE23-50)/50)^2+0.0041*($DE23-50)/50+0.0056),""))) -> 0.0032 | DI23: =DH23*249 -> 0.7968 | DJ23: =IF($N$2="CFM",(0.0026*(($DC23)/100)^2+0.0012*($DC23)/100-0.0027),IF($N$2="LPS",(0.0026*(($DD23)/100)^2+0.0012*($DD23)/100-0.0027),IF($N$2="CMH",(0.0026*(($DE23)/100)^2+0.0012*($DE23)/100-0.0027),""))) -> -0.0027 | DK23: =DJ23*249 -> -0.6723 | DL23: =IF($N$2="CFM",(0.0056*(($DC23)/200)^2-0.0008*($DC23)/200+0.0012),IF($N$2="LPS",(0.0056*(($DD23)/200)^2-0.0008*($DD23)/200+0.0012),IF($N$2="CMH",(0.0056*(($DE23)/200)^2-0.0008*($DE23)/200+0.0012),""))) -> 0.0012 | DM23: =DL23*249 -> 0.2988 | DN23: =IF($N$2="CFM",(0.0062*(($DC23)/300)^2-0.0094*($DC23)/300+0.0146),IF($N$2="LPS",(0.0062*(($DD23)/300)^2-0.0094*($DD23)/300+0.0146),IF($N$2="CMH",(0.0062*(($DE23)/300)^2-0.0094*($DE23)/300+0.0146),""))) -> 0.0146 | DO23: =DN23*249 -> 3.6354 | DP23: =IF($N$2="CFM",(0.0058*((DC23)/400)^2+0.0106*(DC23)/400-0.013),IF($N$2="LPS",(0.0058*((DD23)/400)^2+0.0106*(DD23)/400-0.013),IF($N$2="CMH",(0.0058*((DE23)/400)^2+0.0106*(DE23)/400-0.013),""))) -> -0.013 | DQ23: =DP23*249 -> -3.237 | DR23: =IF($N$2="CFM",(0.0063*(($DC23)/500)^2+0.0066*($DC23)/500-0.0067),IF($N$2="LPS",(0.0063*(($DD23)/500)^2+0.0066*($DD23)/500-0.0067),IF($N$2="CMH",(0.0063*(($DE23)/500)^2+0.0066*($DE23)/500-0.0067),""))) -> -0.0067 | DS23: =DR23*249 -> -1.6683 | DT23: =IF($N$2="CFM",(0.0058*(($DC23)/800)^2+0.0106*($DC23)/800-0.013),IF($N$2="LPS",(0.0058*(($DD23)/800)^2+0.0106*($DD23)/800-0.013),IF($N$2="CMH",(0.0058*(($DE23)/800)^2+0.0106*($DE23)/800-0.013),""))) -> -0.013 | DU23: =DT23*249 -> -3.237 | DV23: =IF($N$2="CFM",(0.0063*(($DC23)/1000)^2+0.0066*($DC23)/1000-0.0067),IF($N$2="LPS",(0.0063*(($DD23)/1000)^2+0.0066*($DD23)/1000-0.0067),IF($N$2="CMH",(0.0063*(($DE23)/1000)^2+0.0066*($DE23)/1000-0.0067),""))) -> -0.0067 | DW23: =DV23*249 -> -1.6683
A24: 15 | Q24: =IF(P24=""," ",IF($N$3="in WC",IF(F24="","",IF(F24=6,DF24,IF(F24=8,DH24,IF(F24=10,DJ24,IF(F24=12,DL24,IF(F24=14,DN24,IF(F24="12x18",DP24,IF(F24="12x24",DR24,IF(F24="12x36",DT24,IF(F24="12x48",DV24)))))))))),IF(F24=6,DG24,IF(F24=8,DI24,IF(F24=10,DK24,IF(F24=12,DM24,IF(F24=14,DO24,IF(F24="12x18",DQ24,IF(F24="12x24",DS24,IF(F24="12x36",DU24,IF(F24="12x48",DW24))))))))))) | R24: =IF(F24="","",LOOKUP(F24,$BI$14:$BI$22,$BP$14:$BP$22)) | S24: =IF(RIGHT(E24,7)="AVT3000","No",IF(RIGHT(E24,7)="AVC5000","Yes","")) | T24: =IF(F24="","",IF($N$2="CFM",LOOKUP(F24,$BI$14:$BJ$22),IF($N$2="LPS", LOOKUP(F24,$BI$173:$BJ$181),IF($N$2="CMH",LOOKUP(F24,$BI$187:$BJ$195)," ")))) | U24: =IF(F24="","",IF($N$2="CFM",LOOKUP(F24,$BI$14:$BI$22,$BL$14:$BL$22),IF($N$2="LPS", LOOKUP(F24,$BI$173:$BI$181,$BL$173:$BL$181),IF($N$2="CMH",LOOKUP(F24,$BI$187:$BI$195,$BL$187:$BL$195)," ")))) | V24: =IF(F24="","",IF($N$2="CFM",LOOKUP(F24,$BI$14:$BI$22,$BM$14:$BM$22),IF($N$2="LPS", LOOKUP(F24,$BI$173:$BI$181,$BM$173:$BM$181),IF($N$2="CMH",LOOKUP(F24,$BI$187:$BI$195,$BM$187:$BM$195)," ")))) | W24: =IF(F24="","",IF($N$2="CFM",LOOKUP(F24,$BI$14:$BI$22,$BN$14:$BN$22),IF($N$2="LPS", LOOKUP(F24,$BI$173:$BI$181,$BN$173:$BN$181),IF($N$2="CMH",LOOKUP(F24,$BI$187:$BI$195,$BN$187:$BN$195)," ")))) | X24: =IF(RIGHT(E24,7)="AVT3000","No",IF(RIGHT(E24,7)="AVC5000","Yes","")) | Y24: =IF(LEFT(E24,1)="H","H-","") | Z24: =IF(RIGHT(E24,7)="AVT3000","AVT3",IF(RIGHT(E24,7)="AVC5000","AVC5","")) | AA24: =IF(RIGHT(E24,6)="AV3000","AV3",IF(RIGHT(E24,7)="AVC5000","AVC5","")) | AB24: =IF(F24="","",LOOKUP(F24,$BI$14:$BI$22,$BQ$14:$BQ$22)) | AC24: =IF(G24="","",LOOKUP(G24,$BI$31:$BJ$37)) | AD24: =IF(H24="","",LOOKUP(H24,$BI$41:$BJ$47)) | AE24: =IF(AF24="","","-") | AF24: =IF(F24="","",LOOKUP(F24,$BI$14:$BI$22,$BO$14:$BO$22)) | AG24: =IF(G24="","","-") | AH24: =IF(I24="AccuNet","A","") | AI24: =IF(J24="BACnet","B","") | AJ24: =IF(K24="Flanged","F","") | AK24: =IF(L24="Insulation","I","") | AL24: =IF(M24="Tight Shutoff","S","") | AP24: =IF(S24="NO",1,0) -> 0 | AQ24: =SUM(AP$10:AP24) -> 0 | AR24: =IF(AP24>0,AQ24,AQ24+0.1) -> 0.1 | AS24: =IF(S24="NO",C24,"") | AT24: =IF(S24="no",IF(B24="","",B24),"") | AV24: =IF(D24="",0,1) -> 0 | AW24: =SUM(AV$10:AV24) -> 0 | AX24: =IF(AV24>0,AW24,AW24+0.1) -> 0.1 | AY24: =IF(AV24=0,"",IF(C24="","",C24)) | AZ24: =IF(AV24=0,"",IF(B24="","",B24)) | BB24: =CONCATENATE(Y24,Z24,AB24,AC24,AD24,AE24,AF24,AG24,AH24,AI24,AJ24,AK24,AL24) | BC24: =BB24 | BD24: =IF(N24="","",N24) | BG24: =IF(D24="","",Q24-$T$3) | BI24: Base Model | BL24: Indirect Fcn | BY24: =IF(G24="","",IF(LEFT(G24,3)="304","_304SS",IF(LEFT(G24,3)="316","_316SS",G24))) | BZ24: =IF(E24="AVT3000","AV3000X",IF(E24="AVC5000","AVC5000X",IF(E24="H-AVT3000","H_AV3000",IF(E24="H-AVC5000","H_AVC5000","")))) | CB24: =IF(CD24="CageRack","AVC5000CR",BZ24) | CD24: =IF(D24="supply","supply",IF(D24="FH Exhaust","FHExhaust", IF(D24="GE","GE",IF(D24="Other Exhaust","OtherExhaust",IF(D24="Return","Return",IF(D24="Cage Rack","CageRack",IF(D24="Bio Safety Cab","BioSafetyCab",IF(D24="Canopy Ex","CanopyEx",IF(D24="Snorkel","Snorkel",IF(D24="Acid resistant","AcidRes","")))))))))) | CF24: =IF(D24="supply","supplyV",IF(D24="FH Exhaust","FHExhaustV",IF(D24="GE","GEV",IF(D24="Other Exhaust","OtherExhaustV",IF(D24="Return","ReturnV",IF(D24="Cage Rack","CageRackV",IF(D24="Bio Safety Cab","BioSafetyCabV",IF(D24="Canopy Ex","CanopyExV",IF(D24="Snorkel","SnorkelV",IF(D24="Acid resistant","AcidResV","")))))))))) | CH24: =IF(F24=6,"AL",IF(F24=8,"AL",(IF(F24=10,"AL",IF(F24=12,"AL",IF(F24=14,"AL",IF(F24="12x18","NOAL",IF(F24="12x24","NOAL",IF(F24="12x36","NOAL",IF(F24="12x48","NOAL","")))))))))) | CJ24: =IF(AND(D24="acid resistant",E24="AVC5000"),"AVC5000MC",IF(AND(D24="acid resistant",E24="AVT3000"),"AV3000MC",IF(E24="AVT3000","AV3000M",IF(E24="AVC5000","AVC5000M",IF(E24="H-AVT3000","H_AV3000M",IF(E24="H-AVC5000","H_AVC5000M","")))))) | CL24: =IF(CD24="CageRack","AVC5000CRM",CJ24) | CN24: =IF(G24="PFAcoated","NOSOPFA",IF(F24=6,"NOSO",IF(F24=8,"SO",(IF(F24=10,"SO",IF(F24=12,"SO",IF(F24=14,"SO",IF(F24="12x18","SO",IF(F24="12x24","SO",IF(F24="12x36","SO",IF(F24="12x48","SO",""))))))))))) | CP24: =IF(G24="","",IF(G24="PFACoated", "NOFL","FL")) | CR24: =IF(S24="YES","CTL",IF(S24="NO","NOCTL","")) | CT24: =IF(E24="H-AVT3000","H_AVT3A",IF(E24="AVT3000","AVT3A",IF(E24="H-AVC5000","AVCA",IF(E24="AVC5000","AVCA","")))) | CV24: =IF(E24="","",IF(E24="H-AVT3000","H_AVT3B",IF(E24="AVT3000","AVT3B",IF(E24="H-AVC5000","AVCB",IF(E24="AVC5000","AVCB"))))) | CX24: =IF(S24="YES",0,IF(S24="NO",1,"")) | CY24: =IF(S24="YES",1,IF(S24="NO",0,"")) | DA24: =IF(H24="","",VLOOKUP(H24,$BI$41:$BJ$47,2)) | DC24: =P24 -> 0 | DD24: =P24*$DD$6 -> 0 | DE24: =P24*$DE$6 -> 0 | DF24: =IF($N$2="CFM",(0.0026*(($DC24)/25)^2+0.0035*($DC24)/25-0.0047),IF($N$2="LPS",(0.0026*(($DD24)/25)^2+0.0035*($DD24)/25-0.0047),IF($N$2="CMH",(0.0026*(($DE24)/25)^2+0.0035*($DE24)/25-0.0047),""))) -> -0.0047 | DG24: =DF24*249 -> -1.1703 | DH24: =IF($N$2="CFM",(0.0017*(($DC24-50)/50)^2+0.0041*($DC24-50)/50+0.0056),IF($N$2="LPS",(0.0017*(($DD24-50)/50)^2+0.0041*($DD24-50)/50+0.0056),IF($N$2="CMH",(0.0017*(($DE24-50)/50)^2+0.0041*($DE24-50)/50+0.0056),""))) -> 0.0032 | DI24: =DH24*249 -> 0.7968 | DJ24: =IF($N$2="CFM",(0.0026*(($DC24)/100)^2+0.0012*($DC24)/100-0.0027),IF($N$2="LPS",(0.0026*(($DD24)/100)^2+0.0012*($DD24)/100-0.0027),IF($N$2="CMH",(0.0026*(($DE24)/100)^2+0.0012*($DE24)/100-0.0027),""))) -> -0.0027 | DK24: =DJ24*249 -> -0.6723 | DL24: =IF($N$2="CFM",(0.0056*(($DC24)/200)^2-0.0008*($DC24)/200+0.0012),IF($N$2="LPS",(0.0056*(($DD24)/200)^2-0.0008*($DD24)/200+0.0012),IF($N$2="CMH",(0.0056*(($DE24)/200)^2-0.0008*($DE24)/200+0.0012),""))) -> 0.0012 | DM24: =DL24*249 -> 0.2988 | DN24: =IF($N$2="CFM",(0.0062*(($DC24)/300)^2-0.0094*($DC24)/300+0.0146),IF($N$2="LPS",(0.0062*(($DD24)/300)^2-0.0094*($DD24)/300+0.0146),IF($N$2="CMH",(0.0062*(($DE24)/300)^2-0.0094*($DE24)/300+0.0146),""))) -> 0.0146 | DO24: =DN24*249 -> 3.6354 | DP24: =IF($N$2="CFM",(0.0058*((DC24)/400)^2+0.0106*(DC24)/400-0.013),IF($N$2="LPS",(0.0058*((DD24)/400)^2+0.0106*(DD24)/400-0.013),IF($N$2="CMH",(0.0058*((DE24)/400)^2+0.0106*(DE24)/400-0.013),""))) -> -0.013 | DQ24: =DP24*249 -> -3.237 | DR24: =IF($N$2="CFM",(0.0063*(($DC24)/500)^2+0.0066*($DC24)/500-0.0067),IF($N$2="LPS",(0.0063*(($DD24)/500)^2+0.0066*($DD24)/500-0.0067),IF($N$2="CMH",(0.0063*(($DE24)/500)^2+0.0066*($DE24)/500-0.0067),""))) -> -0.0067 | DS24: =DR24*249 -> -1.6683 | DT24: =IF($N$2="CFM",(0.0058*(($DC24)/800)^2+0.0106*($DC24)/800-0.013),IF($N$2="LPS",(0.0058*(($DD24)/800)^2+0.0106*($DD24)/800-0.013),IF($N$2="CMH",(0.0058*(($DE24)/800)^2+0.0106*($DE24)/800-0.013),""))) -> -0.013 | DU24: =DT24*249 -> -3.237 | DV24: =IF($N$2="CFM",(0.0063*(($DC24)/1000)^2+0.0066*($DC24)/1000-0.0067),IF($N$2="LPS",(0.0063*(($DD24)/1000)^2+0.0066*($DD24)/1000-0.0067),IF($N$2="CMH",(0.0063*(($DE24)/1000)^2+0.0066*($DE24)/1000-0.0067),""))) -> -0.0067 | DW24: =DV24*249 -> -1.6683
A25: 16 | Q25: =IF(P25=""," ",IF($N$3="in WC",IF(F25="","",IF(F25=6,DF25,IF(F25=8,DH25,IF(F25=10,DJ25,IF(F25=12,DL25,IF(F25=14,DN25,IF(F25="12x18",DP25,IF(F25="12x24",DR25,IF(F25="12x36",DT25,IF(F25="12x48",DV25)))))))))),IF(F25=6,DG25,IF(F25=8,DI25,IF(F25=10,DK25,IF(F25=12,DM25,IF(F25=14,DO25,IF(F25="12x18",DQ25,IF(F25="12x24",DS25,IF(F25="12x36",DU25,IF(F25="12x48",DW25))))))))))) | R25: =IF(F25="","",LOOKUP(F25,$BI$14:$BI$22,$BP$14:$BP$22)) | S25: =IF(RIGHT(E25,7)="AVT3000","No",IF(RIGHT(E25,7)="AVC5000","Yes","")) | T25: =IF(F25="","",IF($N$2="CFM",LOOKUP(F25,$BI$14:$BJ$22),IF($N$2="LPS", LOOKUP(F25,$BI$173:$BJ$181),IF($N$2="CMH",LOOKUP(F25,$BI$187:$BJ$195)," ")))) | U25: =IF(F25="","",IF($N$2="CFM",LOOKUP(F25,$BI$14:$BI$22,$BL$14:$BL$22),IF($N$2="LPS", LOOKUP(F25,$BI$173:$BI$181,$BL$173:$BL$181),IF($N$2="CMH",LOOKUP(F25,$BI$187:$BI$195,$BL$187:$BL$195)," ")))) | V25: =IF(F25="","",IF($N$2="CFM",LOOKUP(F25,$BI$14:$BI$22,$BM$14:$BM$22),IF($N$2="LPS", LOOKUP(F25,$BI$173:$BI$181,$BM$173:$BM$181),IF($N$2="CMH",LOOKUP(F25,$BI$187:$BI$195,$BM$187:$BM$195)," ")))) | W25: =IF(F25="","",IF($N$2="CFM",LOOKUP(F25,$BI$14:$BI$22,$BN$14:$BN$22),IF($N$2="LPS", LOOKUP(F25,$BI$173:$BI$181,$BN$173:$BN$181),IF($N$2="CMH",LOOKUP(F25,$BI$187:$BI$195,$BN$187:$BN$195)," ")))) | X25: =IF(RIGHT(E25,7)="AVT3000","No",IF(RIGHT(E25,7)="AVC5000","Yes","")) | Y25: =IF(LEFT(E25,1)="H","H-","") | Z25: =IF(RIGHT(E25,7)="AVT3000","AVT3",IF(RIGHT(E25,7)="AVC5000","AVC5","")) | AA25: =IF(RIGHT(E25,6)="AV3000","AV3",IF(RIGHT(E25,7)="AVC5000","AVC5","")) | AB25: =IF(F25="","",LOOKUP(F25,$BI$14:$BI$22,$BQ$14:$BQ$22)) | AC25: =IF(G25="","",LOOKUP(G25,$BI$31:$BJ$37)) | AD25: =IF(H25="","",LOOKUP(H25,$BI$41:$BJ$47)) | AE25: =IF(AF25="","","-") | AF25: =IF(F25="","",LOOKUP(F25,$BI$14:$BI$22,$BO$14:$BO$22)) | AG25: =IF(G25="","","-") | AH25: =IF(I25="AccuNet","A","") | AI25: =IF(J25="BACnet","B","") | AJ25: =IF(K25="Flanged","F","") | AK25: =IF(L25="Insulation","I","") | AL25: =IF(M25="Tight Shutoff","S","") | AP25: =IF(S25="NO",1,0) -> 0 | AQ25: =SUM(AP$10:AP25) -> 0 | AR25: =IF(AP25>0,AQ25,AQ25+0.1) -> 0.1 | AS25: =IF(S25="NO",C25,"") | AT25: =IF(S25="no",IF(B25="","",B25),"") | AV25: =IF(D25="",0,1) -> 0 | AW25: =SUM(AV$10:AV25) -> 0 | AX25: =IF(AV25>0,AW25,AW25+0.1) -> 0.1 | AY25: =IF(AV25=0,"",IF(C25="","",C25)) | AZ25: =IF(AV25=0,"",IF(B25="","",B25)) | BB25: =CONCATENATE(Y25,Z25,AB25,AC25,AD25,AE25,AF25,AG25,AH25,AI25,AJ25,AK25,AL25) | BC25: =BB25 | BD25: =IF(N25="","",N25) | BG25: =IF(D25="","",Q25-$T$3) | BI25: Shape | BJ25: M/N | BL25: for Act. Sel | BN25: Indirect Fcn for Mat'l | BQ25: Indirect Fcn for Shutoff | BT25: SERVICE COUNT (SUPPLY, FH, GE, Other Exhaust) | BY25: =IF(G25="","",IF(LEFT(G25,3)="304","_304SS",IF(LEFT(G25,3)="316","_316SS",G25))) | BZ25: =IF(E25="AVT3000","AV3000X",IF(E25="AVC5000","AVC5000X",IF(E25="H-AVT3000","H_AV3000",IF(E25="H-AVC5000","H_AVC5000","")))) | CB25: =IF(CD25="CageRack","AVC5000CR",BZ25) | CD25: =IF(D25="supply","supply",IF(D25="FH Exhaust","FHExhaust", IF(D25="GE","GE",IF(D25="Other Exhaust","OtherExhaust",IF(D25="Return","Return",IF(D25="Cage Rack","CageRack",IF(D25="Bio Safety Cab","BioSafetyCab",IF(D25="Canopy Ex","CanopyEx",IF(D25="Snorkel","Snorkel",IF(D25="Acid resistant","AcidRes","")))))))))) | CF25: =IF(D25="supply","supplyV",IF(D25="FH Exhaust","FHExhaustV",IF(D25="GE","GEV",IF(D25="Other Exhaust","OtherExhaustV",IF(D25="Return","ReturnV",IF(D25="Cage Rack","CageRackV",IF(D25="Bio Safety Cab","BioSafetyCabV",IF(D25="Canopy Ex","CanopyExV",IF(D25="Snorkel","SnorkelV",IF(D25="Acid resistant","AcidResV","")))))))))) | CH25: =IF(F25=6,"AL",IF(F25=8,"AL",(IF(F25=10,"AL",IF(F25=12,"AL",IF(F25=14,"AL",IF(F25="12x18","NOAL",IF(F25="12x24","NOAL",IF(F25="12x36","NOAL",IF(F25="12x48","NOAL","")))))))))) | CJ25: =IF(AND(D25="acid resistant",E25="AVC5000"),"AVC5000MC",IF(AND(D25="acid resistant",E25="AVT3000"),"AV3000MC",IF(E25="AVT3000","AV3000M",IF(E25="AVC5000","AVC5000M",IF(E25="H-AVT3000","H_AV3000M",IF(E25="H-AVC5000","H_AVC5000M","")))))) | CL25: =IF(CD25="CageRack","AVC5000CRM",CJ25) | CN25: =IF(G25="PFAcoated","NOSOPFA",IF(F25=6,"NOSO",IF(F25=8,"SO",(IF(F25=10,"SO",IF(F25=12,"SO",IF(F25=14,"SO",IF(F25="12x18","SO",IF(F25="12x24","SO",IF(F25="12x36","SO",IF(F25="12x48","SO",""))))))))))) | CP25: =IF(G25="","",IF(G25="PFACoated", "NOFL","FL")) | CR25: =IF(S25="YES","CTL",IF(S25="NO","NOCTL","")) | CT25: =IF(E25="H-AVT3000","H_AVT3A",IF(E25="AVT3000","AVT3A",IF(E25="H-AVC5000","AVCA",IF(E25="AVC5000","AVCA","")))) | CV25: =IF(E25="","",IF(E25="H-AVT3000","H_AVT3B",IF(E25="AVT3000","AVT3B",IF(E25="H-AVC5000","AVCB",IF(E25="AVC5000","AVCB"))))) | CX25: =IF(S25="YES",0,IF(S25="NO",1,"")) | CY25: =IF(S25="YES",1,IF(S25="NO",0,"")) | DA25: =IF(H25="","",VLOOKUP(H25,$BI$41:$BJ$47,2)) | DC25: =P25 -> 0 | DD25: =P25*$DD$6 -> 0 | DE25: =P25*$DE$6 -> 0 | DF25: =IF($N$2="CFM",(0.0026*(($DC25)/25)^2+0.0035*($DC25)/25-0.0047),IF($N$2="LPS",(0.0026*(($DD25)/25)^2+0.0035*($DD25)/25-0.0047),IF($N$2="CMH",(0.0026*(($DE25)/25)^2+0.0035*($DE25)/25-0.0047),""))) -> -0.0047 | DG25: =DF25*249 -> -1.1703 | DH25: =IF($N$2="CFM",(0.0017*(($DC25-50)/50)^2+0.0041*($DC25-50)/50+0.0056),IF($N$2="LPS",(0.0017*(($DD25-50)/50)^2+0.0041*($DD25-50)/50+0.0056),IF($N$2="CMH",(0.0017*(($DE25-50)/50)^2+0.0041*($DE25-50)/50+0.0056),""))) -> 0.0032 | DI25: =DH25*249 -> 0.7968 | DJ25: =IF($N$2="CFM",(0.0026*(($DC25)/100)^2+0.0012*($DC25)/100-0.0027),IF($N$2="LPS",(0.0026*(($DD25)/100)^2+0.0012*($DD25)/100-0.0027),IF($N$2="CMH",(0.0026*(($DE25)/100)^2+0.0012*($DE25)/100-0.0027),""))) -> -0.0027 | DK25: =DJ25*249 -> -0.6723 | DL25: =IF($N$2="CFM",(0.0056*(($DC25)/200)^2-0.0008*($DC25)/200+0.0012),IF($N$2="LPS",(0.0056*(($DD25)/200)^2-0.0008*($DD25)/200+0.0012),IF($N$2="CMH",(0.0056*(($DE25)/200)^2-0.0008*($DE25)/200+0.0012),""))) -> 0.0012 | DM25: =DL25*249 -> 0.2988 | DN25: =IF($N$2="CFM",(0.0062*(($DC25)/300)^2-0.0094*($DC25)/300+0.0146),IF($N$2="LPS",(0.0062*(($DD25)/300)^2-0.0094*($DD25)/300+0.0146),IF($N$2="CMH",(0.0062*(($DE25)/300)^2-0.0094*($DE25)/300+0.0146),""))) -> 0.0146 | DO25: =DN25*249 -> 3.6354 | DP25: =IF($N$2="CFM",(0.0058*((DC25)/400)^2+0.0106*(DC25)/400-0.013),IF($N$2="LPS",(0.0058*((DD25)/400)^2+0.0106*(DD25)/400-0.013),IF($N$2="CMH",(0.0058*((DE25)/400)^2+0.0106*(DE25)/400-0.013),""))) -> -0.013 | DQ25: =DP25*249 -> -3.237 | DR25: =IF($N$2="CFM",(0.0063*(($DC25)/500)^2+0.0066*($DC25)/500-0.0067),IF($N$2="LPS",(0.0063*(($DD25)/500)^2+0.0066*($DD25)/500-0.0067),IF($N$2="CMH",(0.0063*(($DE25)/500)^2+0.0066*($DE25)/500-0.0067),""))) -> -0.0067 | DS25: =DR25*249 -> -1.6683 | DT25: =IF($N$2="CFM",(0.0058*(($DC25)/800)^2+0.0106*($DC25)/800-0.013),IF($N$2="LPS",(0.0058*(($DD25)/800)^2+0.0106*($DD25)/800-0.013),IF($N$2="CMH",(0.0058*(($DE25)/800)^2+0.0106*($DE25)/800-0.013),""))) -> -0.013 | DU25: =DT25*249 -> -3.237 | DV25: =IF($N$2="CFM",(0.0063*(($DC25)/1000)^2+0.0066*($DC25)/1000-0.0067),IF($N$2="LPS",(0.0063*(($DD25)/1000)^2+0.0066*($DD25)/1000-0.0067),IF($N$2="CMH",(0.0063*(($DE25)/1000)^2+0.0066*($DE25)/1000-0.0067),""))) -> -0.0067 | DW25: =DV25*249 -> -1.6683
A26: 17 | Q26: =IF(P26=""," ",IF($N$3="in WC",IF(F26="","",IF(F26=6,DF26,IF(F26=8,DH26,IF(F26=10,DJ26,IF(F26=12,DL26,IF(F26=14,DN26,IF(F26="12x18",DP26,IF(F26="12x24",DR26,IF(F26="12x36",DT26,IF(F26="12x48",DV26)))))))))),IF(F26=6,DG26,IF(F26=8,DI26,IF(F26=10,DK26,IF(F26=12,DM26,IF(F26=14,DO26,IF(F26="12x18",DQ26,IF(F26="12x24",DS26,IF(F26="12x36",DU26,IF(F26="12x48",DW26))))))))))) | R26: =IF(F26="","",LOOKUP(F26,$BI$14:$BI$22,$BP$14:$BP$22)) | S26: =IF(RIGHT(E26,7)="AVT3000","No",IF(RIGHT(E26,7)="AVC5000","Yes","")) | T26: =IF(F26="","",IF($N$2="CFM",LOOKUP(F26,$BI$14:$BJ$22),IF($N$2="LPS", LOOKUP(F26,$BI$173:$BJ$181),IF($N$2="CMH",LOOKUP(F26,$BI$187:$BJ$195)," ")))) | U26: =IF(F26="","",IF($N$2="CFM",LOOKUP(F26,$BI$14:$BI$22,$BL$14:$BL$22),IF($N$2="LPS", LOOKUP(F26,$BI$173:$BI$181,$BL$173:$BL$181),IF($N$2="CMH",LOOKUP(F26,$BI$187:$BI$195,$BL$187:$BL$195)," ")))) | V26: =IF(F26="","",IF($N$2="CFM",LOOKUP(F26,$BI$14:$BI$22,$BM$14:$BM$22),IF($N$2="LPS", LOOKUP(F26,$BI$173:$BI$181,$BM$173:$BM$181),IF($N$2="CMH",LOOKUP(F26,$BI$187:$BI$195,$BM$187:$BM$195)," ")))) | W26: =IF(F26="","",IF($N$2="CFM",LOOKUP(F26,$BI$14:$BI$22,$BN$14:$BN$22),IF($N$2="LPS", LOOKUP(F26,$BI$173:$BI$181,$BN$173:$BN$181),IF($N$2="CMH",LOOKUP(F26,$BI$187:$BI$195,$BN$187:$BN$195)," ")))) | X26: =IF(RIGHT(E26,7)="AVT3000","No",IF(RIGHT(E26,7)="AVC5000","Yes","")) | Y26: =IF(LEFT(E26,1)="H","H-","") | Z26: =IF(RIGHT(E26,7)="AVT3000","AVT3",IF(RIGHT(E26,7)="AVC5000","AVC5","")) | AA26: =IF(RIGHT(E26,6)="AV3000","AV3",IF(RIGHT(E26,7)="AVC5000","AVC5","")) | AB26: =IF(F26="","",LOOKUP(F26,$BI$14:$BI$22,$BQ$14:$BQ$22)) | AC26: =IF(G26="","",LOOKUP(G26,$BI$31:$BJ$37)) | AD26: =IF(H26="","",LOOKUP(H26,$BI$41:$BJ$47)) | AE26: =IF(AF26="","","-") | AF26: =IF(F26="","",LOOKUP(F26,$BI$14:$BI$22,$BO$14:$BO$22)) | AG26: =IF(G26="","","-") | AH26: =IF(I26="AccuNet","A","") | AI26: =IF(J26="BACnet","B","") | AJ26: =IF(K26="Flanged","F","") | AK26: =IF(L26="Insulation","I","") | AL26: =IF(M26="Tight Shutoff","S","") | AP26: =IF(S26="NO",1,0) -> 0 | AQ26: =SUM(AP$10:AP26) -> 0 | AR26: =IF(AP26>0,AQ26,AQ26+0.1) -> 0.1 | AS26: =IF(S26="NO",C26,"") | AT26: =IF(S26="no",IF(B26="","",B26),"") | AV26: =IF(D26="",0,1) -> 0 | AW26: =SUM(AV$10:AV26) -> 0 | AX26: =IF(AV26>0,AW26,AW26+0.1) -> 0.1 | AY26: =IF(AV26=0,"",IF(C26="","",C26)) | AZ26: =IF(AV26=0,"",IF(B26="","",B26)) | BB26: =CONCATENATE(Y26,Z26,AB26,AC26,AD26,AE26,AF26,AG26,AH26,AI26,AJ26,AK26,AL26) | BC26: =BB26 | BD26: =IF(N26="","",N26) | BG26: =IF(D26="","",Q26-$T$3) | BI26: Round | BJ26: 1 | BL26: ePI | BN26: NOAL | BO26: AL | BQ26: NOSO | BR26: SO | BY26: =IF(G26="","",IF(LEFT(G26,3)="304","_304SS",IF(LEFT(G26,3)="316","_316SS",G26))) | BZ26: =IF(E26="AVT3000","AV3000X",IF(E26="AVC5000","AVC5000X",IF(E26="H-AVT3000","H_AV3000",IF(E26="H-AVC5000","H_AVC5000","")))) | CB26: =IF(CD26="CageRack","AVC5000CR",BZ26) | CD26: =IF(D26="supply","supply",IF(D26="FH Exhaust","FHExhaust", IF(D26="GE","GE",IF(D26="Other Exhaust","OtherExhaust",IF(D26="Return","Return",IF(D26="Cage Rack","CageRack",IF(D26="Bio Safety Cab","BioSafetyCab",IF(D26="Canopy Ex","CanopyEx",IF(D26="Snorkel","Snorkel",IF(D26="Acid resistant","AcidRes","")))))))))) | CF26: =IF(D26="supply","supplyV",IF(D26="FH Exhaust","FHExhaustV",IF(D26="GE","GEV",IF(D26="Other Exhaust","OtherExhaustV",IF(D26="Return","ReturnV",IF(D26="Cage Rack","CageRackV",IF(D26="Bio Safety Cab","BioSafetyCabV",IF(D26="Canopy Ex","CanopyExV",IF(D26="Snorkel","SnorkelV",IF(D26="Acid resistant","AcidResV","")))))))))) | CH26: =IF(F26=6,"AL",IF(F26=8,"AL",(IF(F26=10,"AL",IF(F26=12,"AL",IF(F26=14,"AL",IF(F26="12x18","NOAL",IF(F26="12x24","NOAL",IF(F26="12x36","NOAL",IF(F26="12x48","NOAL","")))))))))) | CJ26: =IF(AND(D26="acid resistant",E26="AVC5000"),"AVC5000MC",IF(AND(D26="acid resistant",E26="AVT3000"),"AV3000MC",IF(E26="AVT3000","AV3000M",IF(E26="AVC5000","AVC5000M",IF(E26="H-AVT3000","H_AV3000M",IF(E26="H-AVC5000","H_AVC5000M","")))))) | CL26: =IF(CD26="CageRack","AVC5000CRM",CJ26) | CN26: =IF(G26="PFAcoated","NOSOPFA",IF(F26=6,"NOSO",IF(F26=8,"SO",(IF(F26=10,"SO",IF(F26=12,"SO",IF(F26=14,"SO",IF(F26="12x18","SO",IF(F26="12x24","SO",IF(F26="12x36","SO",IF(F26="12x48","SO",""))))))))))) | CP26: =IF(G26="","",IF(G26="PFACoated", "NOFL","FL")) | CR26: =IF(S26="YES","CTL",IF(S26="NO","NOCTL","")) | CT26: =IF(E26="H-AVT3000","H_AVT3A",IF(E26="AVT3000","AVT3A",IF(E26="H-AVC5000","AVCA",IF(E26="AVC5000","AVCA","")))) | CV26: =IF(E26="","",IF(E26="H-AVT3000","H_AVT3B",IF(E26="AVT3000","AVT3B",IF(E26="H-AVC5000","AVCB",IF(E26="AVC5000","AVCB"))))) | CX26: =IF(S26="YES",0,IF(S26="NO",1,"")) | CY26: =IF(S26="YES",1,IF(S26="NO",0,"")) | DA26: =IF(H26="","",VLOOKUP(H26,$BI$41:$BJ$47,2)) | DC26: =P26 -> 0 | DD26: =P26*$DD$6 -> 0 | DE26: =P26*$DE$6 -> 0 | DF26: =IF($N$2="CFM",(0.0026*(($DC26)/25)^2+0.0035*($DC26)/25-0.0047),IF($N$2="LPS",(0.0026*(($DD26)/25)^2+0.0035*($DD26)/25-0.0047),IF($N$2="CMH",(0.0026*(($DE26)/25)^2+0.0035*($DE26)/25-0.0047),""))) -> -0.0047 | DG26: =DF26*249 -> -1.1703 | DH26: =IF($N$2="CFM",(0.0017*(($DC26-50)/50)^2+0.0041*($DC26-50)/50+0.0056),IF($N$2="LPS",(0.0017*(($DD26-50)/50)^2+0.0041*($DD26-50)/50+0.0056),IF($N$2="CMH",(0.0017*(($DE26-50)/50)^2+0.0041*($DE26-50)/50+0.0056),""))) -> 0.0032 | DI26: =DH26*249 -> 0.7968 | DJ26: =IF($N$2="CFM",(0.0026*(($DC26)/100)^2+0.0012*($DC26)/100-0.0027),IF($N$2="LPS",(0.0026*(($DD26)/100)^2+0.0012*($DD26)/100-0.0027),IF($N$2="CMH",(0.0026*(($DE26)/100)^2+0.0012*($DE26)/100-0.0027),""))) -> -0.0027 | DK26: =DJ26*249 -> -0.6723 | DL26: =IF($N$2="CFM",(0.0056*(($DC26)/200)^2-0.0008*($DC26)/200+0.0012),IF($N$2="LPS",(0.0056*(($DD26)/200)^2-0.0008*($DD26)/200+0.0012),IF($N$2="CMH",(0.0056*(($DE26)/200)^2-0.0008*($DE26)/200+0.0012),""))) -> 0.0012 | DM26: =DL26*249 -> 0.2988 | DN26: =IF($N$2="CFM",(0.0062*(($DC26)/300)^2-0.0094*($DC26)/300+0.0146),IF($N$2="LPS",(0.0062*(($DD26)/300)^2-0.0094*($DD26)/300+0.0146),IF($N$2="CMH",(0.0062*(($DE26)/300)^2-0.0094*($DE26)/300+0.0146),""))) -> 0.0146 | DO26: =DN26*249 -> 3.6354 | DP26: =IF($N$2="CFM",(0.0058*((DC26)/400)^2+0.0106*(DC26)/400-0.013),IF($N$2="LPS",(0.0058*((DD26)/400)^2+0.0106*(DD26)/400-0.013),IF($N$2="CMH",(0.0058*((DE26)/400)^2+0.0106*(DE26)/400-0.013),""))) -> -0.013 | DQ26: =DP26*249 -> -3.237 | DR26: =IF($N$2="CFM",(0.0063*(($DC26)/500)^2+0.0066*($DC26)/500-0.0067),IF($N$2="LPS",(0.0063*(($DD26)/500)^2+0.0066*($DD26)/500-0.0067),IF($N$2="CMH",(0.0063*(($DE26)/500)^2+0.0066*($DE26)/500-0.0067),""))) -> -0.0067 | DS26: =DR26*249 -> -1.6683 | DT26: =IF($N$2="CFM",(0.0058*(($DC26)/800)^2+0.0106*($DC26)/800-0.013),IF($N$2="LPS",(0.0058*(($DD26)/800)^2+0.0106*($DD26)/800-0.013),IF($N$2="CMH",(0.0058*(($DE26)/800)^2+0.0106*($DE26)/800-0.013),""))) -> -0.013 | DU26: =DT26*249 -> -3.237 | DV26: =IF($N$2="CFM",(0.0063*(($DC26)/1000)^2+0.0066*($DC26)/1000-0.0067),IF($N$2="LPS",(0.0063*(($DD26)/1000)^2+0.0066*($DD26)/1000-0.0067),IF($N$2="CMH",(0.0063*(($DE26)/1000)^2+0.0066*($DE26)/1000-0.0067),""))) -> -0.0067 | DW26: =DV26*249 -> -1.6683
A27: 18 | Q27: =IF(P27=""," ",IF($N$3="in WC",IF(F27="","",IF(F27=6,DF27,IF(F27=8,DH27,IF(F27=10,DJ27,IF(F27=12,DL27,IF(F27=14,DN27,IF(F27="12x18",DP27,IF(F27="12x24",DR27,IF(F27="12x36",DT27,IF(F27="12x48",DV27)))))))))),IF(F27=6,DG27,IF(F27=8,DI27,IF(F27=10,DK27,IF(F27=12,DM27,IF(F27=14,DO27,IF(F27="12x18",DQ27,IF(F27="12x24",DS27,IF(F27="12x36",DU27,IF(F27="12x48",DW27))))))))))) | R27: =IF(F27="","",LOOKUP(F27,$BI$14:$BI$22,$BP$14:$BP$22)) | S27: =IF(RIGHT(E27,7)="AVT3000","No",IF(RIGHT(E27,7)="AVC5000","Yes","")) | T27: =IF(F27="","",IF($N$2="CFM",LOOKUP(F27,$BI$14:$BJ$22),IF($N$2="LPS", LOOKUP(F27,$BI$173:$BJ$181),IF($N$2="CMH",LOOKUP(F27,$BI$187:$BJ$195)," ")))) | U27: =IF(F27="","",IF($N$2="CFM",LOOKUP(F27,$BI$14:$BI$22,$BL$14:$BL$22),IF($N$2="LPS", LOOKUP(F27,$BI$173:$BI$181,$BL$173:$BL$181),IF($N$2="CMH",LOOKUP(F27,$BI$187:$BI$195,$BL$187:$BL$195)," ")))) | V27: =IF(F27="","",IF($N$2="CFM",LOOKUP(F27,$BI$14:$BI$22,$BM$14:$BM$22),IF($N$2="LPS", LOOKUP(F27,$BI$173:$BI$181,$BM$173:$BM$181),IF($N$2="CMH",LOOKUP(F27,$BI$187:$BI$195,$BM$187:$BM$195)," ")))) | W27: =IF(F27="","",IF($N$2="CFM",LOOKUP(F27,$BI$14:$BI$22,$BN$14:$BN$22),IF($N$2="LPS", LOOKUP(F27,$BI$173:$BI$181,$BN$173:$BN$181),IF($N$2="CMH",LOOKUP(F27,$BI$187:$BI$195,$BN$187:$BN$195)," ")))) | X27: =IF(RIGHT(E27,7)="AVT3000","No",IF(RIGHT(E27,7)="AVC5000","Yes","")) | Y27: =IF(LEFT(E27,1)="H","H-","") | Z27: =IF(RIGHT(E27,7)="AVT3000","AVT3",IF(RIGHT(E27,7)="AVC5000","AVC5","")) | AA27: =IF(RIGHT(E27,6)="AV3000","AV3",IF(RIGHT(E27,7)="AVC5000","AVC5","")) | AB27: =IF(F27="","",LOOKUP(F27,$BI$14:$BI$22,$BQ$14:$BQ$22)) | AC27: =IF(G27="","",LOOKUP(G27,$BI$31:$BJ$37)) | AD27: =IF(H27="","",LOOKUP(H27,$BI$41:$BJ$47)) | AE27: =IF(AF27="","","-") | AF27: =IF(F27="","",LOOKUP(F27,$BI$14:$BI$22,$BO$14:$BO$22)) | AG27: =IF(G27="","","-") | AH27: =IF(I27="AccuNet","A","") | AI27: =IF(J27="BACnet","B","") | AJ27: =IF(K27="Flanged","F","") | AK27: =IF(L27="Insulation","I","") | AL27: =IF(M27="Tight Shutoff","S","") | AP27: =IF(S27="NO",1,0) -> 0 | AQ27: =SUM(AP$10:AP27) -> 0 | AR27: =IF(AP27>0,AQ27,AQ27+0.1) -> 0.1 | AS27: =IF(S27="NO",C27,"") | AT27: =IF(S27="no",IF(B27="","",B27),"") | AV27: =IF(D27="",0,1) -> 0 | AW27: =SUM(AV$10:AV27) -> 0 | AX27: =IF(AV27>0,AW27,AW27+0.1) -> 0.1 | AY27: =IF(AV27=0,"",IF(C27="","",C27)) | AZ27: =IF(AV27=0,"",IF(B27="","",B27)) | BB27: =CONCATENATE(Y27,Z27,AB27,AC27,AD27,AE27,AF27,AG27,AH27,AI27,AJ27,AK27,AL27) | BC27: =BB27 | BD27: =IF(N27="","",N27) | BG27: =IF(D27="","",Q27-$T$3) | BI27: Rectangular | BJ27: 2 | BL27: Yes | BN27: Material | BO27: Material | BQ27: No Shutoff | BR27: Shutoff | BT27: =DCOUNTA(D$7:D$2021,D$7,BW27:BW28) -> 0 | BU27: SUPPLY | BW27: Service | BY27: =IF(G27="","",IF(LEFT(G27,3)="304","_304SS",IF(LEFT(G27,3)="316","_316SS",G27))) | BZ27: =IF(E27="AVT3000","AV3000X",IF(E27="AVC5000","AVC5000X",IF(E27="H-AVT3000","H_AV3000",IF(E27="H-AVC5000","H_AVC5000","")))) | CB27: =IF(CD27="CageRack","AVC5000CR",BZ27) | CD27: =IF(D27="supply","supply",IF(D27="FH Exhaust","FHExhaust", IF(D27="GE","GE",IF(D27="Other Exhaust","OtherExhaust",IF(D27="Return","Return",IF(D27="Cage Rack","CageRack",IF(D27="Bio Safety Cab","BioSafetyCab",IF(D27="Canopy Ex","CanopyEx",IF(D27="Snorkel","Snorkel",IF(D27="Acid resistant","AcidRes","")))))))))) | CF27: =IF(D27="supply","supplyV",IF(D27="FH Exhaust","FHExhaustV",IF(D27="GE","GEV",IF(D27="Other Exhaust","OtherExhaustV",IF(D27="Return","ReturnV",IF(D27="Cage Rack","CageRackV",IF(D27="Bio Safety Cab","BioSafetyCabV",IF(D27="Canopy Ex","CanopyExV",IF(D27="Snorkel","SnorkelV",IF(D27="Acid resistant","AcidResV","")))))))))) | CH27: =IF(F27=6,"AL",IF(F27=8,"AL",(IF(F27=10,"AL",IF(F27=12,"AL",IF(F27=14,"AL",IF(F27="12x18","NOAL",IF(F27="12x24","NOAL",IF(F27="12x36","NOAL",IF(F27="12x48","NOAL","")))))))))) | CJ27: =IF(AND(D27="acid resistant",E27="AVC5000"),"AVC5000MC",IF(AND(D27="acid resistant",E27="AVT3000"),"AV3000MC",IF(E27="AVT3000","AV3000M",IF(E27="AVC5000","AVC5000M",IF(E27="H-AVT3000","H_AV3000M",IF(E27="H-AVC5000","H_AVC5000M","")))))) | CL27: =IF(CD27="CageRack","AVC5000CRM",CJ27) | CN27: =IF(G27="PFAcoated","NOSOPFA",IF(F27=6,"NOSO",IF(F27=8,"SO",(IF(F27=10,"SO",IF(F27=12,"SO",IF(F27=14,"SO",IF(F27="12x18","SO",IF(F27="12x24","SO",IF(F27="12x36","SO",IF(F27="12x48","SO",""))))))))))) | CP27: =IF(G27="","",IF(G27="PFACoated", "NOFL","FL")) | CR27: =IF(S27="YES","CTL",IF(S27="NO","NOCTL","")) | CT27: =IF(E27="H-AVT3000","H_AVT3A",IF(E27="AVT3000","AVT3A",IF(E27="H-AVC5000","AVCA",IF(E27="AVC5000","AVCA","")))) | CV27: =IF(E27="","",IF(E27="H-AVT3000","H_AVT3B",IF(E27="AVT3000","AVT3B",IF(E27="H-AVC5000","AVCB",IF(E27="AVC5000","AVCB"))))) | CX27: =IF(S27="YES",0,IF(S27="NO",1,"")) | CY27: =IF(S27="YES",1,IF(S27="NO",0,"")) | DA27: =IF(H27="","",VLOOKUP(H27,$BI$41:$BJ$47,2)) | DC27: =P27 -> 0 | DD27: =P27*$DD$6 -> 0 | DE27: =P27*$DE$6 -> 0 | DF27: =IF($N$2="CFM",(0.0026*(($DC27)/25)^2+0.0035*($DC27)/25-0.0047),IF($N$2="LPS",(0.0026*(($DD27)/25)^2+0.0035*($DD27)/25-0.0047),IF($N$2="CMH",(0.0026*(($DE27)/25)^2+0.0035*($DE27)/25-0.0047),""))) -> -0.0047 | DG27: =DF27*249 -> -1.1703 | DH27: =IF($N$2="CFM",(0.0017*(($DC27-50)/50)^2+0.0041*($DC27-50)/50+0.0056),IF($N$2="LPS",(0.0017*(($DD27-50)/50)^2+0.0041*($DD27-50)/50+0.0056),IF($N$2="CMH",(0.0017*(($DE27-50)/50)^2+0.0041*($DE27-50)/50+0.0056),""))) -> 0.0032 | DI27: =DH27*249 -> 0.7968 | DJ27: =IF($N$2="CFM",(0.0026*(($DC27)/100)^2+0.0012*($DC27)/100-0.0027),IF($N$2="LPS",(0.0026*(($DD27)/100)^2+0.0012*($DD27)/100-0.0027),IF($N$2="CMH",(0.0026*(($DE27)/100)^2+0.0012*($DE27)/100-0.0027),""))) -> -0.0027 | DK27: =DJ27*249 -> -0.6723 | DL27: =IF($N$2="CFM",(0.0056*(($DC27)/200)^2-0.0008*($DC27)/200+0.0012),IF($N$2="LPS",(0.0056*(($DD27)/200)^2-0.0008*($DD27)/200+0.0012),IF($N$2="CMH",(0.0056*(($DE27)/200)^2-0.0008*($DE27)/200+0.0012),""))) -> 0.0012 | DM27: =DL27*249 -> 0.2988 | DN27: =IF($N$2="CFM",(0.0062*(($DC27)/300)^2-0.0094*($DC27)/300+0.0146),IF($N$2="LPS",(0.0062*(($DD27)/300)^2-0.0094*($DD27)/300+0.0146),IF($N$2="CMH",(0.0062*(($DE27)/300)^2-0.0094*($DE27)/300+0.0146),""))) -> 0.0146 | DO27: =DN27*249 -> 3.6354 | DP27: =IF($N$2="CFM",(0.0058*((DC27)/400)^2+0.0106*(DC27)/400-0.013),IF($N$2="LPS",(0.0058*((DD27)/400)^2+0.0106*(DD27)/400-0.013),IF($N$2="CMH",(0.0058*((DE27)/400)^2+0.0106*(DE27)/400-0.013),""))) -> -0.013 | DQ27: =DP27*249 -> -3.237 | DR27: =IF($N$2="CFM",(0.0063*(($DC27)/500)^2+0.0066*($DC27)/500-0.0067),IF($N$2="LPS",(0.0063*(($DD27)/500)^2+0.0066*($DD27)/500-0.0067),IF($N$2="CMH",(0.0063*(($DE27)/500)^2+0.0066*($DE27)/500-0.0067),""))) -> -0.0067 | DS27: =DR27*249 -> -1.6683 | DT27: =IF($N$2="CFM",(0.0058*(($DC27)/800)^2+0.0106*($DC27)/800-0.013),IF($N$2="LPS",(0.0058*(($DD27)/800)^2+0.0106*($DD27)/800-0.013),IF($N$2="CMH",(0.0058*(($DE27)/800)^2+0.0106*($DE27)/800-0.013),""))) -> -0.013 | DU27: =DT27*249 -> -3.237 | DV27: =IF($N$2="CFM",(0.0063*(($DC27)/1000)^2+0.0066*($DC27)/1000-0.0067),IF($N$2="LPS",(0.0063*(($DD27)/1000)^2+0.0066*($DD27)/1000-0.0067),IF($N$2="CMH",(0.0063*(($DE27)/1000)^2+0.0066*($DE27)/1000-0.0067),""))) -> -0.0067 | DW27: =DV27*249 -> -1.6683
A28: 19 | Q28: =IF(P28=""," ",IF($N$3="in WC",IF(F28="","",IF(F28=6,DF28,IF(F28=8,DH28,IF(F28=10,DJ28,IF(F28=12,DL28,IF(F28=14,DN28,IF(F28="12x18",DP28,IF(F28="12x24",DR28,IF(F28="12x36",DT28,IF(F28="12x48",DV28)))))))))),IF(F28=6,DG28,IF(F28=8,DI28,IF(F28=10,DK28,IF(F28=12,DM28,IF(F28=14,DO28,IF(F28="12x18",DQ28,IF(F28="12x24",DS28,IF(F28="12x36",DU28,IF(F28="12x48",DW28))))))))))) | R28: =IF(F28="","",LOOKUP(F28,$BI$14:$BI$22,$BP$14:$BP$22)) | S28: =IF(RIGHT(E28,7)="AVT3000","No",IF(RIGHT(E28,7)="AVC5000","Yes","")) | T28: =IF(F28="","",IF($N$2="CFM",LOOKUP(F28,$BI$14:$BJ$22),IF($N$2="LPS", LOOKUP(F28,$BI$173:$BJ$181),IF($N$2="CMH",LOOKUP(F28,$BI$187:$BJ$195)," ")))) | U28: =IF(F28="","",IF($N$2="CFM",LOOKUP(F28,$BI$14:$BI$22,$BL$14:$BL$22),IF($N$2="LPS", LOOKUP(F28,$BI$173:$BI$181,$BL$173:$BL$181),IF($N$2="CMH",LOOKUP(F28,$BI$187:$BI$195,$BL$187:$BL$195)," ")))) | V28: =IF(F28="","",IF($N$2="CFM",LOOKUP(F28,$BI$14:$BI$22,$BM$14:$BM$22),IF($N$2="LPS", LOOKUP(F28,$BI$173:$BI$181,$BM$173:$BM$181),IF($N$2="CMH",LOOKUP(F28,$BI$187:$BI$195,$BM$187:$BM$195)," ")))) | W28: =IF(F28="","",IF($N$2="CFM",LOOKUP(F28,$BI$14:$BI$22,$BN$14:$BN$22),IF($N$2="LPS", LOOKUP(F28,$BI$173:$BI$181,$BN$173:$BN$181),IF($N$2="CMH",LOOKUP(F28,$BI$187:$BI$195,$BN$187:$BN$195)," ")))) | X28: =IF(RIGHT(E28,7)="AVT3000","No",IF(RIGHT(E28,7)="AVC5000","Yes","")) | Y28: =IF(LEFT(E28,1)="H","H-","") | Z28: =IF(RIGHT(E28,7)="AVT3000","AVT3",IF(RIGHT(E28,7)="AVC5000","AVC5","")) | AA28: =IF(RIGHT(E28,6)="AV3000","AV3",IF(RIGHT(E28,7)="AVC5000","AVC5","")) | AB28: =IF(F28="","",LOOKUP(F28,$BI$14:$BI$22,$BQ$14:$BQ$22)) | AC28: =IF(G28="","",LOOKUP(G28,$BI$31:$BJ$37)) | AD28: =IF(H28="","",LOOKUP(H28,$BI$41:$BJ$47)) | AE28: =IF(AF28="","","-") | AF28: =IF(F28="","",LOOKUP(F28,$BI$14:$BI$22,$BO$14:$BO$22)) | AG28: =IF(G28="","","-") | AH28: =IF(I28="AccuNet","A","") | AI28: =IF(J28="BACnet","B","") | AJ28: =IF(K28="Flanged","F","") | AK28: =IF(L28="Insulation","I","") | AL28: =IF(M28="Tight Shutoff","S","") | AP28: =IF(S28="NO",1,0) -> 0 | AQ28: =SUM(AP$10:AP28) -> 0 | AR28: =IF(AP28>0,AQ28,AQ28+0.1) -> 0.1 | AS28: =IF(S28="NO",C28,"") | AT28: =IF(S28="no",IF(B28="","",B28),"") | AV28: =IF(D28="",0,1) -> 0 | AW28: =SUM(AV$10:AV28) -> 0 | AX28: =IF(AV28>0,AW28,AW28+0.1) -> 0.1 | AY28: =IF(AV28=0,"",IF(C28="","",C28)) | AZ28: =IF(AV28=0,"",IF(B28="","",B28)) | BB28: =CONCATENATE(Y28,Z28,AB28,AC28,AD28,AE28,AF28,AG28,AH28,AI28,AJ28,AK28,AL28) | BC28: =BB28 | BD28: =IF(N28="","",N28) | BG28: =IF(D28="","",Q28-$T$3) | BL28: No | BN28: 304SS | BO28: 304SS | BQ28: Included | BR28: Tight Shutoff | BW28: Supply | BY28: =IF(G28="","",IF(LEFT(G28,3)="304","_304SS",IF(LEFT(G28,3)="316","_316SS",G28))) | BZ28: =IF(E28="AVT3000","AV3000X",IF(E28="AVC5000","AVC5000X",IF(E28="H-AVT3000","H_AV3000",IF(E28="H-AVC5000","H_AVC5000","")))) | CB28: =IF(CD28="CageRack","AVC5000CR",BZ28) | CD28: =IF(D28="supply","supply",IF(D28="FH Exhaust","FHExhaust", IF(D28="GE","GE",IF(D28="Other Exhaust","OtherExhaust",IF(D28="Return","Return",IF(D28="Cage Rack","CageRack",IF(D28="Bio Safety Cab","BioSafetyCab",IF(D28="Canopy Ex","CanopyEx",IF(D28="Snorkel","Snorkel",IF(D28="Acid resistant","AcidRes","")))))))))) | CF28: =IF(D28="supply","supplyV",IF(D28="FH Exhaust","FHExhaustV",IF(D28="GE","GEV",IF(D28="Other Exhaust","OtherExhaustV",IF(D28="Return","ReturnV",IF(D28="Cage Rack","CageRackV",IF(D28="Bio Safety Cab","BioSafetyCabV",IF(D28="Canopy Ex","CanopyExV",IF(D28="Snorkel","SnorkelV",IF(D28="Acid resistant","AcidResV","")))))))))) | CH28: =IF(F28=6,"AL",IF(F28=8,"AL",(IF(F28=10,"AL",IF(F28=12,"AL",IF(F28=14,"AL",IF(F28="12x18","NOAL",IF(F28="12x24","NOAL",IF(F28="12x36","NOAL",IF(F28="12x48","NOAL","")))))))))) | CJ28: =IF(AND(D28="acid resistant",E28="AVC5000"),"AVC5000MC",IF(AND(D28="acid resistant",E28="AVT3000"),"AV3000MC",IF(E28="AVT3000","AV3000M",IF(E28="AVC5000","AVC5000M",IF(E28="H-AVT3000","H_AV3000M",IF(E28="H-AVC5000","H_AVC5000M","")))))) | CL28: =IF(CD28="CageRack","AVC5000CRM",CJ28) | CN28: =IF(G28="PFAcoated","NOSOPFA",IF(F28=6,"NOSO",IF(F28=8,"SO",(IF(F28=10,"SO",IF(F28=12,"SO",IF(F28=14,"SO",IF(F28="12x18","SO",IF(F28="12x24","SO",IF(F28="12x36","SO",IF(F28="12x48","SO",""))))))))))) | CP28: =IF(G28="","",IF(G28="PFACoated", "NOFL","FL")) | CR28: =IF(S28="YES","CTL",IF(S28="NO","NOCTL","")) | CT28: =IF(E28="H-AVT3000","H_AVT3A",IF(E28="AVT3000","AVT3A",IF(E28="H-AVC5000","AVCA",IF(E28="AVC5000","AVCA","")))) | CV28: =IF(E28="","",IF(E28="H-AVT3000","H_AVT3B",IF(E28="AVT3000","AVT3B",IF(E28="H-AVC5000","AVCB",IF(E28="AVC5000","AVCB"))))) | CX28: =IF(S28="YES",0,IF(S28="NO",1,"")) | CY28: =IF(S28="YES",1,IF(S28="NO",0,"")) | DA28: =IF(H28="","",VLOOKUP(H28,$BI$41:$BJ$47,2)) | DC28: =P28 -> 0 | DD28: =P28*$DD$6 -> 0 | DE28: =P28*$DE$6 -> 0 | DF28: =IF($N$2="CFM",(0.0026*(($DC28)/25)^2+0.0035*($DC28)/25-0.0047),IF($N$2="LPS",(0.0026*(($DD28)/25)^2+0.0035*($DD28)/25-0.0047),IF($N$2="CMH",(0.0026*(($DE28)/25)^2+0.0035*($DE28)/25-0.0047),""))) -> -0.0047 | DG28: =DF28*249 -> -1.1703 | DH28: =IF($N$2="CFM",(0.0017*(($DC28-50)/50)^2+0.0041*($DC28-50)/50+0.0056),IF($N$2="LPS",(0.0017*(($DD28-50)/50)^2+0.0041*($DD28-50)/50+0.0056),IF($N$2="CMH",(0.0017*(($DE28-50)/50)^2+0.0041*($DE28-50)/50+0.0056),""))) -> 0.0032 | DI28: =DH28*249 -> 0.7968 | DJ28: =IF($N$2="CFM",(0.0026*(($DC28)/100)^2+0.0012*($DC28)/100-0.0027),IF($N$2="LPS",(0.0026*(($DD28)/100)^2+0.0012*($DD28)/100-0.0027),IF($N$2="CMH",(0.0026*(($DE28)/100)^2+0.0012*($DE28)/100-0.0027),""))) -> -0.0027 | DK28: =DJ28*249 -> -0.6723 | DL28: =IF($N$2="CFM",(0.0056*(($DC28)/200)^2-0.0008*($DC28)/200+0.0012),IF($N$2="LPS",(0.0056*(($DD28)/200)^2-0.0008*($DD28)/200+0.0012),IF($N$2="CMH",(0.0056*(($DE28)/200)^2-0.0008*($DE28)/200+0.0012),""))) -> 0.0012 | DM28: =DL28*249 -> 0.2988 | DN28: =IF($N$2="CFM",(0.0062*(($DC28)/300)^2-0.0094*($DC28)/300+0.0146),IF($N$2="LPS",(0.0062*(($DD28)/300)^2-0.0094*($DD28)/300+0.0146),IF($N$2="CMH",(0.0062*(($DE28)/300)^2-0.0094*($DE28)/300+0.0146),""))) -> 0.0146 | DO28: =DN28*249 -> 3.6354 | DP28: =IF($N$2="CFM",(0.0058*((DC28)/400)^2+0.0106*(DC28)/400-0.013),IF($N$2="LPS",(0.0058*((DD28)/400)^2+0.0106*(DD28)/400-0.013),IF($N$2="CMH",(0.0058*((DE28)/400)^2+0.0106*(DE28)/400-0.013),""))) -> -0.013 | DQ28: =DP28*249 -> -3.237 | DR28: =IF($N$2="CFM",(0.0063*(($DC28)/500)^2+0.0066*($DC28)/500-0.0067),IF($N$2="LPS",(0.0063*(($DD28)/500)^2+0.0066*($DD28)/500-0.0067),IF($N$2="CMH",(0.0063*(($DE28)/500)^2+0.0066*($DE28)/500-0.0067),""))) -> -0.0067 | DS28: =DR28*249 -> -1.6683 | DT28: =IF($N$2="CFM",(0.0058*(($DC28)/800)^2+0.0106*($DC28)/800-0.013),IF($N$2="LPS",(0.0058*(($DD28)/800)^2+0.0106*($DD28)/800-0.013),IF($N$2="CMH",(0.0058*(($DE28)/800)^2+0.0106*($DE28)/800-0.013),""))) -> -0.013 | DU28: =DT28*249 -> -3.237 | DV28: =IF($N$2="CFM",(0.0063*(($DC28)/1000)^2+0.0066*($DC28)/1000-0.0067),IF($N$2="LPS",(0.0063*(($DD28)/1000)^2+0.0066*($DD28)/1000-0.0067),IF($N$2="CMH",(0.0063*(($DE28)/1000)^2+0.0066*($DE28)/1000-0.0067),""))) -> -0.0067 | DW28: =DV28*249 -> -1.6683
A29: 20 | Q29: =IF(P29=""," ",IF($N$3="in WC",IF(F29="","",IF(F29=6,DF29,IF(F29=8,DH29,IF(F29=10,DJ29,IF(F29=12,DL29,IF(F29=14,DN29,IF(F29="12x18",DP29,IF(F29="12x24",DR29,IF(F29="12x36",DT29,IF(F29="12x48",DV29)))))))))),IF(F29=6,DG29,IF(F29=8,DI29,IF(F29=10,DK29,IF(F29=12,DM29,IF(F29=14,DO29,IF(F29="12x18",DQ29,IF(F29="12x24",DS29,IF(F29="12x36",DU29,IF(F29="12x48",DW29))))))))))) | R29: =IF(F29="","",LOOKUP(F29,$BI$14:$BI$22,$BP$14:$BP$22)) | S29: =IF(RIGHT(E29,7)="AVT3000","No",IF(RIGHT(E29,7)="AVC5000","Yes","")) | T29: =IF(F29="","",IF($N$2="CFM",LOOKUP(F29,$BI$14:$BJ$22),IF($N$2="LPS", LOOKUP(F29,$BI$173:$BJ$181),IF($N$2="CMH",LOOKUP(F29,$BI$187:$BJ$195)," ")))) | U29: =IF(F29="","",IF($N$2="CFM",LOOKUP(F29,$BI$14:$BI$22,$BL$14:$BL$22),IF($N$2="LPS", LOOKUP(F29,$BI$173:$BI$181,$BL$173:$BL$181),IF($N$2="CMH",LOOKUP(F29,$BI$187:$BI$195,$BL$187:$BL$195)," ")))) | V29: =IF(F29="","",IF($N$2="CFM",LOOKUP(F29,$BI$14:$BI$22,$BM$14:$BM$22),IF($N$2="LPS", LOOKUP(F29,$BI$173:$BI$181,$BM$173:$BM$181),IF($N$2="CMH",LOOKUP(F29,$BI$187:$BI$195,$BM$187:$BM$195)," ")))) | W29: =IF(F29="","",IF($N$2="CFM",LOOKUP(F29,$BI$14:$BI$22,$BN$14:$BN$22),IF($N$2="LPS", LOOKUP(F29,$BI$173:$BI$181,$BN$173:$BN$181),IF($N$2="CMH",LOOKUP(F29,$BI$187:$BI$195,$BN$187:$BN$195)," ")))) | X29: =IF(RIGHT(E29,7)="AVT3000","No",IF(RIGHT(E29,7)="AVC5000","Yes","")) | Y29: =IF(LEFT(E29,1)="H","H-","") | Z29: =IF(RIGHT(E29,7)="AVT3000","AVT3",IF(RIGHT(E29,7)="AVC5000","AVC5","")) | AA29: =IF(RIGHT(E29,6)="AV3000","AV3",IF(RIGHT(E29,7)="AVC5000","AVC5","")) | AB29: =IF(F29="","",LOOKUP(F29,$BI$14:$BI$22,$BQ$14:$BQ$22)) | AC29: =IF(G29="","",LOOKUP(G29,$BI$31:$BJ$37)) | AD29: =IF(H29="","",LOOKUP(H29,$BI$41:$BJ$47)) | AE29: =IF(AF29="","","-") | AF29: =IF(F29="","",LOOKUP(F29,$BI$14:$BI$22,$BO$14:$BO$22)) | AG29: =IF(G29="","","-") | AH29: =IF(I29="AccuNet","A","") | AI29: =IF(J29="BACnet","B","") | AJ29: =IF(K29="Flanged","F","") | AK29: =IF(L29="Insulation","I","") | AL29: =IF(M29="Tight Shutoff","S","") | AP29: =IF(S29="NO",1,0) -> 0 | AQ29: =SUM(AP$10:AP29) -> 0 | AR29: =IF(AP29>0,AQ29,AQ29+0.1) -> 0.1 | AS29: =IF(S29="NO",C29,"") | AT29: =IF(S29="no",IF(B29="","",B29),"") | AV29: =IF(D29="",0,1) -> 0 | AW29: =SUM(AV$10:AV29) -> 0 | AX29: =IF(AV29>0,AW29,AW29+0.1) -> 0.1 | AY29: =IF(AV29=0,"",IF(C29="","",C29)) | AZ29: =IF(AV29=0,"",IF(B29="","",B29)) | BB29: =CONCATENATE(Y29,Z29,AB29,AC29,AD29,AE29,AF29,AG29,AH29,AI29,AJ29,AK29,AL29) | BC29: =BB29 | BD29: =IF(N29="","",N29) | BG29: =IF(D29="","",Q29-$T$3) | BI29: Material | BJ29: M/N | BN29: 316SS | BO29: 316SS | BQ29: NOSOPFA | BT29: =DCOUNTA(D$7:D$2021,D$7,BW29:BW30) -> 0 | BU29: FH Exhaust | BW29: Service | BY29: =IF(G29="","",IF(LEFT(G29,3)="304","_304SS",IF(LEFT(G29,3)="316","_316SS",G29))) | BZ29: =IF(E29="AVT3000","AV3000X",IF(E29="AVC5000","AVC5000X",IF(E29="H-AVT3000","H_AV3000",IF(E29="H-AVC5000","H_AVC5000","")))) | CB29: =IF(CD29="CageRack","AVC5000CR",BZ29) | CD29: =IF(D29="supply","supply",IF(D29="FH Exhaust","FHExhaust", IF(D29="GE","GE",IF(D29="Other Exhaust","OtherExhaust",IF(D29="Return","Return",IF(D29="Cage Rack","CageRack",IF(D29="Bio Safety Cab","BioSafetyCab",IF(D29="Canopy Ex","CanopyEx",IF(D29="Snorkel","Snorkel",IF(D29="Acid resistant","AcidRes","")))))))))) | CF29: =IF(D29="supply","supplyV",IF(D29="FH Exhaust","FHExhaustV",IF(D29="GE","GEV",IF(D29="Other Exhaust","OtherExhaustV",IF(D29="Return","ReturnV",IF(D29="Cage Rack","CageRackV",IF(D29="Bio Safety Cab","BioSafetyCabV",IF(D29="Canopy Ex","CanopyExV",IF(D29="Snorkel","SnorkelV",IF(D29="Acid resistant","AcidResV","")))))))))) | CH29: =IF(F29=6,"AL",IF(F29=8,"AL",(IF(F29=10,"AL",IF(F29=12,"AL",IF(F29=14,"AL",IF(F29="12x18","NOAL",IF(F29="12x24","NOAL",IF(F29="12x36","NOAL",IF(F29="12x48","NOAL","")))))))))) | CJ29: =IF(AND(D29="acid resistant",E29="AVC5000"),"AVC5000MC",IF(AND(D29="acid resistant",E29="AVT3000"),"AV3000MC",IF(E29="AVT3000","AV3000M",IF(E29="AVC5000","AVC5000M",IF(E29="H-AVT3000","H_AV3000M",IF(E29="H-AVC5000","H_AVC5000M","")))))) | CL29: =IF(CD29="CageRack","AVC5000CRM",CJ29) | CN29: =IF(G29="PFAcoated","NOSOPFA",IF(F29=6,"NOSO",IF(F29=8,"SO",(IF(F29=10,"SO",IF(F29=12,"SO",IF(F29=14,"SO",IF(F29="12x18","SO",IF(F29="12x24","SO",IF(F29="12x36","SO",IF(F29="12x48","SO",""))))))))))) | CP29: =IF(G29="","",IF(G29="PFACoated", "NOFL","FL")) | CR29: =IF(S29="YES","CTL",IF(S29="NO","NOCTL","")) | CT29: =IF(E29="H-AVT3000","H_AVT3A",IF(E29="AVT3000","AVT3A",IF(E29="H-AVC5000","AVCA",IF(E29="AVC5000","AVCA","")))) | CV29: =IF(E29="","",IF(E29="H-AVT3000","H_AVT3B",IF(E29="AVT3000","AVT3B",IF(E29="H-AVC5000","AVCB",IF(E29="AVC5000","AVCB"))))) | CX29: =IF(S29="YES",0,IF(S29="NO",1,"")) | CY29: =IF(S29="YES",1,IF(S29="NO",0,"")) | DA29: =IF(H29="","",VLOOKUP(H29,$BI$41:$BJ$47,2)) | DC29: =P29 -> 0 | DD29: =P29*$DD$6 -> 0 | DE29: =P29*$DE$6 -> 0 | DF29: =IF($N$2="CFM",(0.0026*(($DC29)/25)^2+0.0035*($DC29)/25-0.0047),IF($N$2="LPS",(0.0026*(($DD29)/25)^2+0.0035*($DD29)/25-0.0047),IF($N$2="CMH",(0.0026*(($DE29)/25)^2+0.0035*($DE29)/25-0.0047),""))) -> -0.0047 | DG29: =DF29*249 -> -1.1703 | DH29: =IF($N$2="CFM",(0.0017*(($DC29-50)/50)^2+0.0041*($DC29-50)/50+0.0056),IF($N$2="LPS",(0.0017*(($DD29-50)/50)^2+0.0041*($DD29-50)/50+0.0056),IF($N$2="CMH",(0.0017*(($DE29-50)/50)^2+0.0041*($DE29-50)/50+0.0056),""))) -> 0.0032 | DI29: =DH29*249 -> 0.7968 | DJ29: =IF($N$2="CFM",(0.0026*(($DC29)/100)^2+0.0012*($DC29)/100-0.0027),IF($N$2="LPS",(0.0026*(($DD29)/100)^2+0.0012*($DD29)/100-0.0027),IF($N$2="CMH",(0.0026*(($DE29)/100)^2+0.0012*($DE29)/100-0.0027),""))) -> -0.0027 | DK29: =DJ29*249 -> -0.6723 | DL29: =IF($N$2="CFM",(0.0056*(($DC29)/200)^2-0.0008*($DC29)/200+0.0012),IF($N$2="LPS",(0.0056*(($DD29)/200)^2-0.0008*($DD29)/200+0.0012),IF($N$2="CMH",(0.0056*(($DE29)/200)^2-0.0008*($DE29)/200+0.0012),""))) -> 0.0012 | DM29: =DL29*249 -> 0.2988 | DN29: =IF($N$2="CFM",(0.0062*(($DC29)/300)^2-0.0094*($DC29)/300+0.0146),IF($N$2="LPS",(0.0062*(($DD29)/300)^2-0.0094*($DD29)/300+0.0146),IF($N$2="CMH",(0.0062*(($DE29)/300)^2-0.0094*($DE29)/300+0.0146),""))) -> 0.0146 | DO29: =DN29*249 -> 3.6354 | DP29: =IF($N$2="CFM",(0.0058*((DC29)/400)^2+0.0106*(DC29)/400-0.013),IF($N$2="LPS",(0.0058*((DD29)/400)^2+0.0106*(DD29)/400-0.013),IF($N$2="CMH",(0.0058*((DE29)/400)^2+0.0106*(DE29)/400-0.013),""))) -> -0.013 | DQ29: =DP29*249 -> -3.237 | DR29: =IF($N$2="CFM",(0.0063*(($DC29)/500)^2+0.0066*($DC29)/500-0.0067),IF($N$2="LPS",(0.0063*(($DD29)/500)^2+0.0066*($DD29)/500-0.0067),IF($N$2="CMH",(0.0063*(($DE29)/500)^2+0.0066*($DE29)/500-0.0067),""))) -> -0.0067 | DS29: =DR29*249 -> -1.6683 | DT29: =IF($N$2="CFM",(0.0058*(($DC29)/800)^2+0.0106*($DC29)/800-0.013),IF($N$2="LPS",(0.0058*(($DD29)/800)^2+0.0106*($DD29)/800-0.013),IF($N$2="CMH",(0.0058*(($DE29)/800)^2+0.0106*($DE29)/800-0.013),""))) -> -0.013 | DU29: =DT29*249 -> -3.237 | DV29: =IF($N$2="CFM",(0.0063*(($DC29)/1000)^2+0.0066*($DC29)/1000-0.0067),IF($N$2="LPS",(0.0063*(($DD29)/1000)^2+0.0066*($DD29)/1000-0.0067),IF($N$2="CMH",(0.0063*(($DE29)/1000)^2+0.0066*($DE29)/1000-0.0067),""))) -> -0.0067 | DW29: =DV29*249 -> -1.6683
A30: 21 | Q30: =IF(P30=""," ",IF($N$3="in WC",IF(F30="","",IF(F30=6,DF30,IF(F30=8,DH30,IF(F30=10,DJ30,IF(F30=12,DL30,IF(F30=14,DN30,IF(F30="12x18",DP30,IF(F30="12x24",DR30,IF(F30="12x36",DT30,IF(F30="12x48",DV30)))))))))),IF(F30=6,DG30,IF(F30=8,DI30,IF(F30=10,DK30,IF(F30=12,DM30,IF(F30=14,DO30,IF(F30="12x18",DQ30,IF(F30="12x24",DS30,IF(F30="12x36",DU30,IF(F30="12x48",DW30))))))))))) | R30: =IF(F30="","",LOOKUP(F30,$BI$14:$BI$22,$BP$14:$BP$22)) | S30: =IF(RIGHT(E30,7)="AVT3000","No",IF(RIGHT(E30,7)="AVC5000","Yes","")) | T30: =IF(F30="","",IF($N$2="CFM",LOOKUP(F30,$BI$14:$BJ$22),IF($N$2="LPS", LOOKUP(F30,$BI$173:$BJ$181),IF($N$2="CMH",LOOKUP(F30,$BI$187:$BJ$195)," ")))) | U30: =IF(F30="","",IF($N$2="CFM",LOOKUP(F30,$BI$14:$BI$22,$BL$14:$BL$22),IF($N$2="LPS", LOOKUP(F30,$BI$173:$BI$181,$BL$173:$BL$181),IF($N$2="CMH",LOOKUP(F30,$BI$187:$BI$195,$BL$187:$BL$195)," ")))) | V30: =IF(F30="","",IF($N$2="CFM",LOOKUP(F30,$BI$14:$BI$22,$BM$14:$BM$22),IF($N$2="LPS", LOOKUP(F30,$BI$173:$BI$181,$BM$173:$BM$181),IF($N$2="CMH",LOOKUP(F30,$BI$187:$BI$195,$BM$187:$BM$195)," ")))) | W30: =IF(F30="","",IF($N$2="CFM",LOOKUP(F30,$BI$14:$BI$22,$BN$14:$BN$22),IF($N$2="LPS", LOOKUP(F30,$BI$173:$BI$181,$BN$173:$BN$181),IF($N$2="CMH",LOOKUP(F30,$BI$187:$BI$195,$BN$187:$BN$195)," ")))) | X30: =IF(RIGHT(E30,7)="AVT3000","No",IF(RIGHT(E30,7)="AVC5000","Yes","")) | Y30: =IF(LEFT(E30,1)="H","H-","") | Z30: =IF(RIGHT(E30,7)="AVT3000","AVT3",IF(RIGHT(E30,7)="AVC5000","AVC5","")) | AA30: =IF(RIGHT(E30,6)="AV3000","AV3",IF(RIGHT(E30,7)="AVC5000","AVC5","")) | AB30: =IF(F30="","",LOOKUP(F30,$BI$14:$BI$22,$BQ$14:$BQ$22)) | AC30: =IF(G30="","",LOOKUP(G30,$BI$31:$BJ$37)) | AD30: =IF(H30="","",LOOKUP(H30,$BI$41:$BJ$47)) | AE30: =IF(AF30="","","-") | AF30: =IF(F30="","",LOOKUP(F30,$BI$14:$BI$22,$BO$14:$BO$22)) | AG30: =IF(G30="","","-") | AH30: =IF(I30="AccuNet","A","") | AI30: =IF(J30="BACnet","B","") | AJ30: =IF(K30="Flanged","F","") | AK30: =IF(L30="Insulation","I","") | AL30: =IF(M30="Tight Shutoff","S","") | AP30: =IF(S30="NO",1,0) -> 0 | AQ30: =SUM(AP$10:AP30) -> 0 | AR30: =IF(AP30>0,AQ30,AQ30+0.1) -> 0.1 | AS30: =IF(S30="NO",C30,"") | AT30: =IF(S30="no",IF(B30="","",B30),"") | AV30: =IF(D30="",0,1) -> 0 | AW30: =SUM(AV$10:AV30) -> 0 | AX30: =IF(AV30>0,AW30,AW30+0.1) -> 0.1 | AY30: =IF(AV30=0,"",IF(C30="","",C30)) | AZ30: =IF(AV30=0,"",IF(B30="","",B30)) | BB30: =CONCATENATE(Y30,Z30,AB30,AC30,AD30,AE30,AF30,AG30,AH30,AI30,AJ30,AK30,AL30) | BC30: =BB30 | BD30: =IF(N30="","",N30) | BG30: =IF(D30="","",Q30-$T$3) | BI30: Galvanized | BJ30: 1 | BL30: Yes | BN30: Aluminum | BO30: Aluminum | BQ30: Not Available | BW30: FH Exhaust | BY30: =IF(G30="","",IF(LEFT(G30,3)="304","_304SS",IF(LEFT(G30,3)="316","_316SS",G30))) | BZ30: =IF(E30="AVT3000","AV3000X",IF(E30="AVC5000","AVC5000X",IF(E30="H-AVT3000","H_AV3000",IF(E30="H-AVC5000","H_AVC5000","")))) | CB30: =IF(CD30="CageRack","AVC5000CR",BZ30) | CD30: =IF(D30="supply","supply",IF(D30="FH Exhaust","FHExhaust", IF(D30="GE","GE",IF(D30="Other Exhaust","OtherExhaust",IF(D30="Return","Return",IF(D30="Cage Rack","CageRack",IF(D30="Bio Safety Cab","BioSafetyCab",IF(D30="Canopy Ex","CanopyEx",IF(D30="Snorkel","Snorkel",IF(D30="Acid resistant","AcidRes","")))))))))) | CF30: =IF(D30="supply","supplyV",IF(D30="FH Exhaust","FHExhaustV",IF(D30="GE","GEV",IF(D30="Other Exhaust","OtherExhaustV",IF(D30="Return","ReturnV",IF(D30="Cage Rack","CageRackV",IF(D30="Bio Safety Cab","BioSafetyCabV",IF(D30="Canopy Ex","CanopyExV",IF(D30="Snorkel","SnorkelV",IF(D30="Acid resistant","AcidResV","")))))))))) | CH30: =IF(F30=6,"AL",IF(F30=8,"AL",(IF(F30=10,"AL",IF(F30=12,"AL",IF(F30=14,"AL",IF(F30="12x18","NOAL",IF(F30="12x24","NOAL",IF(F30="12x36","NOAL",IF(F30="12x48","NOAL","")))))))))) | CJ30: =IF(AND(D30="acid resistant",E30="AVC5000"),"AVC5000MC",IF(AND(D30="acid resistant",E30="AVT3000"),"AV3000MC",IF(E30="AVT3000","AV3000M",IF(E30="AVC5000","AVC5000M",IF(E30="H-AVT3000","H_AV3000M",IF(E30="H-AVC5000","H_AVC5000M","")))))) | CL30: =IF(CD30="CageRack","AVC5000CRM",CJ30) | CN30: =IF(G30="PFAcoated","NOSOPFA",IF(F30=6,"NOSO",IF(F30=8,"SO",(IF(F30=10,"SO",IF(F30=12,"SO",IF(F30=14,"SO",IF(F30="12x18","SO",IF(F30="12x24","SO",IF(F30="12x36","SO",IF(F30="12x48","SO",""))))))))))) | CP30: =IF(G30="","",IF(G30="PFACoated", "NOFL","FL")) | CR30: =IF(S30="YES","CTL",IF(S30="NO","NOCTL","")) | CT30: =IF(E30="H-AVT3000","H_AVT3A",IF(E30="AVT3000","AVT3A",IF(E30="H-AVC5000","AVCA",IF(E30="AVC5000","AVCA","")))) | CV30: =IF(E30="","",IF(E30="H-AVT3000","H_AVT3B",IF(E30="AVT3000","AVT3B",IF(E30="H-AVC5000","AVCB",IF(E30="AVC5000","AVCB"))))) | CX30: =IF(S30="YES",0,IF(S30="NO",1,"")) | CY30: =IF(S30="YES",1,IF(S30="NO",0,"")) | DA30: =IF(H30="","",VLOOKUP(H30,$BI$41:$BJ$47,2)) | DC30: =P30 -> 0 | DD30: =P30*$DD$6 -> 0 | DE30: =P30*$DE$6 -> 0 | DF30: =IF($N$2="CFM",(0.0026*(($DC30)/25)^2+0.0035*($DC30)/25-0.0047),IF($N$2="LPS",(0.0026*(($DD30)/25)^2+0.0035*($DD30)/25-0.0047),IF($N$2="CMH",(0.0026*(($DE30)/25)^2+0.0035*($DE30)/25-0.0047),""))) -> -0.0047 | DG30: =DF30*249 -> -1.1703 | DH30: =IF($N$2="CFM",(0.0017*(($DC30-50)/50)^2+0.0041*($DC30-50)/50+0.0056),IF($N$2="LPS",(0.0017*(($DD30-50)/50)^2+0.0041*($DD30-50)/50+0.0056),IF($N$2="CMH",(0.0017*(($DE30-50)/50)^2+0.0041*($DE30-50)/50+0.0056),""))) -> 0.0032 | DI30: =DH30*249 -> 0.7968 | DJ30: =IF($N$2="CFM",(0.0026*(($DC30)/100)^2+0.0012*($DC30)/100-0.0027),IF($N$2="LPS",(0.0026*(($DD30)/100)^2+0.0012*($DD30)/100-0.0027),IF($N$2="CMH",(0.0026*(($DE30)/100)^2+0.0012*($DE30)/100-0.0027),""))) -> -0.0027 | DK30: =DJ30*249 -> -0.6723 | DL30: =IF($N$2="CFM",(0.0056*(($DC30)/200)^2-0.0008*($DC30)/200+0.0012),IF($N$2="LPS",(0.0056*(($DD30)/200)^2-0.0008*($DD30)/200+0.0012),IF($N$2="CMH",(0.0056*(($DE30)/200)^2-0.0008*($DE30)/200+0.0012),""))) -> 0.0012 | DM30: =DL30*249 -> 0.2988 | DN30: =IF($N$2="CFM",(0.0062*(($DC30)/300)^2-0.0094*($DC30)/300+0.0146),IF($N$2="LPS",(0.0062*(($DD30)/300)^2-0.0094*($DD30)/300+0.0146),IF($N$2="CMH",(0.0062*(($DE30)/300)^2-0.0094*($DE30)/300+0.0146),""))) -> 0.0146 | DO30: =DN30*249 -> 3.6354 | DP30: =IF($N$2="CFM",(0.0058*((DC30)/400)^2+0.0106*(DC30)/400-0.013),IF($N$2="LPS",(0.0058*((DD30)/400)^2+0.0106*(DD30)/400-0.013),IF($N$2="CMH",(0.0058*((DE30)/400)^2+0.0106*(DE30)/400-0.013),""))) -> -0.013 | DQ30: =DP30*249 -> -3.237 | DR30: =IF($N$2="CFM",(0.0063*(($DC30)/500)^2+0.0066*($DC30)/500-0.0067),IF($N$2="LPS",(0.0063*(($DD30)/500)^2+0.0066*($DD30)/500-0.0067),IF($N$2="CMH",(0.0063*(($DE30)/500)^2+0.0066*($DE30)/500-0.0067),""))) -> -0.0067 | DS30: =DR30*249 -> -1.6683 | DT30: =IF($N$2="CFM",(0.0058*(($DC30)/800)^2+0.0106*($DC30)/800-0.013),IF($N$2="LPS",(0.0058*(($DD30)/800)^2+0.0106*($DD30)/800-0.013),IF($N$2="CMH",(0.0058*(($DE30)/800)^2+0.0106*($DE30)/800-0.013),""))) -> -0.013 | DU30: =DT30*249 -> -3.237 | DV30: =IF($N$2="CFM",(0.0063*(($DC30)/1000)^2+0.0066*($DC30)/1000-0.0067),IF($N$2="LPS",(0.0063*(($DD30)/1000)^2+0.0066*($DD30)/1000-0.0067),IF($N$2="CMH",(0.0063*(($DE30)/1000)^2+0.0066*($DE30)/1000-0.0067),""))) -> -0.0067 | DW30: =DV30*249 -> -1.6683
A31: 22 | Q31: =IF(P31=""," ",IF($N$3="in WC",IF(F31="","",IF(F31=6,DF31,IF(F31=8,DH31,IF(F31=10,DJ31,IF(F31=12,DL31,IF(F31=14,DN31,IF(F31="12x18",DP31,IF(F31="12x24",DR31,IF(F31="12x36",DT31,IF(F31="12x48",DV31)))))))))),IF(F31=6,DG31,IF(F31=8,DI31,IF(F31=10,DK31,IF(F31=12,DM31,IF(F31=14,DO31,IF(F31="12x18",DQ31,IF(F31="12x24",DS31,IF(F31="12x36",DU31,IF(F31="12x48",DW31))))))))))) | R31: =IF(F31="","",LOOKUP(F31,$BI$14:$BI$22,$BP$14:$BP$22)) | S31: =IF(RIGHT(E31,7)="AVT3000","No",IF(RIGHT(E31,7)="AVC5000","Yes","")) | T31: =IF(F31="","",IF($N$2="CFM",LOOKUP(F31,$BI$14:$BJ$22),IF($N$2="LPS", LOOKUP(F31,$BI$173:$BJ$181),IF($N$2="CMH",LOOKUP(F31,$BI$187:$BJ$195)," ")))) | U31: =IF(F31="","",IF($N$2="CFM",LOOKUP(F31,$BI$14:$BI$22,$BL$14:$BL$22),IF($N$2="LPS", LOOKUP(F31,$BI$173:$BI$181,$BL$173:$BL$181),IF($N$2="CMH",LOOKUP(F31,$BI$187:$BI$195,$BL$187:$BL$195)," ")))) | V31: =IF(F31="","",IF($N$2="CFM",LOOKUP(F31,$BI$14:$BI$22,$BM$14:$BM$22),IF($N$2="LPS", LOOKUP(F31,$BI$173:$BI$181,$BM$173:$BM$181),IF($N$2="CMH",LOOKUP(F31,$BI$187:$BI$195,$BM$187:$BM$195)," ")))) | W31: =IF(F31="","",IF($N$2="CFM",LOOKUP(F31,$BI$14:$BI$22,$BN$14:$BN$22),IF($N$2="LPS", LOOKUP(F31,$BI$173:$BI$181,$BN$173:$BN$181),IF($N$2="CMH",LOOKUP(F31,$BI$187:$BI$195,$BN$187:$BN$195)," ")))) | X31: =IF(RIGHT(E31,7)="AVT3000","No",IF(RIGHT(E31,7)="AVC5000","Yes","")) | Y31: =IF(LEFT(E31,1)="H","H-","") | Z31: =IF(RIGHT(E31,7)="AVT3000","AVT3",IF(RIGHT(E31,7)="AVC5000","AVC5","")) | AA31: =IF(RIGHT(E31,6)="AV3000","AV3",IF(RIGHT(E31,7)="AVC5000","AVC5","")) | AB31: =IF(F31="","",LOOKUP(F31,$BI$14:$BI$22,$BQ$14:$BQ$22)) | AC31: =IF(G31="","",LOOKUP(G31,$BI$31:$BJ$37)) | AD31: =IF(H31="","",LOOKUP(H31,$BI$41:$BJ$47)) | AE31: =IF(AF31="","","-") | AF31: =IF(F31="","",LOOKUP(F31,$BI$14:$BI$22,$BO$14:$BO$22)) | AG31: =IF(G31="","","-") | AH31: =IF(I31="AccuNet","A","") | AI31: =IF(J31="BACnet","B","") | AJ31: =IF(K31="Flanged","F","") | AK31: =IF(L31="Insulation","I","") | AL31: =IF(M31="Tight Shutoff","S","") | AP31: =IF(S31="NO",1,0) -> 0 | AQ31: =SUM(AP$10:AP31) -> 0 | AR31: =IF(AP31>0,AQ31,AQ31+0.1) -> 0.1 | AS31: =IF(S31="NO",C31,"") | AT31: =IF(S31="no",IF(B31="","",B31),"") | AV31: =IF(D31="",0,1) -> 0 | AW31: =SUM(AV$10:AV31) -> 0 | AX31: =IF(AV31>0,AW31,AW31+0.1) -> 0.1 | AY31: =IF(AV31=0,"",IF(C31="","",C31)) | AZ31: =IF(AV31=0,"",IF(B31="","",B31)) | BB31: =CONCATENATE(Y31,Z31,AB31,AC31,AD31,AE31,AF31,AG31,AH31,AI31,AJ31,AK31,AL31) | BC31: =BB31 | BD31: =IF(N31="","",N31) | BG31: =IF(D31="","",Q31-$T$3) | BI31: 304SS | BJ31: 2 | BL31: HS FLP | BN31: Galvanized | BR31: All others | BT31: =DCOUNTA(D$7:D$2021,D$7,BW31:BW32) -> 0 | BU31: GE | BW31: Service | BY31: =IF(G31="","",IF(LEFT(G31,3)="304","_304SS",IF(LEFT(G31,3)="316","_316SS",G31))) | BZ31: =IF(E31="AVT3000","AV3000X",IF(E31="AVC5000","AVC5000X",IF(E31="H-AVT3000","H_AV3000",IF(E31="H-AVC5000","H_AVC5000","")))) | CB31: =IF(CD31="CageRack","AVC5000CR",BZ31) | CD31: =IF(D31="supply","supply",IF(D31="FH Exhaust","FHExhaust", IF(D31="GE","GE",IF(D31="Other Exhaust","OtherExhaust",IF(D31="Return","Return",IF(D31="Cage Rack","CageRack",IF(D31="Bio Safety Cab","BioSafetyCab",IF(D31="Canopy Ex","CanopyEx",IF(D31="Snorkel","Snorkel",IF(D31="Acid resistant","AcidRes","")))))))))) | CF31: =IF(D31="supply","supplyV",IF(D31="FH Exhaust","FHExhaustV",IF(D31="GE","GEV",IF(D31="Other Exhaust","OtherExhaustV",IF(D31="Return","ReturnV",IF(D31="Cage Rack","CageRackV",IF(D31="Bio Safety Cab","BioSafetyCabV",IF(D31="Canopy Ex","CanopyExV",IF(D31="Snorkel","SnorkelV",IF(D31="Acid resistant","AcidResV","")))))))))) | CH31: =IF(F31=6,"AL",IF(F31=8,"AL",(IF(F31=10,"AL",IF(F31=12,"AL",IF(F31=14,"AL",IF(F31="12x18","NOAL",IF(F31="12x24","NOAL",IF(F31="12x36","NOAL",IF(F31="12x48","NOAL","")))))))))) | CJ31: =IF(AND(D31="acid resistant",E31="AVC5000"),"AVC5000MC",IF(AND(D31="acid resistant",E31="AVT3000"),"AV3000MC",IF(E31="AVT3000","AV3000M",IF(E31="AVC5000","AVC5000M",IF(E31="H-AVT3000","H_AV3000M",IF(E31="H-AVC5000","H_AVC5000M","")))))) | CL31: =IF(CD31="CageRack","AVC5000CRM",CJ31) | CN31: =IF(G31="PFAcoated","NOSOPFA",IF(F31=6,"NOSO",IF(F31=8,"SO",(IF(F31=10,"SO",IF(F31=12,"SO",IF(F31=14,"SO",IF(F31="12x18","SO",IF(F31="12x24","SO",IF(F31="12x36","SO",IF(F31="12x48","SO",""))))))))))) | CP31: =IF(G31="","",IF(G31="PFACoated", "NOFL","FL")) | CR31: =IF(S31="YES","CTL",IF(S31="NO","NOCTL","")) | CT31: =IF(E31="H-AVT3000","H_AVT3A",IF(E31="AVT3000","AVT3A",IF(E31="H-AVC5000","AVCA",IF(E31="AVC5000","AVCA","")))) | CV31: =IF(E31="","",IF(E31="H-AVT3000","H_AVT3B",IF(E31="AVT3000","AVT3B",IF(E31="H-AVC5000","AVCB",IF(E31="AVC5000","AVCB"))))) | CX31: =IF(S31="YES",0,IF(S31="NO",1,"")) | CY31: =IF(S31="YES",1,IF(S31="NO",0,"")) | DA31: =IF(H31="","",VLOOKUP(H31,$BI$41:$BJ$47,2)) | DC31: =P31 -> 0 | DD31: =P31*$DD$6 -> 0 | DE31: =P31*$DE$6 -> 0 | DF31: =IF($N$2="CFM",(0.0026*(($DC31)/25)^2+0.0035*($DC31)/25-0.0047),IF($N$2="LPS",(0.0026*(($DD31)/25)^2+0.0035*($DD31)/25-0.0047),IF($N$2="CMH",(0.0026*(($DE31)/25)^2+0.0035*($DE31)/25-0.0047),""))) -> -0.0047 | DG31: =DF31*249 -> -1.1703 | DH31: =IF($N$2="CFM",(0.0017*(($DC31-50)/50)^2+0.0041*($DC31-50)/50+0.0056),IF($N$2="LPS",(0.0017*(($DD31-50)/50)^2+0.0041*($DD31-50)/50+0.0056),IF($N$2="CMH",(0.0017*(($DE31-50)/50)^2+0.0041*($DE31-50)/50+0.0056),""))) -> 0.0032 | DI31: =DH31*249 -> 0.7968 | DJ31: =IF($N$2="CFM",(0.0026*(($DC31)/100)^2+0.0012*($DC31)/100-0.0027),IF($N$2="LPS",(0.0026*(($DD31)/100)^2+0.0012*($DD31)/100-0.0027),IF($N$2="CMH",(0.0026*(($DE31)/100)^2+0.0012*($DE31)/100-0.0027),""))) -> -0.0027 | DK31: =DJ31*249 -> -0.6723 | DL31: =IF($N$2="CFM",(0.0056*(($DC31)/200)^2-0.0008*($DC31)/200+0.0012),IF($N$2="LPS",(0.0056*(($DD31)/200)^2-0.0008*($DD31)/200+0.0012),IF($N$2="CMH",(0.0056*(($DE31)/200)^2-0.0008*($DE31)/200+0.0012),""))) -> 0.0012 | DM31: =DL31*249 -> 0.2988 | DN31: =IF($N$2="CFM",(0.0062*(($DC31)/300)^2-0.0094*($DC31)/300+0.0146),IF($N$2="LPS",(0.0062*(($DD31)/300)^2-0.0094*($DD31)/300+0.0146),IF($N$2="CMH",(0.0062*(($DE31)/300)^2-0.0094*($DE31)/300+0.0146),""))) -> 0.0146 | DO31: =DN31*249 -> 3.6354 | DP31: =IF($N$2="CFM",(0.0058*((DC31)/400)^2+0.0106*(DC31)/400-0.013),IF($N$2="LPS",(0.0058*((DD31)/400)^2+0.0106*(DD31)/400-0.013),IF($N$2="CMH",(0.0058*((DE31)/400)^2+0.0106*(DE31)/400-0.013),""))) -> -0.013 | DQ31: =DP31*249 -> -3.237 | DR31: =IF($N$2="CFM",(0.0063*(($DC31)/500)^2+0.0066*($DC31)/500-0.0067),IF($N$2="LPS",(0.0063*(($DD31)/500)^2+0.0066*($DD31)/500-0.0067),IF($N$2="CMH",(0.0063*(($DE31)/500)^2+0.0066*($DE31)/500-0.0067),""))) -> -0.0067 | DS31: =DR31*249 -> -1.6683 | DT31: =IF($N$2="CFM",(0.0058*(($DC31)/800)^2+0.0106*($DC31)/800-0.013),IF($N$2="LPS",(0.0058*(($DD31)/800)^2+0.0106*($DD31)/800-0.013),IF($N$2="CMH",(0.0058*(($DE31)/800)^2+0.0106*($DE31)/800-0.013),""))) -> -0.013 | DU31: =DT31*249 -> -3.237 | DV31: =IF($N$2="CFM",(0.0063*(($DC31)/1000)^2+0.0066*($DC31)/1000-0.0067),IF($N$2="LPS",(0.0063*(($DD31)/1000)^2+0.0066*($DD31)/1000-0.0067),IF($N$2="CMH",(0.0063*(($DE31)/1000)^2+0.0066*($DE31)/1000-0.0067),""))) -> -0.0067 | DW31: =DV31*249 -> -1.6683
A32: 23 | Q32: =IF(P32=""," ",IF($N$3="in WC",IF(F32="","",IF(F32=6,DF32,IF(F32=8,DH32,IF(F32=10,DJ32,IF(F32=12,DL32,IF(F32=14,DN32,IF(F32="12x18",DP32,IF(F32="12x24",DR32,IF(F32="12x36",DT32,IF(F32="12x48",DV32)))))))))),IF(F32=6,DG32,IF(F32=8,DI32,IF(F32=10,DK32,IF(F32=12,DM32,IF(F32=14,DO32,IF(F32="12x18",DQ32,IF(F32="12x24",DS32,IF(F32="12x36",DU32,IF(F32="12x48",DW32))))))))))) | R32: =IF(F32="","",LOOKUP(F32,$BI$14:$BI$22,$BP$14:$BP$22)) | S32: =IF(RIGHT(E32,7)="AVT3000","No",IF(RIGHT(E32,7)="AVC5000","Yes","")) | T32: =IF(F32="","",IF($N$2="CFM",LOOKUP(F32,$BI$14:$BJ$22),IF($N$2="LPS", LOOKUP(F32,$BI$173:$BJ$181),IF($N$2="CMH",LOOKUP(F32,$BI$187:$BJ$195)," ")))) | U32: =IF(F32="","",IF($N$2="CFM",LOOKUP(F32,$BI$14:$BI$22,$BL$14:$BL$22),IF($N$2="LPS", LOOKUP(F32,$BI$173:$BI$181,$BL$173:$BL$181),IF($N$2="CMH",LOOKUP(F32,$BI$187:$BI$195,$BL$187:$BL$195)," ")))) | V32: =IF(F32="","",IF($N$2="CFM",LOOKUP(F32,$BI$14:$BI$22,$BM$14:$BM$22),IF($N$2="LPS", LOOKUP(F32,$BI$173:$BI$181,$BM$173:$BM$181),IF($N$2="CMH",LOOKUP(F32,$BI$187:$BI$195,$BM$187:$BM$195)," ")))) | W32: =IF(F32="","",IF($N$2="CFM",LOOKUP(F32,$BI$14:$BI$22,$BN$14:$BN$22),IF($N$2="LPS", LOOKUP(F32,$BI$173:$BI$181,$BN$173:$BN$181),IF($N$2="CMH",LOOKUP(F32,$BI$187:$BI$195,$BN$187:$BN$195)," ")))) | X32: =IF(RIGHT(E32,7)="AVT3000","No",IF(RIGHT(E32,7)="AVC5000","Yes","")) | Y32: =IF(LEFT(E32,1)="H","H-","") | Z32: =IF(RIGHT(E32,7)="AVT3000","AVT3",IF(RIGHT(E32,7)="AVC5000","AVC5","")) | AA32: =IF(RIGHT(E32,6)="AV3000","AV3",IF(RIGHT(E32,7)="AVC5000","AVC5","")) | AB32: =IF(F32="","",LOOKUP(F32,$BI$14:$BI$22,$BQ$14:$BQ$22)) | AC32: =IF(G32="","",LOOKUP(G32,$BI$31:$BJ$37)) | AD32: =IF(H32="","",LOOKUP(H32,$BI$41:$BJ$47)) | AE32: =IF(AF32="","","-") | AF32: =IF(F32="","",LOOKUP(F32,$BI$14:$BI$22,$BO$14:$BO$22)) | AG32: =IF(G32="","","-") | AH32: =IF(I32="AccuNet","A","") | AI32: =IF(J32="BACnet","B","") | AJ32: =IF(K32="Flanged","F","") | AK32: =IF(L32="Insulation","I","") | AL32: =IF(M32="Tight Shutoff","S","") | AP32: =IF(S32="NO",1,0) -> 0 | AQ32: =SUM(AP$10:AP32) -> 0 | AR32: =IF(AP32>0,AQ32,AQ32+0.1) -> 0.1 | AS32: =IF(S32="NO",C32,"") | AT32: =IF(S32="no",IF(B32="","",B32),"") | AV32: =IF(D32="",0,1) -> 0 | AW32: =SUM(AV$10:AV32) -> 0 | AX32: =IF(AV32>0,AW32,AW32+0.1) -> 0.1 | AY32: =IF(AV32=0,"",IF(C32="","",C32)) | AZ32: =IF(AV32=0,"",IF(B32="","",B32)) | BB32: =CONCATENATE(Y32,Z32,AB32,AC32,AD32,AE32,AF32,AG32,AH32,AI32,AJ32,AK32,AL32) | BC32: =BB32 | BD32: =IF(N32="","",N32) | BG32: =IF(D32="","",Q32-$T$3) | BI32: 316SS | BJ32: 3 | BL32: HS FSP | BN32: 18,24,36,48 | BO32: 6,8,10,12,14 | BW32: GE | BY32: =IF(G32="","",IF(LEFT(G32,3)="304","_304SS",IF(LEFT(G32,3)="316","_316SS",G32))) | BZ32: =IF(E32="AVT3000","AV3000X",IF(E32="AVC5000","AVC5000X",IF(E32="H-AVT3000","H_AV3000",IF(E32="H-AVC5000","H_AVC5000","")))) | CB32: =IF(CD32="CageRack","AVC5000CR",BZ32) | CD32: =IF(D32="supply","supply",IF(D32="FH Exhaust","FHExhaust", IF(D32="GE","GE",IF(D32="Other Exhaust","OtherExhaust",IF(D32="Return","Return",IF(D32="Cage Rack","CageRack",IF(D32="Bio Safety Cab","BioSafetyCab",IF(D32="Canopy Ex","CanopyEx",IF(D32="Snorkel","Snorkel",IF(D32="Acid resistant","AcidRes","")))))))))) | CF32: =IF(D32="supply","supplyV",IF(D32="FH Exhaust","FHExhaustV",IF(D32="GE","GEV",IF(D32="Other Exhaust","OtherExhaustV",IF(D32="Return","ReturnV",IF(D32="Cage Rack","CageRackV",IF(D32="Bio Safety Cab","BioSafetyCabV",IF(D32="Canopy Ex","CanopyExV",IF(D32="Snorkel","SnorkelV",IF(D32="Acid resistant","AcidResV","")))))))))) | CH32: =IF(F32=6,"AL",IF(F32=8,"AL",(IF(F32=10,"AL",IF(F32=12,"AL",IF(F32=14,"AL",IF(F32="12x18","NOAL",IF(F32="12x24","NOAL",IF(F32="12x36","NOAL",IF(F32="12x48","NOAL","")))))))))) | CJ32: =IF(AND(D32="acid resistant",E32="AVC5000"),"AVC5000MC",IF(AND(D32="acid resistant",E32="AVT3000"),"AV3000MC",IF(E32="AVT3000","AV3000M",IF(E32="AVC5000","AVC5000M",IF(E32="H-AVT3000","H_AV3000M",IF(E32="H-AVC5000","H_AVC5000M","")))))) | CL32: =IF(CD32="CageRack","AVC5000CRM",CJ32) | CN32: =IF(G32="PFAcoated","NOSOPFA",IF(F32=6,"NOSO",IF(F32=8,"SO",(IF(F32=10,"SO",IF(F32=12,"SO",IF(F32=14,"SO",IF(F32="12x18","SO",IF(F32="12x24","SO",IF(F32="12x36","SO",IF(F32="12x48","SO",""))))))))))) | CP32: =IF(G32="","",IF(G32="PFACoated", "NOFL","FL")) | CR32: =IF(S32="YES","CTL",IF(S32="NO","NOCTL","")) | CT32: =IF(E32="H-AVT3000","H_AVT3A",IF(E32="AVT3000","AVT3A",IF(E32="H-AVC5000","AVCA",IF(E32="AVC5000","AVCA","")))) | CV32: =IF(E32="","",IF(E32="H-AVT3000","H_AVT3B",IF(E32="AVT3000","AVT3B",IF(E32="H-AVC5000","AVCB",IF(E32="AVC5000","AVCB"))))) | CX32: =IF(S32="YES",0,IF(S32="NO",1,"")) | CY32: =IF(S32="YES",1,IF(S32="NO",0,"")) | DA32: =IF(H32="","",VLOOKUP(H32,$BI$41:$BJ$47,2)) | DC32: =P32 -> 0 | DD32: =P32*$DD$6 -> 0 | DE32: =P32*$DE$6 -> 0 | DF32: =IF($N$2="CFM",(0.0026*(($DC32)/25)^2+0.0035*($DC32)/25-0.0047),IF($N$2="LPS",(0.0026*(($DD32)/25)^2+0.0035*($DD32)/25-0.0047),IF($N$2="CMH",(0.0026*(($DE32)/25)^2+0.0035*($DE32)/25-0.0047),""))) -> -0.0047 | DG32: =DF32*249 -> -1.1703 | DH32: =IF($N$2="CFM",(0.0017*(($DC32-50)/50)^2+0.0041*($DC32-50)/50+0.0056),IF($N$2="LPS",(0.0017*(($DD32-50)/50)^2+0.0041*($DD32-50)/50+0.0056),IF($N$2="CMH",(0.0017*(($DE32-50)/50)^2+0.0041*($DE32-50)/50+0.0056),""))) -> 0.0032 | DI32: =DH32*249 -> 0.7968 | DJ32: =IF($N$2="CFM",(0.0026*(($DC32)/100)^2+0.0012*($DC32)/100-0.0027),IF($N$2="LPS",(0.0026*(($DD32)/100)^2+0.0012*($DD32)/100-0.0027),IF($N$2="CMH",(0.0026*(($DE32)/100)^2+0.0012*($DE32)/100-0.0027),""))) -> -0.0027 | DK32: =DJ32*249 -> -0.6723 | DL32: =IF($N$2="CFM",(0.0056*(($DC32)/200)^2-0.0008*($DC32)/200+0.0012),IF($N$2="LPS",(0.0056*(($DD32)/200)^2-0.0008*($DD32)/200+0.0012),IF($N$2="CMH",(0.0056*(($DE32)/200)^2-0.0008*($DE32)/200+0.0012),""))) -> 0.0012 | DM32: =DL32*249 -> 0.2988 | DN32: =IF($N$2="CFM",(0.0062*(($DC32)/300)^2-0.0094*($DC32)/300+0.0146),IF($N$2="LPS",(0.0062*(($DD32)/300)^2-0.0094*($DD32)/300+0.0146),IF($N$2="CMH",(0.0062*(($DE32)/300)^2-0.0094*($DE32)/300+0.0146),""))) -> 0.0146 | DO32: =DN32*249 -> 3.6354 | DP32: =IF($N$2="CFM",(0.0058*((DC32)/400)^2+0.0106*(DC32)/400-0.013),IF($N$2="LPS",(0.0058*((DD32)/400)^2+0.0106*(DD32)/400-0.013),IF($N$2="CMH",(0.0058*((DE32)/400)^2+0.0106*(DE32)/400-0.013),""))) -> -0.013 | DQ32: =DP32*249 -> -3.237 | DR32: =IF($N$2="CFM",(0.0063*(($DC32)/500)^2+0.0066*($DC32)/500-0.0067),IF($N$2="LPS",(0.0063*(($DD32)/500)^2+0.0066*($DD32)/500-0.0067),IF($N$2="CMH",(0.0063*(($DE32)/500)^2+0.0066*($DE32)/500-0.0067),""))) -> -0.0067 | DS32: =DR32*249 -> -1.6683 | DT32: =IF($N$2="CFM",(0.0058*(($DC32)/800)^2+0.0106*($DC32)/800-0.013),IF($N$2="LPS",(0.0058*(($DD32)/800)^2+0.0106*($DD32)/800-0.013),IF($N$2="CMH",(0.0058*(($DE32)/800)^2+0.0106*($DE32)/800-0.013),""))) -> -0.013 | DU32: =DT32*249 -> -3.237 | DV32: =IF($N$2="CFM",(0.0063*(($DC32)/1000)^2+0.0066*($DC32)/1000-0.0067),IF($N$2="LPS",(0.0063*(($DD32)/1000)^2+0.0066*($DD32)/1000-0.0067),IF($N$2="CMH",(0.0063*(($DE32)/1000)^2+0.0066*($DE32)/1000-0.0067),""))) -> -0.0067 | DW32: =DV32*249 -> -1.6683
A33: 24 | Q33: =IF(P33=""," ",IF($N$3="in WC",IF(F33="","",IF(F33=6,DF33,IF(F33=8,DH33,IF(F33=10,DJ33,IF(F33=12,DL33,IF(F33=14,DN33,IF(F33="12x18",DP33,IF(F33="12x24",DR33,IF(F33="12x36",DT33,IF(F33="12x48",DV33)))))))))),IF(F33=6,DG33,IF(F33=8,DI33,IF(F33=10,DK33,IF(F33=12,DM33,IF(F33=14,DO33,IF(F33="12x18",DQ33,IF(F33="12x24",DS33,IF(F33="12x36",DU33,IF(F33="12x48",DW33))))))))))) | R33: =IF(F33="","",LOOKUP(F33,$BI$14:$BI$22,$BP$14:$BP$22)) | S33: =IF(RIGHT(E33,7)="AVT3000","No",IF(RIGHT(E33,7)="AVC5000","Yes","")) | T33: =IF(F33="","",IF($N$2="CFM",LOOKUP(F33,$BI$14:$BJ$22),IF($N$2="LPS", LOOKUP(F33,$BI$173:$BJ$181),IF($N$2="CMH",LOOKUP(F33,$BI$187:$BJ$195)," ")))) | U33: =IF(F33="","",IF($N$2="CFM",LOOKUP(F33,$BI$14:$BI$22,$BL$14:$BL$22),IF($N$2="LPS", LOOKUP(F33,$BI$173:$BI$181,$BL$173:$BL$181),IF($N$2="CMH",LOOKUP(F33,$BI$187:$BI$195,$BL$187:$BL$195)," ")))) | V33: =IF(F33="","",IF($N$2="CFM",LOOKUP(F33,$BI$14:$BI$22,$BM$14:$BM$22),IF($N$2="LPS", LOOKUP(F33,$BI$173:$BI$181,$BM$173:$BM$181),IF($N$2="CMH",LOOKUP(F33,$BI$187:$BI$195,$BM$187:$BM$195)," ")))) | W33: =IF(F33="","",IF($N$2="CFM",LOOKUP(F33,$BI$14:$BI$22,$BN$14:$BN$22),IF($N$2="LPS", LOOKUP(F33,$BI$173:$BI$181,$BN$173:$BN$181),IF($N$2="CMH",LOOKUP(F33,$BI$187:$BI$195,$BN$187:$BN$195)," ")))) | X33: =IF(RIGHT(E33,7)="AVT3000","No",IF(RIGHT(E33,7)="AVC5000","Yes","")) | Y33: =IF(LEFT(E33,1)="H","H-","") | Z33: =IF(RIGHT(E33,7)="AVT3000","AVT3",IF(RIGHT(E33,7)="AVC5000","AVC5","")) | AA33: =IF(RIGHT(E33,6)="AV3000","AV3",IF(RIGHT(E33,7)="AVC5000","AVC5","")) | AB33: =IF(F33="","",LOOKUP(F33,$BI$14:$BI$22,$BQ$14:$BQ$22)) | AC33: =IF(G33="","",LOOKUP(G33,$BI$31:$BJ$37)) | AD33: =IF(H33="","",LOOKUP(H33,$BI$41:$BJ$47)) | AE33: =IF(AF33="","","-") | AF33: =IF(F33="","",LOOKUP(F33,$BI$14:$BI$22,$BO$14:$BO$22)) | AG33: =IF(G33="","","-") | AH33: =IF(I33="AccuNet","A","") | AI33: =IF(J33="BACnet","B","") | AJ33: =IF(K33="Flanged","F","") | AK33: =IF(L33="Insulation","I","") | AL33: =IF(M33="Tight Shutoff","S","") | AP33: =IF(S33="NO",1,0) -> 0 | AQ33: =SUM(AP$10:AP33) -> 0 | AR33: =IF(AP33>0,AQ33,AQ33+0.1) -> 0.1 | AS33: =IF(S33="NO",C33,"") | AT33: =IF(S33="no",IF(B33="","",B33),"") | AV33: =IF(D33="",0,1) -> 0 | AW33: =SUM(AV$10:AV33) -> 0 | AX33: =IF(AV33>0,AW33,AW33+0.1) -> 0.1 | AY33: =IF(AV33=0,"",IF(C33="","",C33)) | AZ33: =IF(AV33=0,"",IF(B33="","",B33)) | BB33: =CONCATENATE(Y33,Z33,AB33,AC33,AD33,AE33,AF33,AG33,AH33,AI33,AJ33,AK33,AL33) | BC33: =BB33 | BD33: =IF(N33="","",N33) | BG33: =IF(D33="","",Q33-$T$3) | BI33: Aluminum | BJ33: 4 | BQ33: Indirect Fcn for Flanged | BT33: =DCOUNTA(D$7:D$2021,D$7,BW33:BW34) -> 0 | BU33: Other Exhaust | BW33: Service | BY33: =IF(G33="","",IF(LEFT(G33,3)="304","_304SS",IF(LEFT(G33,3)="316","_316SS",G33))) | BZ33: =IF(E33="AVT3000","AV3000X",IF(E33="AVC5000","AVC5000X",IF(E33="H-AVT3000","H_AV3000",IF(E33="H-AVC5000","H_AVC5000","")))) | CB33: =IF(CD33="CageRack","AVC5000CR",BZ33) | CD33: =IF(D33="supply","supply",IF(D33="FH Exhaust","FHExhaust", IF(D33="GE","GE",IF(D33="Other Exhaust","OtherExhaust",IF(D33="Return","Return",IF(D33="Cage Rack","CageRack",IF(D33="Bio Safety Cab","BioSafetyCab",IF(D33="Canopy Ex","CanopyEx",IF(D33="Snorkel","Snorkel",IF(D33="Acid resistant","AcidRes","")))))))))) | CF33: =IF(D33="supply","supplyV",IF(D33="FH Exhaust","FHExhaustV",IF(D33="GE","GEV",IF(D33="Other Exhaust","OtherExhaustV",IF(D33="Return","ReturnV",IF(D33="Cage Rack","CageRackV",IF(D33="Bio Safety Cab","BioSafetyCabV",IF(D33="Canopy Ex","CanopyExV",IF(D33="Snorkel","SnorkelV",IF(D33="Acid resistant","AcidResV","")))))))))) | CH33: =IF(F33=6,"AL",IF(F33=8,"AL",(IF(F33=10,"AL",IF(F33=12,"AL",IF(F33=14,"AL",IF(F33="12x18","NOAL",IF(F33="12x24","NOAL",IF(F33="12x36","NOAL",IF(F33="12x48","NOAL","")))))))))) | CJ33: =IF(AND(D33="acid resistant",E33="AVC5000"),"AVC5000MC",IF(AND(D33="acid resistant",E33="AVT3000"),"AV3000MC",IF(E33="AVT3000","AV3000M",IF(E33="AVC5000","AVC5000M",IF(E33="H-AVT3000","H_AV3000M",IF(E33="H-AVC5000","H_AVC5000M","")))))) | CL33: =IF(CD33="CageRack","AVC5000CRM",CJ33) | CN33: =IF(G33="PFAcoated","NOSOPFA",IF(F33=6,"NOSO",IF(F33=8,"SO",(IF(F33=10,"SO",IF(F33=12,"SO",IF(F33=14,"SO",IF(F33="12x18","SO",IF(F33="12x24","SO",IF(F33="12x36","SO",IF(F33="12x48","SO",""))))))))))) | CP33: =IF(G33="","",IF(G33="PFACoated", "NOFL","FL")) | CR33: =IF(S33="YES","CTL",IF(S33="NO","NOCTL","")) | CT33: =IF(E33="H-AVT3000","H_AVT3A",IF(E33="AVT3000","AVT3A",IF(E33="H-AVC5000","AVCA",IF(E33="AVC5000","AVCA","")))) | CV33: =IF(E33="","",IF(E33="H-AVT3000","H_AVT3B",IF(E33="AVT3000","AVT3B",IF(E33="H-AVC5000","AVCB",IF(E33="AVC5000","AVCB"))))) | CX33: =IF(S33="YES",0,IF(S33="NO",1,"")) | CY33: =IF(S33="YES",1,IF(S33="NO",0,"")) | DA33: =IF(H33="","",VLOOKUP(H33,$BI$41:$BJ$47,2)) | DC33: =P33 -> 0 | DD33: =P33*$DD$6 -> 0 | DE33: =P33*$DE$6 -> 0 | DF33: =IF($N$2="CFM",(0.0026*(($DC33)/25)^2+0.0035*($DC33)/25-0.0047),IF($N$2="LPS",(0.0026*(($DD33)/25)^2+0.0035*($DD33)/25-0.0047),IF($N$2="CMH",(0.0026*(($DE33)/25)^2+0.0035*($DE33)/25-0.0047),""))) -> -0.0047 | DG33: =DF33*249 -> -1.1703 | DH33: =IF($N$2="CFM",(0.0017*(($DC33-50)/50)^2+0.0041*($DC33-50)/50+0.0056),IF($N$2="LPS",(0.0017*(($DD33-50)/50)^2+0.0041*($DD33-50)/50+0.0056),IF($N$2="CMH",(0.0017*(($DE33-50)/50)^2+0.0041*($DE33-50)/50+0.0056),""))) -> 0.0032 | DI33: =DH33*249 -> 0.7968 | DJ33: =IF($N$2="CFM",(0.0026*(($DC33)/100)^2+0.0012*($DC33)/100-0.0027),IF($N$2="LPS",(0.0026*(($DD33)/100)^2+0.0012*($DD33)/100-0.0027),IF($N$2="CMH",(0.0026*(($DE33)/100)^2+0.0012*($DE33)/100-0.0027),""))) -> -0.0027 | DK33: =DJ33*249 -> -0.6723 | DL33: =IF($N$2="CFM",(0.0056*(($DC33)/200)^2-0.0008*($DC33)/200+0.0012),IF($N$2="LPS",(0.0056*(($DD33)/200)^2-0.0008*($DD33)/200+0.0012),IF($N$2="CMH",(0.0056*(($DE33)/200)^2-0.0008*($DE33)/200+0.0012),""))) -> 0.0012 | DM33: =DL33*249 -> 0.2988 | DN33: =IF($N$2="CFM",(0.0062*(($DC33)/300)^2-0.0094*($DC33)/300+0.0146),IF($N$2="LPS",(0.0062*(($DD33)/300)^2-0.0094*($DD33)/300+0.0146),IF($N$2="CMH",(0.0062*(($DE33)/300)^2-0.0094*($DE33)/300+0.0146),""))) -> 0.0146 | DO33: =DN33*249 -> 3.6354 | DP33: =IF($N$2="CFM",(0.0058*((DC33)/400)^2+0.0106*(DC33)/400-0.013),IF($N$2="LPS",(0.0058*((DD33)/400)^2+0.0106*(DD33)/400-0.013),IF($N$2="CMH",(0.0058*((DE33)/400)^2+0.0106*(DE33)/400-0.013),""))) -> -0.013 | DQ33: =DP33*249 -> -3.237 | DR33: =IF($N$2="CFM",(0.0063*(($DC33)/500)^2+0.0066*($DC33)/500-0.0067),IF($N$2="LPS",(0.0063*(($DD33)/500)^2+0.0066*($DD33)/500-0.0067),IF($N$2="CMH",(0.0063*(($DE33)/500)^2+0.0066*($DE33)/500-0.0067),""))) -> -0.0067 | DS33: =DR33*249 -> -1.6683 | DT33: =IF($N$2="CFM",(0.0058*(($DC33)/800)^2+0.0106*($DC33)/800-0.013),IF($N$2="LPS",(0.0058*(($DD33)/800)^2+0.0106*($DD33)/800-0.013),IF($N$2="CMH",(0.0058*(($DE33)/800)^2+0.0106*($DE33)/800-0.013),""))) -> -0.013 | DU33: =DT33*249 -> -3.237 | DV33: =IF($N$2="CFM",(0.0063*(($DC33)/1000)^2+0.0066*($DC33)/1000-0.0067),IF($N$2="LPS",(0.0063*(($DD33)/1000)^2+0.0066*($DD33)/1000-0.0067),IF($N$2="CMH",(0.0063*(($DE33)/1000)^2+0.0066*($DE33)/1000-0.0067),""))) -> -0.0067 | DW33: =DV33*249 -> -1.6683
A34: 25 | Q34: =IF(P34=""," ",IF($N$3="in WC",IF(F34="","",IF(F34=6,DF34,IF(F34=8,DH34,IF(F34=10,DJ34,IF(F34=12,DL34,IF(F34=14,DN34,IF(F34="12x18",DP34,IF(F34="12x24",DR34,IF(F34="12x36",DT34,IF(F34="12x48",DV34)))))))))),IF(F34=6,DG34,IF(F34=8,DI34,IF(F34=10,DK34,IF(F34=12,DM34,IF(F34=14,DO34,IF(F34="12x18",DQ34,IF(F34="12x24",DS34,IF(F34="12x36",DU34,IF(F34="12x48",DW34))))))))))) | R34: =IF(F34="","",LOOKUP(F34,$BI$14:$BI$22,$BP$14:$BP$22)) | S34: =IF(RIGHT(E34,7)="AVT3000","No",IF(RIGHT(E34,7)="AVC5000","Yes","")) | T34: =IF(F34="","",IF($N$2="CFM",LOOKUP(F34,$BI$14:$BJ$22),IF($N$2="LPS", LOOKUP(F34,$BI$173:$BJ$181),IF($N$2="CMH",LOOKUP(F34,$BI$187:$BJ$195)," ")))) | U34: =IF(F34="","",IF($N$2="CFM",LOOKUP(F34,$BI$14:$BI$22,$BL$14:$BL$22),IF($N$2="LPS", LOOKUP(F34,$BI$173:$BI$181,$BL$173:$BL$181),IF($N$2="CMH",LOOKUP(F34,$BI$187:$BI$195,$BL$187:$BL$195)," ")))) | V34: =IF(F34="","",IF($N$2="CFM",LOOKUP(F34,$BI$14:$BI$22,$BM$14:$BM$22),IF($N$2="LPS", LOOKUP(F34,$BI$173:$BI$181,$BM$173:$BM$181),IF($N$2="CMH",LOOKUP(F34,$BI$187:$BI$195,$BM$187:$BM$195)," ")))) | W34: =IF(F34="","",IF($N$2="CFM",LOOKUP(F34,$BI$14:$BI$22,$BN$14:$BN$22),IF($N$2="LPS", LOOKUP(F34,$BI$173:$BI$181,$BN$173:$BN$181),IF($N$2="CMH",LOOKUP(F34,$BI$187:$BI$195,$BN$187:$BN$195)," ")))) | X34: =IF(RIGHT(E34,7)="AVT3000","No",IF(RIGHT(E34,7)="AVC5000","Yes","")) | Y34: =IF(LEFT(E34,1)="H","H-","") | Z34: =IF(RIGHT(E34,7)="AVT3000","AVT3",IF(RIGHT(E34,7)="AVC5000","AVC5","")) | AA34: =IF(RIGHT(E34,6)="AV3000","AV3",IF(RIGHT(E34,7)="AVC5000","AVC5","")) | AB34: =IF(F34="","",LOOKUP(F34,$BI$14:$BI$22,$BQ$14:$BQ$22)) | AC34: =IF(G34="","",LOOKUP(G34,$BI$31:$BJ$37)) | AD34: =IF(H34="","",LOOKUP(H34,$BI$41:$BJ$47)) | AE34: =IF(AF34="","","-") | AF34: =IF(F34="","",LOOKUP(F34,$BI$14:$BI$22,$BO$14:$BO$22)) | AG34: =IF(G34="","","-") | AH34: =IF(I34="AccuNet","A","") | AI34: =IF(J34="BACnet","B","") | AJ34: =IF(K34="Flanged","F","") | AK34: =IF(L34="Insulation","I","") | AL34: =IF(M34="Tight Shutoff","S","") | AP34: =IF(S34="NO",1,0) -> 0 | AQ34: =SUM(AP$10:AP34) -> 0 | AR34: =IF(AP34>0,AQ34,AQ34+0.1) -> 0.1 | AS34: =IF(S34="NO",C34,"") | AT34: =IF(S34="no",IF(B34="","",B34),"") | AV34: =IF(D34="",0,1) -> 0 | AW34: =SUM(AV$10:AV34) -> 0 | AX34: =IF(AV34>0,AW34,AW34+0.1) -> 0.1 | AY34: =IF(AV34=0,"",IF(C34="","",C34)) | AZ34: =IF(AV34=0,"",IF(B34="","",B34)) | BB34: =CONCATENATE(Y34,Z34,AB34,AC34,AD34,AE34,AF34,AG34,AH34,AI34,AJ34,AK34,AL34) | BC34: =BB34 | BD34: =IF(N34="","",N34) | BG34: =IF(D34="","",Q34-$T$3) | BI34: HighTemp. | BJ34: 6 | BL34: No | BN34: When aluminum rect released just add | BQ34: NOFL | BR34: FL | BW34: Other Exhaust | BY34: =IF(G34="","",IF(LEFT(G34,3)="304","_304SS",IF(LEFT(G34,3)="316","_316SS",G34))) | BZ34: =IF(E34="AVT3000","AV3000X",IF(E34="AVC5000","AVC5000X",IF(E34="H-AVT3000","H_AV3000",IF(E34="H-AVC5000","H_AVC5000","")))) | CB34: =IF(CD34="CageRack","AVC5000CR",BZ34) | CD34: =IF(D34="supply","supply",IF(D34="FH Exhaust","FHExhaust", IF(D34="GE","GE",IF(D34="Other Exhaust","OtherExhaust",IF(D34="Return","Return",IF(D34="Cage Rack","CageRack",IF(D34="Bio Safety Cab","BioSafetyCab",IF(D34="Canopy Ex","CanopyEx",IF(D34="Snorkel","Snorkel",IF(D34="Acid resistant","AcidRes","")))))))))) | CF34: =IF(D34="supply","supplyV",IF(D34="FH Exhaust","FHExhaustV",IF(D34="GE","GEV",IF(D34="Other Exhaust","OtherExhaustV",IF(D34="Return","ReturnV",IF(D34="Cage Rack","CageRackV",IF(D34="Bio Safety Cab","BioSafetyCabV",IF(D34="Canopy Ex","CanopyExV",IF(D34="Snorkel","SnorkelV",IF(D34="Acid resistant","AcidResV","")))))))))) | CH34: =IF(F34=6,"AL",IF(F34=8,"AL",(IF(F34=10,"AL",IF(F34=12,"AL",IF(F34=14,"AL",IF(F34="12x18","NOAL",IF(F34="12x24","NOAL",IF(F34="12x36","NOAL",IF(F34="12x48","NOAL","")))))))))) | CJ34: =IF(AND(D34="acid resistant",E34="AVC5000"),"AVC5000MC",IF(AND(D34="acid resistant",E34="AVT3000"),"AV3000MC",IF(E34="AVT3000","AV3000M",IF(E34="AVC5000","AVC5000M",IF(E34="H-AVT3000","H_AV3000M",IF(E34="H-AVC5000","H_AVC5000M","")))))) | CL34: =IF(CD34="CageRack","AVC5000CRM",CJ34) | CN34: =IF(G34="PFAcoated","NOSOPFA",IF(F34=6,"NOSO",IF(F34=8,"SO",(IF(F34=10,"SO",IF(F34=12,"SO",IF(F34=14,"SO",IF(F34="12x18","SO",IF(F34="12x24","SO",IF(F34="12x36","SO",IF(F34="12x48","SO",""))))))))))) | CP34: =IF(G34="","",IF(G34="PFACoated", "NOFL","FL")) | CR34: =IF(S34="YES","CTL",IF(S34="NO","NOCTL","")) | CT34: =IF(E34="H-AVT3000","H_AVT3A",IF(E34="AVT3000","AVT3A",IF(E34="H-AVC5000","AVCA",IF(E34="AVC5000","AVCA","")))) | CV34: =IF(E34="","",IF(E34="H-AVT3000","H_AVT3B",IF(E34="AVT3000","AVT3B",IF(E34="H-AVC5000","AVCB",IF(E34="AVC5000","AVCB"))))) | CX34: =IF(S34="YES",0,IF(S34="NO",1,"")) | CY34: =IF(S34="YES",1,IF(S34="NO",0,"")) | DA34: =IF(H34="","",VLOOKUP(H34,$BI$41:$BJ$47,2)) | DC34: =P34 -> 0 | DD34: =P34*$DD$6 -> 0 | DE34: =P34*$DE$6 -> 0 | DF34: =IF($N$2="CFM",(0.0026*(($DC34)/25)^2+0.0035*($DC34)/25-0.0047),IF($N$2="LPS",(0.0026*(($DD34)/25)^2+0.0035*($DD34)/25-0.0047),IF($N$2="CMH",(0.0026*(($DE34)/25)^2+0.0035*($DE34)/25-0.0047),""))) -> -0.0047 | DG34: =DF34*249 -> -1.1703 | DH34: =IF($N$2="CFM",(0.0017*(($DC34-50)/50)^2+0.0041*($DC34-50)/50+0.0056),IF($N$2="LPS",(0.0017*(($DD34-50)/50)^2+0.0041*($DD34-50)/50+0.0056),IF($N$2="CMH",(0.0017*(($DE34-50)/50)^2+0.0041*($DE34-50)/50+0.0056),""))) -> 0.0032 | DI34: =DH34*249 -> 0.7968 | DJ34: =IF($N$2="CFM",(0.0026*(($DC34)/100)^2+0.0012*($DC34)/100-0.0027),IF($N$2="LPS",(0.0026*(($DD34)/100)^2+0.0012*($DD34)/100-0.0027),IF($N$2="CMH",(0.0026*(($DE34)/100)^2+0.0012*($DE34)/100-0.0027),""))) -> -0.0027 | DK34: =DJ34*249 -> -0.6723 | DL34: =IF($N$2="CFM",(0.0056*(($DC34)/200)^2-0.0008*($DC34)/200+0.0012),IF($N$2="LPS",(0.0056*(($DD34)/200)^2-0.0008*($DD34)/200+0.0012),IF($N$2="CMH",(0.0056*(($DE34)/200)^2-0.0008*($DE34)/200+0.0012),""))) -> 0.0012 | DM34: =DL34*249 -> 0.2988 | DN34: =IF($N$2="CFM",(0.0062*(($DC34)/300)^2-0.0094*($DC34)/300+0.0146),IF($N$2="LPS",(0.0062*(($DD34)/300)^2-0.0094*($DD34)/300+0.0146),IF($N$2="CMH",(0.0062*(($DE34)/300)^2-0.0094*($DE34)/300+0.0146),""))) -> 0.0146 | DO34: =DN34*249 -> 3.6354 | DP34: =IF($N$2="CFM",(0.0058*((DC34)/400)^2+0.0106*(DC34)/400-0.013),IF($N$2="LPS",(0.0058*((DD34)/400)^2+0.0106*(DD34)/400-0.013),IF($N$2="CMH",(0.0058*((DE34)/400)^2+0.0106*(DE34)/400-0.013),""))) -> -0.013 | DQ34: =DP34*249 -> -3.237 | DR34: =IF($N$2="CFM",(0.0063*(($DC34)/500)^2+0.0066*($DC34)/500-0.0067),IF($N$2="LPS",(0.0063*(($DD34)/500)^2+0.0066*($DD34)/500-0.0067),IF($N$2="CMH",(0.0063*(($DE34)/500)^2+0.0066*($DE34)/500-0.0067),""))) -> -0.0067 | DS34: =DR34*249 -> -1.6683 | DT34: =IF($N$2="CFM",(0.0058*(($DC34)/800)^2+0.0106*($DC34)/800-0.013),IF($N$2="LPS",(0.0058*(($DD34)/800)^2+0.0106*($DD34)/800-0.013),IF($N$2="CMH",(0.0058*(($DE34)/800)^2+0.0106*($DE34)/800-0.013),""))) -> -0.013 | DU34: =DT34*249 -> -3.237 | DV34: =IF($N$2="CFM",(0.0063*(($DC34)/1000)^2+0.0066*($DC34)/1000-0.0067),IF($N$2="LPS",(0.0063*(($DD34)/1000)^2+0.0066*($DD34)/1000-0.0067),IF($N$2="CMH",(0.0063*(($DE34)/1000)^2+0.0066*($DE34)/1000-0.0067),""))) -> -0.0067 | DW34: =DV34*249 -> -1.6683
A35: 26 | Q35: =IF(P35=""," ",IF($N$3="in WC",IF(F35="","",IF(F35=6,DF35,IF(F35=8,DH35,IF(F35=10,DJ35,IF(F35=12,DL35,IF(F35=14,DN35,IF(F35="12x18",DP35,IF(F35="12x24",DR35,IF(F35="12x36",DT35,IF(F35="12x48",DV35)))))))))),IF(F35=6,DG35,IF(F35=8,DI35,IF(F35=10,DK35,IF(F35=12,DM35,IF(F35=14,DO35,IF(F35="12x18",DQ35,IF(F35="12x24",DS35,IF(F35="12x36",DU35,IF(F35="12x48",DW35))))))))))) | R35: =IF(F35="","",LOOKUP(F35,$BI$14:$BI$22,$BP$14:$BP$22)) | S35: =IF(RIGHT(E35,7)="AVT3000","No",IF(RIGHT(E35,7)="AVC5000","Yes","")) | T35: =IF(F35="","",IF($N$2="CFM",LOOKUP(F35,$BI$14:$BJ$22),IF($N$2="LPS", LOOKUP(F35,$BI$173:$BJ$181),IF($N$2="CMH",LOOKUP(F35,$BI$187:$BJ$195)," ")))) | U35: =IF(F35="","",IF($N$2="CFM",LOOKUP(F35,$BI$14:$BI$22,$BL$14:$BL$22),IF($N$2="LPS", LOOKUP(F35,$BI$173:$BI$181,$BL$173:$BL$181),IF($N$2="CMH",LOOKUP(F35,$BI$187:$BI$195,$BL$187:$BL$195)," ")))) | V35: =IF(F35="","",IF($N$2="CFM",LOOKUP(F35,$BI$14:$BI$22,$BM$14:$BM$22),IF($N$2="LPS", LOOKUP(F35,$BI$173:$BI$181,$BM$173:$BM$181),IF($N$2="CMH",LOOKUP(F35,$BI$187:$BI$195,$BM$187:$BM$195)," ")))) | W35: =IF(F35="","",IF($N$2="CFM",LOOKUP(F35,$BI$14:$BI$22,$BN$14:$BN$22),IF($N$2="LPS", LOOKUP(F35,$BI$173:$BI$181,$BN$173:$BN$181),IF($N$2="CMH",LOOKUP(F35,$BI$187:$BI$195,$BN$187:$BN$195)," ")))) | X35: =IF(RIGHT(E35,7)="AVT3000","No",IF(RIGHT(E35,7)="AVC5000","Yes","")) | Y35: =IF(LEFT(E35,1)="H","H-","") | Z35: =IF(RIGHT(E35,7)="AVT3000","AVT3",IF(RIGHT(E35,7)="AVC5000","AVC5","")) | AA35: =IF(RIGHT(E35,6)="AV3000","AV3",IF(RIGHT(E35,7)="AVC5000","AVC5","")) | AB35: =IF(F35="","",LOOKUP(F35,$BI$14:$BI$22,$BQ$14:$BQ$22)) | AC35: =IF(G35="","",LOOKUP(G35,$BI$31:$BJ$37)) | AD35: =IF(H35="","",LOOKUP(H35,$BI$41:$BJ$47)) | AE35: =IF(AF35="","","-") | AF35: =IF(F35="","",LOOKUP(F35,$BI$14:$BI$22,$BO$14:$BO$22)) | AG35: =IF(G35="","","-") | AH35: =IF(I35="AccuNet","A","") | AI35: =IF(J35="BACnet","B","") | AJ35: =IF(K35="Flanged","F","") | AK35: =IF(L35="Insulation","I","") | AL35: =IF(M35="Tight Shutoff","S","") | AP35: =IF(S35="NO",1,0) -> 0 | AQ35: =SUM(AP$10:AP35) -> 0 | AR35: =IF(AP35>0,AQ35,AQ35+0.1) -> 0.1 | AS35: =IF(S35="NO",C35,"") | AT35: =IF(S35="no",IF(B35="","",B35),"") | AV35: =IF(D35="",0,1) -> 0 | AW35: =SUM(AV$10:AV35) -> 0 | AX35: =IF(AV35>0,AW35,AW35+0.1) -> 0.1 | AY35: =IF(AV35=0,"",IF(C35="","",C35)) | AZ35: =IF(AV35=0,"",IF(B35="","",B35)) | BB35: =CONCATENATE(Y35,Z35,AB35,AC35,AD35,AE35,AF35,AG35,AH35,AI35,AJ35,AK35,AL35) | BC35: =BB35 | BD35: =IF(N35="","",N35) | BG35: =IF(D35="","",Q35-$T$3) | BI35: PFACoated | BJ35: 5 | BL35: HS FLP 0-10V | BN35: aluminum to BV26 | BQ35: No Flanges | BR35: Flanged | BT35: =DCOUNTA(D$7:D$2021,D$7,BW35:BW36) -> 0 | BU35: Return | BW35: Service | BY35: =IF(G35="","",IF(LEFT(G35,3)="304","_304SS",IF(LEFT(G35,3)="316","_316SS",G35))) | BZ35: =IF(E35="AVT3000","AV3000X",IF(E35="AVC5000","AVC5000X",IF(E35="H-AVT3000","H_AV3000",IF(E35="H-AVC5000","H_AVC5000","")))) | CB35: =IF(CD35="CageRack","AVC5000CR",BZ35) | CD35: =IF(D35="supply","supply",IF(D35="FH Exhaust","FHExhaust", IF(D35="GE","GE",IF(D35="Other Exhaust","OtherExhaust",IF(D35="Return","Return",IF(D35="Cage Rack","CageRack",IF(D35="Bio Safety Cab","BioSafetyCab",IF(D35="Canopy Ex","CanopyEx",IF(D35="Snorkel","Snorkel",IF(D35="Acid resistant","AcidRes","")))))))))) | CF35: =IF(D35="supply","supplyV",IF(D35="FH Exhaust","FHExhaustV",IF(D35="GE","GEV",IF(D35="Other Exhaust","OtherExhaustV",IF(D35="Return","ReturnV",IF(D35="Cage Rack","CageRackV",IF(D35="Bio Safety Cab","BioSafetyCabV",IF(D35="Canopy Ex","CanopyExV",IF(D35="Snorkel","SnorkelV",IF(D35="Acid resistant","AcidResV","")))))))))) | CH35: =IF(F35=6,"AL",IF(F35=8,"AL",(IF(F35=10,"AL",IF(F35=12,"AL",IF(F35=14,"AL",IF(F35="12x18","NOAL",IF(F35="12x24","NOAL",IF(F35="12x36","NOAL",IF(F35="12x48","NOAL","")))))))))) | CJ35: =IF(AND(D35="acid resistant",E35="AVC5000"),"AVC5000MC",IF(AND(D35="acid resistant",E35="AVT3000"),"AV3000MC",IF(E35="AVT3000","AV3000M",IF(E35="AVC5000","AVC5000M",IF(E35="H-AVT3000","H_AV3000M",IF(E35="H-AVC5000","H_AVC5000M","")))))) | CL35: =IF(CD35="CageRack","AVC5000CRM",CJ35) | CN35: =IF(G35="PFAcoated","NOSOPFA",IF(F35=6,"NOSO",IF(F35=8,"SO",(IF(F35=10,"SO",IF(F35=12,"SO",IF(F35=14,"SO",IF(F35="12x18","SO",IF(F35="12x24","SO",IF(F35="12x36","SO",IF(F35="12x48","SO",""))))))))))) | CP35: =IF(G35="","",IF(G35="PFACoated", "NOFL","FL")) | CR35: =IF(S35="YES","CTL",IF(S35="NO","NOCTL","")) | CT35: =IF(E35="H-AVT3000","H_AVT3A",IF(E35="AVT3000","AVT3A",IF(E35="H-AVC5000","AVCA",IF(E35="AVC5000","AVCA","")))) | CV35: =IF(E35="","",IF(E35="H-AVT3000","H_AVT3B",IF(E35="AVT3000","AVT3B",IF(E35="H-AVC5000","AVCB",IF(E35="AVC5000","AVCB"))))) | CX35: =IF(S35="YES",0,IF(S35="NO",1,"")) | CY35: =IF(S35="YES",1,IF(S35="NO",0,"")) | DA35: =IF(H35="","",VLOOKUP(H35,$BI$41:$BJ$47,2)) | DC35: =P35 -> 0 | DD35: =P35*$DD$6 -> 0 | DE35: =P35*$DE$6 -> 0 | DF35: =IF($N$2="CFM",(0.0026*(($DC35)/25)^2+0.0035*($DC35)/25-0.0047),IF($N$2="LPS",(0.0026*(($DD35)/25)^2+0.0035*($DD35)/25-0.0047),IF($N$2="CMH",(0.0026*(($DE35)/25)^2+0.0035*($DE35)/25-0.0047),""))) -> -0.0047 | DG35: =DF35*249 -> -1.1703 | DH35: =IF($N$2="CFM",(0.0017*(($DC35-50)/50)^2+0.0041*($DC35-50)/50+0.0056),IF($N$2="LPS",(0.0017*(($DD35-50)/50)^2+0.0041*($DD35-50)/50+0.0056),IF($N$2="CMH",(0.0017*(($DE35-50)/50)^2+0.0041*($DE35-50)/50+0.0056),""))) -> 0.0032 | DI35: =DH35*249 -> 0.7968 | DJ35: =IF($N$2="CFM",(0.0026*(($DC35)/100)^2+0.0012*($DC35)/100-0.0027),IF($N$2="LPS",(0.0026*(($DD35)/100)^2+0.0012*($DD35)/100-0.0027),IF($N$2="CMH",(0.0026*(($DE35)/100)^2+0.0012*($DE35)/100-0.0027),""))) -> -0.0027 | DK35: =DJ35*249 -> -0.6723 | DL35: =IF($N$2="CFM",(0.0056*(($DC35)/200)^2-0.0008*($DC35)/200+0.0012),IF($N$2="LPS",(0.0056*(($DD35)/200)^2-0.0008*($DD35)/200+0.0012),IF($N$2="CMH",(0.0056*(($DE35)/200)^2-0.0008*($DE35)/200+0.0012),""))) -> 0.0012 | DM35: =DL35*249 -> 0.2988 | DN35: =IF($N$2="CFM",(0.0062*(($DC35)/300)^2-0.0094*($DC35)/300+0.0146),IF($N$2="LPS",(0.0062*(($DD35)/300)^2-0.0094*($DD35)/300+0.0146),IF($N$2="CMH",(0.0062*(($DE35)/300)^2-0.0094*($DE35)/300+0.0146),""))) -> 0.0146 | DO35: =DN35*249 -> 3.6354 | DP35: =IF($N$2="CFM",(0.0058*((DC35)/400)^2+0.0106*(DC35)/400-0.013),IF($N$2="LPS",(0.0058*((DD35)/400)^2+0.0106*(DD35)/400-0.013),IF($N$2="CMH",(0.0058*((DE35)/400)^2+0.0106*(DE35)/400-0.013),""))) -> -0.013 | DQ35: =DP35*249 -> -3.237 | DR35: =IF($N$2="CFM",(0.0063*(($DC35)/500)^2+0.0066*($DC35)/500-0.0067),IF($N$2="LPS",(0.0063*(($DD35)/500)^2+0.0066*($DD35)/500-0.0067),IF($N$2="CMH",(0.0063*(($DE35)/500)^2+0.0066*($DE35)/500-0.0067),""))) -> -0.0067 | DS35: =DR35*249 -> -1.6683 | DT35: =IF($N$2="CFM",(0.0058*(($DC35)/800)^2+0.0106*($DC35)/800-0.013),IF($N$2="LPS",(0.0058*(($DD35)/800)^2+0.0106*($DD35)/800-0.013),IF($N$2="CMH",(0.0058*(($DE35)/800)^2+0.0106*($DE35)/800-0.013),""))) -> -0.013 | DU35: =DT35*249 -> -3.237 | DV35: =IF($N$2="CFM",(0.0063*(($DC35)/1000)^2+0.0066*($DC35)/1000-0.0067),IF($N$2="LPS",(0.0063*(($DD35)/1000)^2+0.0066*($DD35)/1000-0.0067),IF($N$2="CMH",(0.0063*(($DE35)/1000)^2+0.0066*($DE35)/1000-0.0067),""))) -> -0.0067 | DW35: =DV35*249 -> -1.6683
