Workbook
Name _304SS: 'AccuValve Takeoff'!$BT$14:$BT$15
Name _316SS: 'AccuValve Takeoff'!$BU$14:$BU$15
Name AcidRes: 'AccuValve Takeoff'!$BN$149:$BN$152
Name AcidResV: 'AccuValve Takeoff'!$BR$97:$BR$98
Name AL: 'AccuValve Takeoff'!$BO$28:$BO$31
Name Aluminum: 'AccuValve Takeoff'!$BV$14:$BV$15
Name AV: #REF!
Name AV3000M: 'AccuValve Takeoff'!$BR$74:$BR$77
Name AV3000MC: 'AccuValve Takeoff'!$BR$91
Name AV3000X: 'AccuValve Takeoff'!$BL$70:$BL$73
Name AVAVCModel: '[1]AccuValve Selection'!$BJ$10:$BJ$3464
Name AVAVCModel: '[1]AccuValve Selection'!$BJ$10:$BJ$3464
Name AVAVCModel: 'AccuValve Takeoff'!#REF!
Name AVAVCNumber: 'AccuValve Takeoff'!#REF!
Name AVAVCNumber: 'AccuValve Takeoff'!#REF!
Name AVAVCPriceCode: 'AccuValve Takeoff'!#REF!
Name AVC: #REF!
Name AVC5000CR: 'AccuValve Takeoff'!$BL$79
Name AVC5000CRM: 'AccuValve Takeoff'!$BR$86:$BR$88
Name AVC5000M: 'AccuValve Takeoff'!$BR$80:$BR$83
Name AVC5000MC: 'AccuValve Takeoff'!$BR$94
Name AVC5000X: 'AccuValve Takeoff'!$BL$76:$BL$77
Name AVCA: 'AccuValve Takeoff'!$BN$38
Name AVCB: 'AccuValve Takeoff'!$BO$38
Name AVCChoices: #REF!
Name AVCItemNo: 'AccuValve Takeoff'!$AX$10:$AX$2034
Name AVCModel: 'AccuValve Takeoff'!$BC$10:$BC$2021
Name AVCnew: #REF!
Name AVCRmNm: 'AccuValve Takeoff'!$AZ$10:$AZ$2021
Name AVCSource: #REF!
Name AVCTagNo: 'AccuValve Takeoff'!$AY$10:$AY$2034
Name AVItemNo: 'AccuValve Takeoff'!$AR$10:$AR$2021
Name AVModel: #REF!
Name AVnew: #REF!
Name AVnew: #REF!
Name AVnew: #REF!
Name AVNo: '[1]AccuValve Selection'!$BM$10:$BM$1161
Name AVPrice: #REF!
Name AVT3A: 'AccuValve Takeoff'!$BV$19:$BV$20
Name AVT3B: 'AccuValve Takeoff'!$BW$19:$BW$20
Name AVTagNo: 'AccuValve Takeoff'!$AS$10:$AS$2021
Name AVTCB: 'AccuValve Takeoff'!$BX$18:$BX$19
Name AVTChoices: #REF!
Name AVTRmNum: 'AccuValve Takeoff'!$AT$10:$AT$2021
Name AVTSource: #REF!
Name BID: #REF!
Name BioSafetyCab: 'AccuValve Takeoff'!$BN$122:$BN$124
Name BioSafetyCab: 'AccuValve Takeoff'!$BN$121
Name BioSafetyCabV: 'AccuValve Takeoff'!$BP$106:$BP$109
Name BioSafetyCabV: 'AccuValve Takeoff'!$BN$121
Name CageRack: 'AccuValve Takeoff'!$BN$118
Name CageRackV: 'AccuValve Takeoff'!$BP$103
Name canopyEx: 'AccuValve Takeoff'!$BN$127:$BN$135
Name CanopyEx: 'AccuValve Takeoff'!$BN$121
Name CanopyExV: 'AccuValve Takeoff'!$BP$112:$BP$115
Name CanopyExV: 'AccuValve Takeoff'!$BI$110
Name Circular: #REF!
Name Circular: #REF!
Name Circular: #REF!
Name Circular1: #REF!

Sheet Instructions
A1: Accuvalve Engineer Scheduling Tool and Selection Guide 4-10-18_R1
A2: Revised | B2: 43200
A4: TAB | B4: DESCRIPTION | I4: REVISION HISTORY
A5: AccuValve Selection
A6: 1 | B6: This AccuValve Engineer Scheduling Tool and Selection Guide is designed to provide a spreadsheet which enables you properly size valves based on a low pressure drop. Remember that the pressure drop shown is the DP is the minimum pressure required to get the maximum design airflow. | I6: 42912 | J6: First Release to WebSite
A7: 2 | B7: Before beginning to make selections, be sure to select the units of measurement for Volume and Pressure so you can enter the Design Volumes in the units of choice. The Pressure units will self calculate based on Valve Size and maximum design airflow. | I7: 42923 | J7: Corrected Alarm Status on Intermediate Sheet for CSV files so when Enable was selected, "1" would fill CSV, and Disable would fill a "0". Changed Accutrol Address
A8: 3 | B8: Always fill this sheet out from left to right. Some of the cells have drop-down menu selections that are dependent on cells to the left. If it is not filled out left to right errors may occur. Should you require a change once the line has been completed, make sure to delete the INFORMATION ONLY and start again, left to right with the revised information. PLEASE DO NOT DELETE OR INSERT ROWS OF INFORMATION IN THIS SHEET WHICH WILL AFECT THE FORMULAS!! | I8: 42968 | J8: Added Logic to Tag Cell on Takeoff Sheet to flag users by formatting to yellow to warn against using commas and semi colons, and also by formatting the cell to oramge when more than 32 characters are used. Both of these conditions cause problems at the tunnel.
A9: 4 | B9: Cells that are not protected may be copied in the normal manner for Excel spreadsheets. Just remember to copy left cells first. When you paste into the target cells, be sure to use [Paste Special / Values Only] or you may overwrite the pull down information in cell(s), which may cause errors in other areas of the spread sheet. | I9: 42971 | J9: Added Logic to Rep cell and Project on Takeoff Sheet to flag users by formatting to yellow to warn against using commas and semi colons, and also by formatting the cell to oramge when more than 20 characters are used. Both of these conditions cause problems at the tunnel.
A10: 5 | B10: As the selections are being made the part number will be generated on the right side of the spreadsheet. | I10: 42978 | J10: Changed pull down selections on AVC Config form in the BACnet section / Velocity to be MPS instead of M/S and MPM instead of M/M
I11: 42998 | J11: Removed "Off" option for AO1 and AO2 due to tunnel issues. Default is still the same.
A12: AccuValve Schedule | I12: 43003 | J12: Added Pricing to Equipment Summary Page for the Accuvavles. Corrected Fail Positon code for Tunnel.
A13: 1 | B13: The schedule is set up to auto fill from the takeoff sheet. Any information on this sheet will automatically be developed when the takeoff sheet is filled out. | I13: 43024 | J13: Removed AV3000 Model Codes, pull downs and replaced with AVT3000 Model Codes and pull downs. Removed option for insulation on High Temp Valves.
A14: 2 | B14: The schedule is designed for the engineer so they can place the information for AccuValves directly on their drawings in a schedule format. Much of the information from the takeoff sheet is removed to simplify the schedule. The assumption is that common information such as actuator type and options such as insulation, flanges and shutoff requirements will be handled in the comments. | I14: 43033 | J14: Added logic for PD to go to Red if it exceeds selected Max Pressure Drop. Added Logic to transfer Output configuration to AVC Config sheet for AO1 and AO2 from Take Off Sheet. Added Pull Downs for AccuNet and BACnet for the AVT3000 product line. Added logic to itermediate sheet to add the word "end" to the end of the config file to stop tunnel processing.
A15: 3 | B15: The most important item on this sheet is the pressure drop column in green. When you enter the minimum and maximum volumes on the takeoff sheet, the form automatically calculates and inserts the pressure drop for the Accuvalve.
A16: 4 | B16: This schedule is not locked down so you can modify the sheet to your liking. Remember that the information in this sheet references that which is entered on the AccuValve Selection tab. DO NOT INSERT ROWS in this spreadsheet as it will change the imbedded formulas.
I17: 43035 | J17: Added Logic to select PFA Coated valves for 8, 10, 12 and 14" sizes.
A18: Max Design Press Selection | I18: 43039 | J18: Added Room Numbers, if entered on take-off sheet, to Tag information for the valve.
A19: 1 | B19: This tab illustrates the maximum flow through the various valves if the pressure drop is limited to be no more than a certain value. | I19: 43046 | J19: Major changes for AVT3000. Incorporated both AVC5 and AVT3 into same CSV file for the tunnel. Eliminated information from AVC5 rows that were not relavant to the AVT3. Added warning for MAC addresses above 127.
A21: Operating Pressure Selection
A22: 1 | B22: This tab is designed to compare valves for a known volume setting and calculates the pressure drop across the valve. After selecting the valve size in the middle, the sheet shows the next size smaller valve to the left and the next size larger valve to the right to help the user in selecting the proper size valve for the application. | I22: 43153 | J22: Changed Material descriptions so that informatin can be copied from old sheets to new.
A23: 2 | B23: Note that when the Maximum Design volume changes on a valve, the cell at the bottom which indicates pressure will turn green when the pressure differential of the valve drops below 0.300 Wc (75Pa). | I23: 43160 | J23: Changed Take Off Sheet so BACnet and AccuNet are blacked out to prevent choosing for AVC Valves which created Incorrect Model codes. Also made Analog the Default Mode for AVC valves if nothing is chosen on the Configuration Form. Added Space on Controls take-off for Setra products. Added Missing items to Parts & Access. Order Entry & added color shading to highlight Qtys and List Price of chosen items.
I26: 43168 | J26: Changed Controls Takeoff and Equipment Summary to included ARPC Model Code (which is Setra FLEX equivalent).
I27: 43175 | J27: Made corrections in the sheet based on Jon Savona's thorugh checking. Also have added conditional formating on the Tak-Off Sheet to highlight if a wrong actator is chosen for a particular type of valve.

Sheet AccuValve Takeoff
A1: Design Engineer AccuValve Scheduling Tool | N1: Select Measurement Units | T1: Max PD Warning
A2: Fill rows in left to right to build Schedule on separate Tab. | N2: CFM | O2: Volume
N3: in WC | O3: Pressure | T3: 0.2 | U3: =N3 -> in WC
BB4: THESE THREE TABLES GENERATE THE MODEL NUMBERS AND PRICING FOR THE SYSTEM PRICE WORKSHEET
T5: Range of AVC 5000 | V5: Transmitter Range of AVT3000 | Y5: Base | AB5: Shape | AC5: Material | AD5: Actuator | AF5: Size | AH5: AccuNet | AI5: BACnet | AJ5: Flange | AK5: Insulation | AL5: Tight Shutoff | BZ5: Use CI Column to add the Cage Rack Actuator Option | CJ5: Use CS Column to add the Cage Rack Mat'l Set Option | CX5: sum | CY5: sum | DD5: Constant | DE5: Constant | DF5: =0.0026*((DC5)/25)^2+0.0035*(DC5)/25-0.0047 -> -0.0047 | DH5: =0.0017*((DG5-50)/50)^2+0.0041*(DG5-50)/50+0.0056 -> 0.0032 | DJ5: =0.0026*((DI5)/100)^2+0.0012*(DI5)/100-0.0027 -> -0.0027 | DL5: =0.0056*((DK5)/200)^2-0.0008*(DK5)/200+0.0012 -> 0.0012 | DN5: =0.0062*((DM5)/300)^2-0.0094*(DM5)/300+0.0146 -> 0.0146 | DP5: =0.0058*((DO5)/400)^2+0.0106*(DO5)/400-0.013 -> -0.013 | DR5: =0.0063*((DQ5)/500)^2+0.0066*(DQ5)/500-0.0067 -> -0.0067 | DT5: =0.0058*((DS5)/800)^2+0.0106*(DS5)/800-0.013 -> -0.013 | DV5: =0.0063*((DU5)/1000)^2+0.0066*(DU5)/1000-0.0067 -> -0.0067
E6: Base | I6: Options | N6: Xmtr Out | O6: Design Airflow | CX6: =SUM(CX10:CX2020) -> 0 | CY6: =SUM(CY10:CY2020) -> 0 | DD6: 2.118 | DE6: 0.5885
A7: Item | B7: Room # | C7: Device Tag Information | D7: Service | E7: Valve Series | F7: Size | G7: Mat'ls | H7: Actuator | I7: AccuNet | J7: BACnet | K7: Flange | L7: Insulation | M7: Shut Off | O7: =N2 -> CFM | Q7: PD @ Max Design | R7: Shape | S7: Integral Controller | T7: =N2 -> CFM | V7: =N2 -> CFM | X7: Integral Controller | AM7: Release Information | AN7: Item Revision Information | AP7: AV Item No Generator | AV7: AVC and AVT Item No Generator | BY7: Material | BZ7: Determines | CB7: Determines | CD7: Determines | CF7: Determines | CH7: Determines | CJ7: Determines | CL7: Determines | CN7: Determines | CP7: Determines | CR7: Determines | CT7: Determines | CV7: Determines | CX7: Determines | DA7: Actuator Code | DC7: These three blocks convert to CFM, but only the one that agrees with cell K2 is used | DF7: PRESSURE DROP EQUATIONS BY VALVE SIZE
A8: No. | H8: Change Act if RED | O8: Min. | P8: Max. | Q8: =N3 -> in WC | T8: Min | U8: Max | V8: Min | W8: Max | Y8: AccuValve M/N | AR8: AV | AS8: AV | AX8: AVC | AY8: AVC | BB8: MODEL CONVERTER | BG8: Exceed PD Limit | BZ8: Actuator by | CB8: Actuator by | CD8: Valve size | CF8: Valve Type | CH8: Mat'l Sel by | CJ8: Mat'l Sel by | CL8: Mat'l Sel by | CN8: Shutoff by | CP8: Flanges by | CR8: Flanges by | CT8: AccuNet by | CV8: BACNet by | DC8: CFM | DD8: LPS>CFM | DE8: CMH>CFM | DF8: 6" Valve | DH8: 8" Valve | DJ8: 10" Valve | DL8: 12" Valve | DN8: 14" Valve | DP8: 18" Valve | DR8: 24" Valve | DT8: 36" Valve | DV8: 48" Valve
T9: =IF(F9="","",LOOKUP(F9,$BI$40:$BI$40,$BJ$40:$BJ$42)) | AR9: Item No | AS9: Tag No | AT9: AVTRmNum | AX9: Item No | AY9: Tag No | AZ9: AVCRmNm | BB9: CONCATINATE | BC9: AV/AVC Model | BD9: XmtrOut | BZ9: Size | CB9: Size & Service | CD9: by service | CF9: by service | CH9: Size | CJ9: Valve Type | CL9: Valve Type & Svs | CN9: Size | CP9: Material | CR9: AV - AVC | CT9: AVT3 - H-AVT3 | CV9: AVT3 - H-AVT3 | CX9: AV | CY9: AVC | DF9: in. WC | DG9: Pa | DH9: in. WC | DI9: Pa | DJ9: in. WC | DK9: Pa | DL9: in. WC | DM9: Pa | DN9: in. WC | DO9: Pa | DP9: in. WC | DQ9: Pa | DR9: in. WC | DS9: Pa | DT9: in. WC | DU9: Pa | DV9: in. WC | DW9: Pa
A10: 1 | Q10: =IF(P10=""," ",IF($N$3="in WC",IF(F10="","",IF(F10=6,DF10,IF(F10=8,DH10,IF(F10=10,DJ10,IF(F10=12,DL10,IF(F10=14,DN10,IF(F10="12x18",DP10,IF(F10="12x24",DR10,IF(F10="12x36",DT10,IF(F10="12x48",DV10)))))))))),IF(F10=6,DG10,IF(F10=8,DI10,IF(F10=10,DK10,IF(F10=12,DM10,IF(F10=14,DO10,IF(F10="12x18",DQ10,IF(F10="12x24",DS10,IF(F10="12x36",DU10,IF(F10="12x48",DW10))))))))))) | R10: =IF(F10="","",LOOKUP(F10,$BI$14:$BI$22,$BP$14:$BP$22)) | S10: =IF(RIGHT(E10,7)="AVT3000","No",IF(RIGHT(E10,7)="AVC5000","Yes","")) | T10: =IF(F10="","",IF($N$2="CFM",LOOKUP(F10,$BI$14:$BJ$22),IF($N$2="LPS", LOOKUP(F10,$BI$173:$BJ$181),IF($N$2="CMH",LOOKUP(F10,$BI$187:$BJ$195)," ")))) | U10: =IF(F10="","",IF($N$2="CFM",LOOKUP(F10,$BI$14:$BI$22,$BL$14:$BL$22),IF($N$2="LPS", LOOKUP(F10,$BI$173:$BI$181,$BL$173:$BL$181),IF($N$2="CMH",LOOKUP(F10,$BI$187:$BI$195,$BL$187:$BL$195)," ")))) | V10: =IF(F10="","",IF($N$2="CFM",LOOKUP(F10,$BI$14:$BI$22,$BM$14:$BM$22),IF($N$2="LPS", LOOKUP(F10,$BI$173:$BI$181,$BM$173:$BM$181),IF($N$2="CMH",LOOKUP(F10,$BI$187:$BI$195,$BM$187:$BM$195)," ")))) | W10: =IF(F10="","",IF($N$2="CFM",LOOKUP(F10,$BI$14:$BI$22,$BN$14:$BN$22),IF($N$2="LPS", LOOKUP(F10,$BI$173:$BI$181,$BN$173:$BN$181),IF($N$2="CMH",LOOKUP(F10,$BI$187:$BI$195,$BN$187:$BN$195)," ")))) | X10: =IF(RIGHT(E10,7)="AVT3000","No",IF(RIGHT(E10,7)="AVC5000","Yes","")) | Y10: =IF(LEFT(E10,1)="H","H-","") | Z10: =IF(RIGHT(E10,7)="AVT3000","AVT3",IF(RIGHT(E10,7)="AVC5000","AVC5","")) | AA10: =IF(RIGHT(E10,6)="AV3000","AV3",IF(RIGHT(E10,7)="AVC5000","AVC5","")) | AB10: =IF(F10="","",LOOKUP(F10,$BI$14:$BI$22,$BQ$14:$BQ$22)) | AC10: =IF(G10="","",LOOKUP(G10,$BI$31:$BJ$37)) | AD10: =IF(H10="","",LOOKUP(H10,$BI$41:$BJ$47)) | AE10: =IF(AF10="","","-") | AF10: =IF(F10="","",LOOKUP(F10,$BI$14:$BI$22,$BO$14:$BO$22)) | AG10: =IF(G10="","","-") | AH10: =IF(I10="AccuNet","A","") | AI10: =IF(J10="BACnet","B","") | AJ10: =IF(K10="Flanged","F","") | AK10: =IF(L10="Insulation","I","") | AL10: =IF(M10="Tight Shutoff","S","") | AP10: =IF(S10="NO",1,0) -> 0 | AQ10: =AP10 -> 0 | AR10: =IF(AP10>0,AQ10,AQ10+0.1) -> 0.1 | AS10: =IF(S10="NO",C10,"") | AT10: =IF(S10="no",IF(B10="","",B10),"") | AV10: =IF(D10="",0,1) -> 0 | AW10: =AV10 -> 0 | AX10: =IF(AV10>0,AW10,AW10+0.1) -> 0.1 | AY10: =IF(AV10=0,"",IF(C10="","",C10)) | AZ10: =IF(AV10=0,"",IF(B10="","",B10)) | BB10: =CONCATENATE(Y10,Z10,AB10,AC10,AD10,AE10,AF10,AG10,AH10,AI10,AJ10,AK10,AL10) | BC10: =IF(BC3="test",BC7,BB10) | BD10: =IF(N10="","",N10) | BG10: =IF(D10="","",Q10-$T$3) | BY10: =IF(G10="","",IF(LEFT(G10,3)="304","_304SS",IF(LEFT(G10,3)="316","_316SS",G10))) | BZ10: =IF(E10="AVT3000","AV3000X",IF(E10="AVC5000","AVC5000X",IF(E10="H-AVT3000","H_AV3000",IF(E10="H-AVC5000","H_AVC5000","")))) | CB10: =IF(CD10="CageRack","AVC5000CR",BZ10) | CD10: =IF(D10="supply","supply",IF(D10="FH Exhaust","FHExhaust", IF(D10="GE","GE",IF(D10="Other Exhaust","OtherExhaust",IF(D10="Return","Return",IF(D10="Cage Rack","CageRack",IF(D10="Bio Safety Cab","BioSafetyCab",IF(D10="Canopy Ex","CanopyEx",IF(D10="Snorkel","Snorkel",IF(D10="Acid resistant","AcidRes","")))))))))) | CF10: =IF(D10="supply","supplyV",IF(D10="FH Exhaust","FHExhaustV",IF(D10="GE","GEV",IF(D10="Other Exhaust","OtherExhaustV",IF(D10="Return","ReturnV",IF(D10="Cage Rack","CageRackV",IF(D10="Bio Safety Cab","BioSafetyCabV",IF(D10="Canopy Ex","CanopyExV",IF(D10="Snorkel","SnorkelV",IF(D10="Acid resistant","AcidResV","")))))))))) | CH10: =IF(F10=6,"AL",IF(F10=8,"AL",(IF(F10=10,"AL",IF(F10=12,"AL",IF(F10=14,"AL",IF(F10="12x18","NOAL",IF(F10="12x24","NOAL",IF(F10="12x36","NOAL",IF(F10="12x48","NOAL","")))))))))) | CJ10: =IF(AND(D10="acid resistant",E10="AVC5000"),"AVC5000MC",IF(AND(D10="acid resistant",E10="AVT3000"),"AV3000MC",IF(E10="AVT3000","AV3000M",IF(E10="AVC5000","AVC5000M",IF(E10="H-AVT3000","H_AV3000M",IF(E10="H-AVC5000","H_AVC5000M","")))))) | CL10: =IF(CD10="CageRack","AVC5000CRM",CJ10) | CN10: =IF(G10="PFAcoated","NOSOPFA",IF(F10=6,"NOSO",IF(F10=8,"SO",(IF(F10=10,"SO",IF(F10=12,"SO",IF(F10=14,"SO",IF(F10="12x18","SO",IF(F10="12x24","SO",IF(F10="12x36","SO",IF(F10="12x48","SO",""))))))))))) | CP10: =IF(G10="","",IF(G10="PFACoated", "NOFL","FL")) | CR10: =IF(S10="YES","CTL",IF(S10="NO","NOCTL","")) | CT10: =IF(E10="H-AVT3000","H_AVT3A",IF(E10="AVT3000","AVT3A",IF(E10="H-AVC5000","AVCA",IF(E10="AVC5000","AVCA","")))) | CV10: =IF(E10="","",IF(E10="H-AVT3000","H_AVT3B",IF(E10="AVT3000","AVT3B",IF(E10="H-AVC5000","AVCB",IF(E10="AVC5000","AVCB"))))) | CX10: =IF(X10="YES",0,IF(X10="NO",1,"")) | CY10: =IF(X10="YES",1,IF(X10="NO",0,"")) | DA10: =VLOOKUP(H10,$BI$41:$BJ$47,2) -> #N/A | DC10: =P10 -> 0 | DD10: =P10*$DD$6 -> 0 | DE10: =P10*$DE$6 -> 0 | DF10: =IF($N$2="CFM",(0.0026*(($DC10)/25)^2+0.0035*($DC10)/25-0.0047),IF($N$2="LPS",(0.0026*(($DD10)/25)^2+0.0035*($DD10)/25-0.0047),IF($N$2="CMH",(0.0026*(($DE10)/25)^2+0.0035*($DE10)/25-0.0047),""))) -> -0.0047 | DG10: =DF10*249 -> -1.1703 | DH10: =IF($N$2="CFM",(0.0017*(($DC10-50)/50)^2+0.0041*($DC10-50)/50+0.0056),IF($N$2="LPS",(0.0017*(($DD10-50)/50)^2+0.0041*($DD10-50)/50+0.0056),IF($N$2="CMH",(0.0017*(($DE10-50)/50)^2+0.0041*($DE10-50)/50+0.0056),""))) -> 0.0032 | DI10: =DH10*249 -> 0.7968 | DJ10: =IF($N$2="CFM",(0.0026*(($DC10)/100)^2+0.0012*($DC10)/100-0.0027),IF($N$2="LPS",(0.0026*(($DD10)/100)^2+0.0012*($DD10)/100-0.0027),IF($N$2="CMH",(0.0026*(($DE10)/100)^2+0.0012*($DE10)/100-0.0027),""))) -> -0.0027 | DK10: =DJ10*249 -> -0.6723 | DL10: =IF($N$2="CFM",(0.0056*(($DC10)/200)^2-0.0008*($DC10)/200+0.0012),IF($N$2="LPS",(0.0056*(($DD10)/200)^2-0.0008*($DD10)/200+0.0012),IF($N$2="CMH",(0.0056*(($DE10)/200)^2-0.0008*($DE10)/200+0.0012),""))) -> 0.0012 | DM10: =DL10*249 -> 0.2988 | DN10: =IF($N$2="CFM",(0.0062*(($DC10)/300)^2-0.0094*($DC10)/300+0.0146),IF($N$2="LPS",(0.0062*(($DD10)/300)^2-0.0094*($DD10)/300+0.0146),IF($N$2="CMH",(0.0062*(($DE10)/300)^2-0.0094*($DE10)/300+0.0146),""))) -> 0.0146 | DO10: =DN10*249 -> 3.6354 | DP10: =IF($N$2="CFM",(0.0058*((DC10)/400)^2+0.0106*(DC10)/400-0.013),IF($N$2="LPS",(0.0058*((DD10)/400)^2+0.0106*(DD10)/400-0.013),IF($N$2="CMH",(0.0058*((DE10)/400)^2+0.0106*(DE10)/400-0.013),""))) -> -0.013 | DQ10: =DP10*249 -> -3.237 | DR10: =IF($N$2="CFM",(0.0063*(($DC10)/500)^2+0.0066*($DC10)/500-0.0067),IF($N$2="LPS",(0.0063*(($DD10)/500)^2+0.0066*($DD10)/500-0.0067),IF($N$2="CMH",(0.0063*(($DE10)/500)^2+0.0066*($DE10)/500-0.0067),""))) -> -0.0067 | DS10: =DR10*249 -> -1.6683 | DT10: =IF($N$2="CFM",(0.0058*(($DC10)/800)^2+0.0106*($DC10)/800-0.013),IF($N$2="LPS",(0.0058*(($DD10)/800)^2+0.0106*($DD10)/800-0.013),IF($N$2="CMH",(0.0058*(($DE10)/800)^2+0.0106*($DE10)/800-0.013),""))) -> -0.013 | DU10: =DT10*249 -> -3.237 | DV10: =IF($N$2="CFM",(0.0063*(($DC10)/1000)^2+0.0066*($DC10)/1000-0.0067),IF($N$2="LPS",(0.0063*(($DD10)/1000)^2+0.0066*($DD10)/1000-0.0067),IF($N$2="CMH",(0.0063*(($DE10)/1000)^2+0.0066*($DE10)/1000-0.0067),""))) -> -0.0067 | DW10: =DV10*249 -> -1.6683
A11: 2 | Q11: =IF(P11=""," ",IF($N$3="in WC",IF(F11="","",IF(F11=6,DF11,IF(F11=8,DH11,IF(F11=10,DJ11,IF(F11=12,DL11,IF(F11=14,DN11,IF(F11="12x18",DP11,IF(F11="12x24",DR11,IF(F11="12x36",DT11,IF(F11="12x48",DV11)))))))))),IF(F11=6,DG11,IF(F11=8,DI11,IF(F11=10,DK11,IF(F11=12,DM11,IF(F11=14,DO11,IF(F11="12x18",DQ11,IF(F11="12x24",DS11,IF(F11="12x36",DU11,IF(F11="12x48",DW11))))))))))) | R11: =IF(F11="","",LOOKUP(F11,$BI$14:$BI$22,$BP$14:$BP$22)) | S11: =IF(RIGHT(E11,7)="AVT3000","No",IF(RIGHT(E11,7)="AVC5000","Yes","")) | T11: =IF(F11="","",IF($N$2="CFM",LOOKUP(F11,$BI$14:$BJ$22),IF($N$2="LPS", LOOKUP(F11,$BI$173:$BJ$181),IF($N$2="CMH",LOOKUP(F11,$BI$187:$BJ$195)," ")))) | U11: =IF(F11="","",IF($N$2="CFM",LOOKUP(F11,$BI$14:$BI$22,$BL$14:$BL$22),IF($N$2="LPS", LOOKUP(F11,$BI$173:$BI$181,$BL$173:$BL$181),IF($N$2="CMH",LOOKUP(F11,$BI$187:$BI$195,$BL$187:$BL$195)," ")))) | V11: =IF(F11="","",IF($N$2="CFM",LOOKUP(F11,$BI$14:$BI$22,$BM$14:$BM$22),IF($N$2="LPS", LOOKUP(F11,$BI$173:$BI$181,$BM$173:$BM$181),IF($N$2="CMH",LOOKUP(F11,$BI$187:$BI$195,$BM$187:$BM$195)," ")))) | W11: =IF(F11="","",IF($N$2="CFM",LOOKUP(F11,$BI$14:$BI$22,$BN$14:$BN$22),IF($N$2="LPS", LOOKUP(F11,$BI$173:$BI$181,$BN$173:$BN$181),IF($N$2="CMH",LOOKUP(F11,$BI$187:$BI$195,$BN$187:$BN$195)," ")))) | X11: =IF(RIGHT(E11,7)="AVT3000","No",IF(RIGHT(E11,7)="AVC5000","Yes","")) | Y11: =IF(LEFT(E11,1)="H","H-","") | Z11: =IF(RIGHT(E11,7)="AVT3000","AVT3",IF(RIGHT(E11,7)="AVC5000","AVC5","")) | AA11: =IF(RIGHT(E11,6)="AV3000","AV3",IF(RIGHT(E11,7)="AVC5000","AVC5","")) | AB11: =IF(F11="","",LOOKUP(F11,$BI$14:$BI$22,$BQ$14:$BQ$22)) | AC11: =IF(G11="","",LOOKUP(G11,$BI$31:$BJ$37)) | AD11: =IF(H11="","",LOOKUP(H11,$BI$41:$BJ$47)) | AE11: =IF(AF11="","","-") | AF11: =IF(F11="","",LOOKUP(F11,$BI$14:$BI$22,$BO$14:$BO$22)) | AG11: =IF(G11="","","-") | AH11: =IF(I11="AccuNet","A","") | AI11: =IF(J11="BACnet","B","") | AJ11: =IF(K11="Flanged","F","") | AK11: =IF(L11="Insulation","I","") | AL11: =IF(M11="Tight Shutoff","S","") | AP11: =IF(S11="NO",1,0) -> 0 | AQ11: =SUM(AP$10:AP11) -> 0 | AR11: =IF(AP11>0,AQ11,AQ11+0.1) -> 0.1 | AS11: =IF(S11="NO",C11,"") | AT11: =IF(S11="no",IF(B11="","",B11),"") | AV11: =IF(D11="",0,1) -> 0 | AW11: =SUM(AV$10:AV11) -> 0 | AX11: =IF(AV11>0,AW11,AW11+0.1) -> 0.1 | AY11: =IF(AV11=0,"",IF(C11="","",C11)) | AZ11: =IF(AV11=0,"",IF(B11="","",B11)) | BB11: =CONCATENATE(Y11,Z11,AB11,AC11,AD11,AE11,AF11,AG11,AH11,AI11,AJ11,AK11,AL11) | BC11: =BB11 | BD11: =IF(N11="","",N11) | BG11: =IF(D11="","",Q11-$T$3) | BI11: AVC Valve Size | BW11: Set up if/then statememnt | BY11: =IF(G11="","",IF(LEFT(G11,3)="304","_304SS",IF(LEFT(G11,3)="316","_316SS",G11))) | BZ11: =IF(E11="AVT3000","AV3000X",IF(E11="AVC5000","AVC5000X",IF(E11="H-AVT3000","H_AV3000",IF(E11="H-AVC5000","H_AVC5000","")))) | CB11: =IF(CD11="CageRack","AVC5000CR",BZ11) | CD11: =IF(D11="supply","supply",IF(D11="FH Exhaust","FHExhaust", IF(D11="GE","GE",IF(D11="Other Exhaust","OtherExhaust",IF(D11="Return","Return",IF(D11="Cage Rack","CageRack",IF(D11="Bio Safety Cab","BioSafetyCab",IF(D11="Canopy Ex","CanopyEx",IF(D11="Snorkel","Snorkel",IF(D11="Acid resistant","AcidRes","")))))))))) | CF11: =IF(D11="supply","supplyV",IF(D11="FH Exhaust","FHExhaustV",IF(D11="GE","GEV",IF(D11="Other Exhaust","OtherExhaustV",IF(D11="Return","ReturnV",IF(D11="Cage Rack","CageRackV",IF(D11="Bio Safety Cab","BioSafetyCabV",IF(D11="Canopy Ex","CanopyExV",IF(D11="Snorkel","SnorkelV",IF(D11="Acid resistant","AcidResV","")))))))))) | CH11: =IF(F11=6,"AL",IF(F11=8,"AL",(IF(F11=10,"AL",IF(F11=12,"AL",IF(F11=14,"AL",IF(F11="12x18","NOAL",IF(F11="12x24","NOAL",IF(F11="12x36","NOAL",IF(F11="12x48","NOAL","")))))))))) | CJ11: =IF(AND(D11="acid resistant",E11="AVC5000"),"AVC5000MC",IF(AND(D11="acid resistant",E11="AVT3000"),"AV3000MC",IF(E11="AVT3000","AV3000M",IF(E11="AVC5000","AVC5000M",IF(E11="H-AVT3000","H_AV3000M",IF(E11="H-AVC5000","H_AVC5000M","")))))) | CL11: =IF(CD11="CageRack","AVC5000CRM",CJ11) | CN11: =IF(G11="PFAcoated","NOSOPFA",IF(F11=6,"NOSO",IF(F11=8,"SO",(IF(F11=10,"SO",IF(F11=12,"SO",IF(F11=14,"SO",IF(F11="12x18","SO",IF(F11="12x24","SO",IF(F11="12x36","SO",IF(F11="12x48","SO",""))))))))))) | CP11: =IF(G11="","",IF(G11="PFACoated", "NOFL","FL")) | CR11: =IF(S11="YES","CTL",IF(S11="NO","NOCTL","")) | CT11: =IF(E11="H-AVT3000","H_AVT3A",IF(E11="AVT3000","AVT3A",IF(E11="H-AVC5000","AVCA",IF(E11="AVC5000","AVCA","")))) | CV11: =IF(E11="","",IF(E11="H-AVT3000","H_AVT3B",IF(E11="AVT3000","AVT3B",IF(E11="H-AVC5000","AVCB",IF(E11="AVC5000","AVCB"))))) | CX11: =IF(X11="YES",0,IF(X11="NO",1,"")) | CY11: =IF(X11="YES",1,IF(X11="NO",0,"")) | DA11: =IF(H11="","",VLOOKUP(H11,$BI$41:$BJ$47,2)) | DC11: =P11 -> 0 | DD11: =P11*$DD$6 -> 0 | DE11: =P11*$DE$6 -> 0 | DF11: =IF($N$2="CFM",(0.0026*(($DC11)/25)^2+0.0035*($DC11)/25-0.0047),IF($N$2="LPS",(0.0026*(($DD11)/25)^2+0.0035*($DD11)/25-0.0047),IF($N$2="CMH",(0.0026*(($DE11)/25)^2+0.0035*($DE11)/25-0.0047),""))) -> -0.0047 | DG11: =DF11*249 -> -1.1703 | DH11: =IF($N$2="CFM",(0.0017*(($DC11-50)/50)^2+0.0041*($DC11-50)/50+0.0056),IF($N$2="LPS",(0.0017*(($DD11-50)/50)^2+0.0041*($DD11-50)/50+0.0056),IF($N$2="CMH",(0.0017*(($DE11-50)/50)^2+0.0041*($DE11-50)/50+0.0056),""))) -> 0.0032 | DI11: =DH11*249 -> 0.7968 | DJ11: =IF($N$2="CFM",(0.0026*(($DC11)/100)^2+0.0012*($DC11)/100-0.0027),IF($N$2="LPS",(0.0026*(($DD11)/100)^2+0.0012*($DD11)/100-0.0027),IF($N$2="CMH",(0.0026*(($DE11)/100)^2+0.0012*($DE11)/100-0.0027),""))) -> -0.0027 | DK11: =DJ11*249 -> -0.6723 | DL11: =IF($N$2="CFM",(0.0056*(($DC11)/200)^2-0.0008*($DC11)/200+0.0012),IF($N$2="LPS",(0.0056*(($DD11)/200)^2-0.0008*($DD11)/200+0.0012),IF($N$2="CMH",(0.0056*(($DE11)/200)^2-0.0008*($DE11)/200+0.0012),""))) -> 0.0012 | DM11: =DL11*249 -> 0.2988 | DN11: =IF($N$2="CFM",(0.0062*(($DC11)/300)^2-0.0094*($DC11)/300+0.0146),IF($N$2="LPS",(0.0062*(($DD11)/300)^2-0.0094*($DD11)/300+0.0146),IF($N$2="CMH",(0.0062*(($DE11)/300)^2-0.0094*($DE11)/300+0.0146),""))) -> 0.0146 | DO11: =DN11*249 -> 3.6354 | DP11: =IF($N$2="CFM",(0.0058*((DC11)/400)^2+0.0106*(DC11)/400-0.013),IF($N$2="LPS",(0.0058*((DD11)/400)^2+0.0106*(DD11)/400-0.013),IF($N$2="CMH",(0.0058*((DE11)/400)^2+0.0106*(DE11)/400-0.013),""))) -> -0.013 | DQ11: =DP11*249 -> -3.237 | DR11: =IF($N$2="CFM",(0.0063*(($DC11)/500)^2+0.0066*($DC11)/500-0.0067),IF($N$2="LPS",(0.0063*(($DD11)/500)^2+0.0066*($DD11)/500-0.0067),IF($N$2="CMH",(0.0063*(($DE11)/500)^2+0.0066*($DE11)/500-0.0067),""))) -> -0.0067 | DS11: =DR11*249 -> -1.6683 | DT11: =IF($N$2="CFM",(0.0058*(($DC11)/800)^2+0.0106*($DC11)/800-0.013),IF($N$2="LPS",(0.0058*(($DD11)/800)^2+0.0106*($DD11)/800-0.013),IF($N$2="CMH",(0.0058*(($DE11)/800)^2+0.0106*($DE11)/800-0.013),""))) -> -0.013 | DU11: =DT11*249 -> -3.237 | DV11: =IF($N$2="CFM",(0.0063*(($DC11)/1000)^2+0.0066*($DC11)/1000-0.0067),IF($N$2="LPS",(0.0063*(($DD11)/1000)^2+0.0066*($DD11)/1000-0.0067),IF($N$2="CMH",(0.0063*(($DE11)/1000)^2+0.0066*($DE11)/1000-0.0067),""))) -> -0.0067 | DW11: =DV11*249 -> -1.6683
A12: 3 | Q12: =IF(P12=""," ",IF($N$3="in WC",IF(F12="","",IF(F12=6,DF12,IF(F12=8,DH12,IF(F12=10,DJ12,IF(F12=12,DL12,IF(F12=14,DN12,IF(F12="12x18",DP12,IF(F12="12x24",DR12,IF(F12="12x36",DT12,IF(F12="12x48",DV12)))))))))),IF(F12=6,DG12,IF(F12=8,DI12,IF(F12=10,DK12,IF(F12=12,DM12,IF(F12=14,DO12,IF(F12="12x18",DQ12,IF(F12="12x24",DS12,IF(F12="12x36",DU12,IF(F12="12x48",DW12))))))))))) | R12: =IF(F12="","",LOOKUP(F12,$BI$14:$BI$22,$BP$14:$BP$22)) | S12: =IF(RIGHT(E12,7)="AVT3000","No",IF(RIGHT(E12,7)="AVC5000","Yes","")) | T12: =IF(F12="","",IF($N$2="CFM",LOOKUP(F12,$BI$14:$BJ$22),IF($N$2="LPS", LOOKUP(F12,$BI$173:$BJ$181),IF($N$2="CMH",LOOKUP(F12,$BI$187:$BJ$195)," ")))) | U12: =IF(F12="","",IF($N$2="CFM",LOOKUP(F12,$BI$14:$BI$22,$BL$14:$BL$22),IF($N$2="LPS", LOOKUP(F12,$BI$173:$BI$181,$BL$173:$BL$181),IF($N$2="CMH",LOOKUP(F12,$BI$187:$BI$195,$BL$187:$BL$195)," ")))) | V12: =IF(F12="","",IF($N$2="CFM",LOOKUP(F12,$BI$14:$BI$22,$BM$14:$BM$22),IF($N$2="LPS", LOOKUP(F12,$BI$173:$BI$181,$BM$173:$BM$181),IF($N$2="CMH",LOOKUP(F12,$BI$187:$BI$195,$BM$187:$BM$195)," ")))) | W12: =IF(F12="","",IF($N$2="CFM",LOOKUP(F12,$BI$14:$BI$22,$BN$14:$BN$22),IF($N$2="LPS", LOOKUP(F12,$BI$173:$BI$181,$BN$173:$BN$181),IF($N$2="CMH",LOOKUP(F12,$BI$187:$BI$195,$BN$187:$BN$195)," ")))) | X12: =IF(RIGHT(E12,7)="AVT3000","No",IF(RIGHT(E12,7)="AVC5000","Yes","")) | Y12: =IF(LEFT(E12,1)="H","H-","") | Z12: =IF(RIGHT(E12,7)="AVT3000","AVT3",IF(RIGHT(E12,7)="AVC5000","AVC5","")) | AA12: =IF(RIGHT(E12,6)="AV3000","AV3",IF(RIGHT(E12,7)="AVC5000","AVC5","")) | AB12: =IF(F12="","",LOOKUP(F12,$BI$14:$BI$22,$BQ$14:$BQ$22)) | AC12: =IF(G12="","",LOOKUP(G12,$BI$31:$BJ$37)) | AD12: =IF(H12="","",LOOKUP(H12,$BI$41:$BJ$47)) | AE12: =IF(AF12="","","-") | AF12: =IF(F12="","",LOOKUP(F12,$BI$14:$BI$22,$BO$14:$BO$22)) | AG12: =IF(G12="","","-") | AH12: =IF(I12="AccuNet","A","") | AI12: =IF(J12="BACnet","B","") | AJ12: =IF(K12="Flanged","F","") | AK12: =IF(L12="Insulation","I","") | AL12: =IF(M12="Tight Shutoff","S","") | AP12: =IF(S12="NO",1,0) -> 0 | AQ12: =SUM(AP$10:AP12) -> 0 | AR12: =IF(AP12>0,AQ12,AQ12+0.1) -> 0.1 | AS12: =IF(S12="NO",C12,"") | AT12: =IF(S12="no",IF(B12="","",B12),"") | AV12: =IF(D12="",0,1) -> 0 | AW12: =SUM(AV$10:AV12) -> 0 | AX12: =IF(AV12>0,AW12,AW12+0.1) -> 0.1 | AY12: =IF(AV12=0,"",IF(C12="","",C12)) | AZ12: =IF(AV12=0,"",IF(B12="","",B12)) | BB12: =CONCATENATE(Y12,Z12,AB12,AC12,AD12,AE12,AF12,AG12,AH12,AI12,AJ12,AK12,AL12) | BC12: =BB12 | BD12: =IF(N12="","",N12) | BG12: =IF(D12="","",Q12-$T$3) | BJ12: CFM | BM12: Xmtr Range | BR12: Airflow | BY12: =IF(G12="","",IF(LEFT(G12,3)="304","_304SS",IF(LEFT(G12,3)="316","_316SS",G12))) | BZ12: =IF(E12="AVT3000","AV3000X",IF(E12="AVC5000","AVC5000X",IF(E12="H-AVT3000","H_AV3000",IF(E12="H-AVC5000","H_AVC5000","")))) | CB12: =IF(CD12="CageRack","AVC5000CR",BZ12) | CD12: =IF(D12="supply","supply",IF(D12="FH Exhaust","FHExhaust", IF(D12="GE","GE",IF(D12="Other Exhaust","OtherExhaust",IF(D12="Return","Return",IF(D12="Cage Rack","CageRack",IF(D12="Bio Safety Cab","BioSafetyCab",IF(D12="Canopy Ex","CanopyEx",IF(D12="Snorkel","Snorkel",IF(D12="Acid resistant","AcidRes","")))))))))) | CF12: =IF(D12="supply","supplyV",IF(D12="FH Exhaust","FHExhaustV",IF(D12="GE","GEV",IF(D12="Other Exhaust","OtherExhaustV",IF(D12="Return","ReturnV",IF(D12="Cage Rack","CageRackV",IF(D12="Bio Safety Cab","BioSafetyCabV",IF(D12="Canopy Ex","CanopyExV",IF(D12="Snorkel","SnorkelV",IF(D12="Acid resistant","AcidResV","")))))))))) | CH12: =IF(F12=6,"AL",IF(F12=8,"AL",(IF(F12=10,"AL",IF(F12=12,"AL",IF(F12=14,"AL",IF(F12="12x18","NOAL",IF(F12="12x24","NOAL",IF(F12="12x36","NOAL",IF(F12="12x48","NOAL","")))))))))) | CJ12: =IF(AND(D12="acid resistant",E12="AVC5000"),"AVC5000MC",IF(AND(D12="acid resistant",E12="AVT3000"),"AV3000MC",IF(E12="AVT3000","AV3000M",IF(E12="AVC5000","AVC5000M",IF(E12="H-AVT3000","H_AV3000M",IF(E12="H-AVC5000","H_AVC5000M","")))))) | CL12: =IF(CD12="CageRack","AVC5000CRM",CJ12) | CN12: =IF(G12="PFAcoated","NOSOPFA",IF(F12=6,"NOSO",IF(F12=8,"SO",(IF(F12=10,"SO",IF(F12=12,"SO",IF(F12=14,"SO",IF(F12="12x18","SO",IF(F12="12x24","SO",IF(F12="12x36","SO",IF(F12="12x48","SO",""))))))))))) | CP12: =IF(G12="","",IF(G12="PFACoated", "NOFL","FL")) | CR12: =IF(S12="YES","CTL",IF(S12="NO","NOCTL","")) | CT12: =IF(E12="H-AVT3000","H_AVT3A",IF(E12="AVT3000","AVT3A",IF(E12="H-AVC5000","AVCA",IF(E12="AVC5000","AVCA","")))) | CV12: =IF(E12="","",IF(E12="H-AVT3000","H_AVT3B",IF(E12="AVT3000","AVT3B",IF(E12="H-AVC5000","AVCB",IF(E12="AVC5000","AVCB"))))) | CX12: =IF(X12="YES",0,IF(X12="NO",1,"")) | CY12: =IF(X12="YES",1,IF(X12="NO",0,"")) | DA12: =IF(H12="","",VLOOKUP(H12,$BI$41:$BJ$47,2)) | DC12: =P12 -> 0 | DD12: =P12*$DD$6 -> 0 | DE12: =P12*$DE$6 -> 0 | DF12: =IF($N$2="CFM",(0.0026*(($DC12)/25)^2+0.0035*($DC12)/25-0.0047),IF($N$2="LPS",(0.0026*(($DD12)/25)^2+0.0035*($DD12)/25-0.0047),IF($N$2="CMH",(0.0026*(($DE12)/25)^2+0.0035*($DE12)/25-0.0047),""))) -> -0.0047 | DG12: =DF12*249 -> -1.1703 | DH12: =IF($N$2="CFM",(0.0017*(($DC12-50)/50)^2+0.0041*($DC12-50)/50+0.0056),IF($N$2="LPS",(0.0017*(($DD12-50)/50)^2+0.0041*($DD12-50)/50+0.0056),IF($N$2="CMH",(0.0017*(($DE12-50)/50)^2+0.0041*($DE12-50)/50+0.0056),""))) -> 0.0032 | DI12: =DH12*249 -> 0.7968 | DJ12: =IF($N$2="CFM",(0.0026*(($DC12)/100)^2+0.0012*($DC12)/100-0.0027),IF($N$2="LPS",(0.0026*(($DD12)/100)^2+0.0012*($DD12)/100-0.0027),IF($N$2="CMH",(0.0026*(($DE12)/100)^2+0.0012*($DE12)/100-0.0027),""))) -> -0.0027 | DK12: =DJ12*249 -> -0.6723 | DL12: =IF($N$2="CFM",(0.0056*(($DC12)/200)^2-0.0008*($DC12)/200+0.0012),IF($N$2="LPS",(0.0056*(($DD12)/200)^2-0.0008*($DD12)/200+0.0012),IF($N$2="CMH",(0.0056*(($DE12)/200)^2-0.0008*($DE12)/200+0.0012),""))) -> 0.0012 | DM12: =DL12*249 -> 0.2988 | DN12: =IF($N$2="CFM",(0.0062*(($DC12)/300)^2-0.0094*($DC12)/300+0.0146),IF($N$2="LPS",(0.0062*(($DD12)/300)^2-0.0094*($DD12)/300+0.0146),IF($N$2="CMH",(0.0062*(($DE12)/300)^2-0.0094*($DE12)/300+0.0146),""))) -> 0.0146 | DO12: =DN12*249 -> 3.6354 | DP12: =IF($N$2="CFM",(0.0058*((DC12)/400)^2+0.0106*(DC12)/400-0.013),IF($N$2="LPS",(0.0058*((DD12)/400)^2+0.0106*(DD12)/400-0.013),IF($N$2="CMH",(0.0058*((DE12)/400)^2+0.0106*(DE12)/400-0.013),""))) -> -0.013 | DQ12: =DP12*249 -> -3.237 | DR12: =IF($N$2="CFM",(0.0063*(($DC12)/500)^2+0.0066*($DC12)/500-0.0067),IF($N$2="LPS",(0.0063*(($DD12)/500)^2+0.0066*($DD12)/500-0.0067),IF($N$2="CMH",(0.0063*(($DE12)/500)^2+0.0066*($DE12)/500-0.0067),""))) -> -0.0067 | DS12: =DR12*249 -> -1.6683 | DT12: =IF($N$2="CFM",(0.0058*(($DC12)/800)^2+0.0106*($DC12)/800-0.013),IF($N$2="LPS",(0.0058*(($DD12)/800)^2+0.0106*($DD12)/800-0.013),IF($N$2="CMH",(0.0058*(($DE12)/800)^2+0.0106*($DE12)/800-0.013),""))) -> -0.013 | DU12: =DT12*249 -> -3.237 | DV12: =IF($N$2="CFM",(0.0063*(($DC12)/1000)^2+0.0066*($DC12)/1000-0.0067),IF($N$2="LPS",(0.0063*(($DD12)/1000)^2+0.0066*($DD12)/1000-0.0067),IF($N$2="CMH",(0.0063*(($DE12)/1000)^2+0.0066*($DE12)/1000-0.0067),""))) -> -0.0067 | DW12: =DV12*249 -> -1.6683
A13: 4 | Q13: =IF(P13=""," ",IF($N$3="in WC",IF(F13="","",IF(F13=6,DF13,IF(F13=8,DH13,IF(F13=10,DJ13,IF(F13=12,DL13,IF(F13=14,DN13,IF(F13="12x18",DP13,IF(F13="12x24",DR13,IF(F13="12x36",DT13,IF(F13="12x48",DV13)))))))))),IF(F13=6,DG13,IF(F13=8,DI13,IF(F13=10,DK13,IF(F13=12,DM13,IF(F13=14,DO13,IF(F13="12x18",DQ13,IF(F13="12x24",DS13,IF(F13="12x36",DU13,IF(F13="12x48",DW13))))))))))) | R13: =IF(F13="","",LOOKUP(F13,$BI$14:$BI$22,$BP$14:$BP$22)) | S13: =IF(RIGHT(E13,7)="AVT3000","No",IF(RIGHT(E13,7)="AVC5000","Yes","")) | T13: =IF(F13="","",IF($N$2="CFM",LOOKUP(F13,$BI$14:$BJ$22),IF($N$2="LPS", LOOKUP(F13,$BI$173:$BJ$181),IF($N$2="CMH",LOOKUP(F13,$BI$187:$BJ$195)," ")))) | U13: =IF(F13="","",IF($N$2="CFM",LOOKUP(F13,$BI$14:$BI$22,$BL$14:$BL$22),IF($N$2="LPS", LOOKUP(F13,$BI$173:$BI$181,$BL$173:$BL$181),IF($N$2="CMH",LOOKUP(F13,$BI$187:$BI$195,$BL$187:$BL$195)," ")))) | V13: =IF(F13="","",IF($N$2="CFM",LOOKUP(F13,$BI$14:$BI$22,$BM$14:$BM$22),IF($N$2="LPS", LOOKUP(F13,$BI$173:$BI$181,$BM$173:$BM$181),IF($N$2="CMH",LOOKUP(F13,$BI$187:$BI$195,$BM$187:$BM$195)," ")))) | W13: =IF(F13="","",IF($N$2="CFM",LOOKUP(F13,$BI$14:$BI$22,$BN$14:$BN$22),IF($N$2="LPS", LOOKUP(F13,$BI$173:$BI$181,$BN$173:$BN$181),IF($N$2="CMH",LOOKUP(F13,$BI$187:$BI$195,$BN$187:$BN$195)," ")))) | X13: =IF(RIGHT(E13,7)="AVT3000","No",IF(RIGHT(E13,7)="AVC5000","Yes","")) | Y13: =IF(LEFT(E13,1)="H","H-","") | Z13: =IF(RIGHT(E13,7)="AVT3000","AVT3",IF(RIGHT(E13,7)="AVC5000","AVC5","")) | AA13: =IF(RIGHT(E13,6)="AV3000","AV3",IF(RIGHT(E13,7)="AVC5000","AVC5","")) | AB13: =IF(F13="","",LOOKUP(F13,$BI$14:$BI$22,$BQ$14:$BQ$22)) | AC13: =IF(G13="","",LOOKUP(G13,$BI$31:$BJ$37)) | AD13: =IF(H13="","",LOOKUP(H13,$BI$41:$BJ$47)) | AE13: =IF(AF13="","","-") | AF13: =IF(F13="","",LOOKUP(F13,$BI$14:$BI$22,$BO$14:$BO$22)) | AG13: =IF(G13="","","-") | AH13: =IF(I13="AccuNet","A","") | AI13: =IF(J13="BACnet","B","") | AJ13: =IF(K13="Flanged","F","") | AK13: =IF(L13="Insulation","I","") | AL13: =IF(M13="Tight Shutoff","S","") | AP13: =IF(S13="NO",1,0) -> 0 | AQ13: =SUM(AP$10:AP13) -> 0 | AR13: =IF(AP13>0,AQ13,AQ13+0.1) -> 0.1 | AS13: =IF(S13="NO",C13,"") | AT13: =IF(S13="no",IF(B13="","",B13),"") | AV13: =IF(D13="",0,1) -> 0 | AW13: =SUM(AV$10:AV13) -> 0 | AX13: =IF(AV13>0,AW13,AW13+0.1) -> 0.1 | AY13: =IF(AV13=0,"",IF(C13="","",C13)) | AZ13: =IF(AV13=0,"",IF(B13="","",B13)) | BB13: =CONCATENATE(Y13,Z13,AB13,AC13,AD13,AE13,AF13,AG13,AH13,AI13,AJ13,AK13,AL13) | BC13: =BB13 | BD13: =IF(N13="","",N13) | BG13: =IF(D13="","",Q13-$T$3) | BI13: Size | BJ13: Min | BK13: Max .3" | BL13: AVC5 Max | BM13: Min | BN13: AV3 Max | BO13: M/N | BP13: Shape | BQ13: M/N | BR13: Area | BT13: _304SS | BU13: _316SS | BV13: Aluminum | BW13: HighTemp. | BX13: PFACoated | BY13: =IF(G13="","",IF(LEFT(G13,3)="304","_304SS",IF(LEFT(G13,3)="316","_316SS",G13))) | BZ13: =IF(E13="AVT3000","AV3000X",IF(E13="AVC5000","AVC5000X",IF(E13="H-AVT3000","H_AV3000",IF(E13="H-AVC5000","H_AVC5000","")))) | CB13: =IF(CD13="CageRack","AVC5000CR",BZ13) | CD13: =IF(D13="supply","supply",IF(D13="FH Exhaust","FHExhaust", IF(D13="GE","GE",IF(D13="Other Exhaust","OtherExhaust",IF(D13="Return","Return",IF(D13="Cage Rack","CageRack",IF(D13="Bio Safety Cab","BioSafetyCab",IF(D13="Canopy Ex","CanopyEx",IF(D13="Snorkel","Snorkel",IF(D13="Acid resistant","AcidRes","")))))))))) | CF13: =IF(D13="supply","supplyV",IF(D13="FH Exhaust","FHExhaustV",IF(D13="GE","GEV",IF(D13="Other Exhaust","OtherExhaustV",IF(D13="Return","ReturnV",IF(D13="Cage Rack","CageRackV",IF(D13="Bio Safety Cab","BioSafetyCabV",IF(D13="Canopy Ex","CanopyExV",IF(D13="Snorkel","SnorkelV",IF(D13="Acid resistant","AcidResV","")))))))))) | CH13: =IF(F13=6,"AL",IF(F13=8,"AL",(IF(F13=10,"AL",IF(F13=12,"AL",IF(F13=14,"AL",IF(F13="12x18","NOAL",IF(F13="12x24","NOAL",IF(F13="12x36","NOAL",IF(F13="12x48","NOAL","")))))))))) | CJ13: =IF(AND(D13="acid resistant",E13="AVC5000"),"AVC5000MC",IF(AND(D13="acid resistant",E13="AVT3000"),"AV3000MC",IF(E13="AVT3000","AV3000M",IF(E13="AVC5000","AVC5000M",IF(E13="H-AVT3000","H_AV3000M",IF(E13="H-AVC5000","H_AVC5000M","")))))) | CL13: =IF(CD13="CageRack","AVC5000CRM",CJ13) | CN13: =IF(G13="PFAcoated","NOSOPFA",IF(F13=6,"NOSO",IF(F13=8,"SO",(IF(F13=10,"SO",IF(F13=12,"SO",IF(F13=14,"SO",IF(F13="12x18","SO",IF(F13="12x24","SO",IF(F13="12x36","SO",IF(F13="12x48","SO",""))))))))))) | CP13: =IF(G13="","",IF(G13="PFACoated", "NOFL","FL")) | CR13: =IF(S13="YES","CTL",IF(S13="NO","NOCTL","")) | CT13: =IF(E13="H-AVT3000","H_AVT3A",IF(E13="AVT3000","AVT3A",IF(E13="H-AVC5000","AVCA",IF(E13="AVC5000","AVCA","")))) | CV13: =IF(E13="","",IF(E13="H-AVT3000","H_AVT3B",IF(E13="AVT3000","AVT3B",IF(E13="H-AVC5000","AVCB",IF(E13="AVC5000","AVCB"))))) | CX13: =IF(X13="YES",0,IF(X13="NO",1,"")) | CY13: =IF(X13="YES",1,IF(X13="NO",0,"")) | DA13: =IF(H13="","",VLOOKUP(H13,$BI$41:$BJ$47,2)) | DC13: =P13 -> 0 | DD13: =P13*$DD$6 -> 0 | DE13: =P13*$DE$6 -> 0 | DF13: =IF($N$2="CFM",(0.0026*(($DC13)/25)^2+0.0035*($DC13)/25-0.0047),IF($N$2="LPS",(0.0026*(($DD13)/25)^2+0.0035*($DD13)/25-0.0047),IF($N$2="CMH",(0.0026*(($DE13)/25)^2+0.0035*($DE13)/25-0.0047),""))) -> -0.0047 | DG13: =DF13*249 -> -1.1703 | DH13: =IF($N$2="CFM",(0.0017*(($DC13-50)/50)^2+0.0041*($DC13-50)/50+0.0056),IF($N$2="LPS",(0.0017*(($DD13-50)/50)^2+0.0041*($DD13-50)/50+0.0056),IF($N$2="CMH",(0.0017*(($DE13-50)/50)^2+0.0041*($DE13-50)/50+0.0056),""))) -> 0.0032 | DI13: =DH13*249 -> 0.7968 | DJ13: =IF($N$2="CFM",(0.0026*(($DC13)/100)^2+0.0012*($DC13)/100-0.0027),IF($N$2="LPS",(0.0026*(($DD13)/100)^2+0.0012*($DD13)/100-0.0027),IF($N$2="CMH",(0.0026*(($DE13)/100)^2+0.0012*($DE13)/100-0.0027),""))) -> -0.0027 | DK13: =DJ13*249 -> -0.6723 | DL13: =IF($N$2="CFM",(0.0056*(($DC13)/200)^2-0.0008*($DC13)/200+0.0012),IF($N$2="LPS",(0.0056*(($DD13)/200)^2-0.0008*($DD13)/200+0.0012),IF($N$2="CMH",(0.0056*(($DE13)/200)^2-0.0008*($DE13)/200+0.0012),""))) -> 0.0012 | DM13: =DL13*249 -> 0.2988 | DN13: =IF($N$2="CFM",(0.0062*(($DC13)/300)^2-0.0094*($DC13)/300+0.0146),IF($N$2="LPS",(0.0062*(($DD13)/300)^2-0.0094*($DD13)/300+0.0146),IF($N$2="CMH",(0.0062*(($DE13)/300)^2-0.0094*($DE13)/300+0.0146),""))) -> 0.0146 | DO13: =DN13*249 -> 3.6354 | DP13: =IF($N$2="CFM",(0.0058*((DC13)/400)^2+0.0106*(DC13)/400-0.013),IF($N$2="LPS",(0.0058*((DD13)/400)^2+0.0106*(DD13)/400-0.013),IF($N$2="CMH",(0.0058*((DE13)/400)^2+0.0106*(DE13)/400-0.013),""))) -> -0.013 | DQ13: =DP13*249 -> -3.237 | DR13: =IF($N$2="CFM",(0.0063*(($DC13)/500)^2+0.0066*($DC13)/500-0.0067),IF($N$2="LPS",(0.0063*(($DD13)/500)^2+0.0066*($DD13)/500-0.0067),IF($N$2="CMH",(0.0063*(($DE13)/500)^2+0.0066*($DE13)/500-0.0067),""))) -> -0.0067 | DS13: =DR13*249 -> -1.6683 | DT13: =IF($N$2="CFM",(0.0058*(($DC13)/800)^2+0.0106*($DC13)/800-0.013),IF($N$2="LPS",(0.0058*(($DD13)/800)^2+0.0106*($DD13)/800-0.013),IF($N$2="CMH",(0.0058*(($DE13)/800)^2+0.0106*($DE13)/800-0.013),""))) -> -0.013 | DU13: =DT13*249 -> -3.237 | DV13: =IF($N$2="CFM",(0.0063*(($DC13)/1000)^2+0.0066*($DC13)/1000-0.0067),IF($N$2="LPS",(0.0063*(($DD13)/1000)^2+0.0066*($DD13)/1000-0.0067),IF($N$2="CMH",(0.0063*(($DE13)/1000)^2+0.0066*($DE13)/1000-0.0067),""))) -> -0.0067 | DW13: =DV13*249 -> -1.6683
A14: 5 | Q14: =IF(P14=""," ",IF($N$3="in WC",IF(F14="","",IF(F14=6,DF14,IF(F14=8,DH14,IF(F14=10,DJ14,IF(F14=12,DL14,IF(F14=14,DN14,IF(F14="12x18",DP14,IF(F14="12x24",DR14,IF(F14="12x36",DT14,IF(F14="12x48",DV14)))))))))),IF(F14=6,DG14,IF(F14=8,DI14,IF(F14=10,DK14,IF(F14=12,DM14,IF(F14=14,DO14,IF(F14="12x18",DQ14,IF(F14="12x24",DS14,IF(F14="12x36",DU14,IF(F14="12x48",DW14))))))))))) | R14: =IF(F14="","",LOOKUP(F14,$BI$14:$BI$22,$BP$14:$BP$22)) | S14: =IF(RIGHT(E14,7)="AVT3000","No",IF(RIGHT(E14,7)="AVC5000","Yes","")) | T14: =IF(F14="","",IF($N$2="CFM",LOOKUP(F14,$BI$14:$BJ$22),IF($N$2="LPS", LOOKUP(F14,$BI$173:$BJ$181),IF($N$2="CMH",LOOKUP(F14,$BI$187:$BJ$195)," ")))) | U14: =IF(F14="","",IF($N$2="CFM",LOOKUP(F14,$BI$14:$BI$22,$BL$14:$BL$22),IF($N$2="LPS", LOOKUP(F14,$BI$173:$BI$181,$BL$173:$BL$181),IF($N$2="CMH",LOOKUP(F14,$BI$187:$BI$195,$BL$187:$BL$195)," ")))) | V14: =IF(F14="","",IF($N$2="CFM",LOOKUP(F14,$BI$14:$BI$22,$BM$14:$BM$22),IF($N$2="LPS", LOOKUP(F14,$BI$173:$BI$181,$BM$173:$BM$181),IF($N$2="CMH",LOOKUP(F14,$BI$187:$BI$195,$BM$187:$BM$195)," ")))) | W14: =IF(F14="","",IF($N$2="CFM",LOOKUP(F14,$BI$14:$BI$22,$BN$14:$BN$22),IF($N$2="LPS", LOOKUP(F14,$BI$173:$BI$181,$BN$173:$BN$181),IF($N$2="CMH",LOOKUP(F14,$BI$187:$BI$195,$BN$187:$BN$195)," ")))) | X14: =IF(RIGHT(E14,7)="AVT3000","No",IF(RIGHT(E14,7)="AVC5000","Yes","")) | Y14: =IF(LEFT(E14,1)="H","H-","") | Z14: =IF(RIGHT(E14,7)="AVT3000","AVT3",IF(RIGHT(E14,7)="AVC5000","AVC5","")) | AA14: =IF(RIGHT(E14,6)="AV3000","AV3",IF(RIGHT(E14,7)="AVC5000","AVC5","")) | AB14: =IF(F14="","",LOOKUP(F14,$BI$14:$BI$22,$BQ$14:$BQ$22)) | AC14: =IF(G14="","",LOOKUP(G14,$BI$31:$BJ$37)) | AD14: =IF(H14="","",LOOKUP(H14,$BI$41:$BJ$47)) | AE14: =IF(AF14="","","-") | AF14: =IF(F14="","",LOOKUP(F14,$BI$14:$BI$22,$BO$14:$BO$22)) | AG14: =IF(G14="","","-") | AH14: =IF(I14="AccuNet","A","") | AI14: =IF(J14="BACnet","B","") | AJ14: =IF(K14="Flanged","F","") | AK14: =IF(L14="Insulation","I","") | AL14: =IF(M14="Tight Shutoff","S","") | AP14: =IF(S14="NO",1,0) -> 0 | AQ14: =SUM(AP$10:AP14) -> 0 | AR14: =IF(AP14>0,AQ14,AQ14+0.1) -> 0.1 | AS14: =IF(S14="NO",C14,"") | AT14: =IF(S14="no",IF(B14="","",B14),"") | AV14: =IF(D14="",0,1) -> 0 | AW14: =SUM(AV$10:AV14) -> 0 | AX14: =IF(AV14>0,AW14,AW14+0.1) -> 0.1 | AY14: =IF(AV14=0,"",IF(C14="","",C14)) | AZ14: =IF(AV14=0,"",IF(B14="","",B14)) | BB14: =CONCATENATE(Y14,Z14,AB14,AC14,AD14,AE14,AF14,AG14,AH14,AI14,AJ14,AK14,AL14) | BC14: =BB14 | BD14: =IF(N14="","",N14) | BG14: =IF(D14="","",Q14-$T$3) | BI14: 6 | BJ14: 30 | BK14: 250 | BL14: 315 | BM14: 0 | BN14: 330 | BO14: 06 | BP14: Round | BQ14: 1 | BR14: 0.08 | BY14: =IF(G14="","",IF(LEFT(G14,3)="304","_304SS",IF(LEFT(G14,3)="316","_316SS",G14))) | BZ14: =IF(E14="AVT3000","AV3000X",IF(E14="AVC5000","AVC5000X",IF(E14="H-AVT3000","H_AV3000",IF(E14="H-AVC5000","H_AVC5000","")))) | CB14: =IF(CD14="CageRack","AVC5000CR",BZ14) | CD14: =IF(D14="supply","supply",IF(D14="FH Exhaust","FHExhaust", IF(D14="GE","GE",IF(D14="Other Exhaust","OtherExhaust",IF(D14="Return","Return",IF(D14="Cage Rack","CageRack",IF(D14="Bio Safety Cab","BioSafetyCab",IF(D14="Canopy Ex","CanopyEx",IF(D14="Snorkel","Snorkel",IF(D14="Acid resistant","AcidRes","")))))))))) | CF14: =IF(D14="supply","supplyV",IF(D14="FH Exhaust","FHExhaustV",IF(D14="GE","GEV",IF(D14="Other Exhaust","OtherExhaustV",IF(D14="Return","ReturnV",IF(D14="Cage Rack","CageRackV",IF(D14="Bio Safety Cab","BioSafetyCabV",IF(D14="Canopy Ex","CanopyExV",IF(D14="Snorkel","SnorkelV",IF(D14="Acid resistant","AcidResV","")))))))))) | CH14: =IF(F14=6,"AL",IF(F14=8,"AL",(IF(F14=10,"AL",IF(F14=12,"AL",IF(F14=14,"AL",IF(F14="12x18","NOAL",IF(F14="12x24","NOAL",IF(F14="12x36","NOAL",IF(F14="12x48","NOAL","")))))))))) | CJ14: =IF(AND(D14="acid resistant",E14="AVC5000"),"AVC5000MC",IF(AND(D14="acid resistant",E14="AVT3000"),"AV3000MC",IF(E14="AVT3000","AV3000M",IF(E14="AVC5000","AVC5000M",IF(E14="H-AVT3000","H_AV3000M",IF(E14="H-AVC5000","H_AVC5000M","")))))) | CL14: =IF(CD14="CageRack","AVC5000CRM",CJ14) | CN14: =IF(G14="PFAcoated","NOSOPFA",IF(F14=6,"NOSO",IF(F14=8,"SO",(IF(F14=10,"SO",IF(F14=12,"SO",IF(F14=14,"SO",IF(F14="12x18","SO",IF(F14="12x24","SO",IF(F14="12x36","SO",IF(F14="12x48","SO",""))))))))))) | CP14: =IF(G14="","",IF(G14="PFACoated", "NOFL","FL")) | CR14: =IF(S14="YES","CTL",IF(S14="NO","NOCTL","")) | CT14: =IF(E14="H-AVT3000","H_AVT3A",IF(E14="AVT3000","AVT3A",IF(E14="H-AVC5000","AVCA",IF(E14="AVC5000","AVCA","")))) | CV14: =IF(E14="","",IF(E14="H-AVT3000","H_AVT3B",IF(E14="AVT3000","AVT3B",IF(E14="H-AVC5000","AVCB",IF(E14="AVC5000","AVCB"))))) | CX14: =IF(X14="YES",0,IF(X14="NO",1,"")) | CY14: =IF(X14="YES",1,IF(X14="NO",0,"")) | DA14: =IF(H14="","",VLOOKUP(H14,$BI$41:$BJ$47,2)) | DC14: =P14 -> 0 | DD14: =P14*$DD$6 -> 0 | DE14: =P14*$DE$6 -> 0 | DF14: =IF($N$2="CFM",(0.0026*(($DC14)/25)^2+0.0035*($DC14)/25-0.0047),IF($N$2="LPS",(0.0026*(($DD14)/25)^2+0.0035*($DD14)/25-0.0047),IF($N$2="CMH",(0.0026*(($DE14)/25)^2+0.0035*($DE14)/25-0.0047),""))) -> -0.0047 | DG14: =DF14*249 -> -1.1703 | DH14: =IF($N$2="CFM",(0.0017*(($DC14-50)/50)^2+0.0041*($DC14-50)/50+0.0056),IF($N$2="LPS",(0.0017*(($DD14-50)/50)^2+0.0041*($DD14-50)/50+0.0056),IF($N$2="CMH",(0.0017*(($DE14-50)/50)^2+0.0041*($DE14-50)/50+0.0056),""))) -> 0.0032 | DI14: =DH14*249 -> 0.7968 | DJ14: =IF($N$2="CFM",(0.0026*(($DC14)/100)^2+0.0012*($DC14)/100-0.0027),IF($N$2="LPS",(0.0026*(($DD14)/100)^2+0.0012*($DD14)/100-0.0027),IF($N$2="CMH",(0.0026*(($DE14)/100)^2+0.0012*($DE14)/100-0.0027),""))) -> -0.0027 | DK14: =DJ14*249 -> -0.6723 | DL14: =IF($N$2="CFM",(0.0056*(($DC14)/200)^2-0.0008*($DC14)/200+0.0012),IF($N$2="LPS",(0.0056*(($DD14)/200)^2-0.0008*($DD14)/200+0.0012),IF($N$2="CMH",(0.0056*(($DE14)/200)^2-0.0008*($DE14)/200+0.0012),""))) -> 0.0012 | DM14: =DL14*249 -> 0.2988 | DN14: =IF($N$2="CFM",(0.0062*(($DC14)/300)^2-0.0094*($DC14)/300+0.0146),IF($N$2="LPS",(0.0062*(($DD14)/300)^2-0.0094*($DD14)/300+0.0146),IF($N$2="CMH",(0.0062*(($DE14)/300)^2-0.0094*($DE14)/300+0.0146),""))) -> 0.0146 | DO14: =DN14*249 -> 3.6354 | DP14: =IF($N$2="CFM",(0.0058*((DC14)/400)^2+0.0106*(DC14)/400-0.013),IF($N$2="LPS",(0.0058*((DD14)/400)^2+0.0106*(DD14)/400-0.013),IF($N$2="CMH",(0.0058*((DE14)/400)^2+0.0106*(DE14)/400-0.013),""))) -> -0.013 | DQ14: =DP14*249 -> -3.237 | DR14: =IF($N$2="CFM",(0.0063*(($DC14)/500)^2+0.0066*($DC14)/500-0.0067),IF($N$2="LPS",(0.0063*(($DD14)/500)^2+0.0066*($DD14)/500-0.0067),IF($N$2="CMH",(0.0063*(($DE14)/500)^2+0.0066*($DE14)/500-0.0067),""))) -> -0.0067 | DS14: =DR14*249 -> -1.6683 | DT14: =IF($N$2="CFM",(0.0058*(($DC14)/800)^2+0.0106*($DC14)/800-0.013),IF($N$2="LPS",(0.0058*(($DD14)/800)^2+0.0106*($DD14)/800-0.013),IF($N$2="CMH",(0.0058*(($DE14)/800)^2+0.0106*($DE14)/800-0.013),""))) -> -0.013 | DU14: =DT14*249 -> -3.237 | DV14: =IF($N$2="CFM",(0.0063*(($DC14)/1000)^2+0.0066*($DC14)/1000-0.0067),IF($N$2="LPS",(0.0063*(($DD14)/1000)^2+0.0066*($DD14)/1000-0.0067),IF($N$2="CMH",(0.0063*(($DE14)/1000)^2+0.0066*($DE14)/1000-0.0067),""))) -> -0.0067 | DW14: =DV14*249 -> -1.6683
A15: 6 | Q15: =IF(P15=""," ",IF($N$3="in WC",IF(F15="","",IF(F15=6,DF15,IF(F15=8,DH15,IF(F15=10,DJ15,IF(F15=12,DL15,IF(F15=14,DN15,IF(F15="12x18",DP15,IF(F15="12x24",DR15,IF(F15="12x36",DT15,IF(F15="12x48",DV15)))))))))),IF(F15=6,DG15,IF(F15=8,DI15,IF(F15=10,DK15,IF(F15=12,DM15,IF(F15=14,DO15,IF(F15="12x18",DQ15,IF(F15="12x24",DS15,IF(F15="12x36",DU15,IF(F15="12x48",DW15))))))))))) | R15: =IF(F15="","",LOOKUP(F15,$BI$14:$BI$22,$BP$14:$BP$22)) | S15: =IF(RIGHT(E15,7)="AVT3000","No",IF(RIGHT(E15,7)="AVC5000","Yes","")) | T15: =IF(F15="","",IF($N$2="CFM",LOOKUP(F15,$BI$14:$BJ$22),IF($N$2="LPS", LOOKUP(F15,$BI$173:$BJ$181),IF($N$2="CMH",LOOKUP(F15,$BI$187:$BJ$195)," ")))) | U15: =IF(F15="","",IF($N$2="CFM",LOOKUP(F15,$BI$14:$BI$22,$BL$14:$BL$22),IF($N$2="LPS", LOOKUP(F15,$BI$173:$BI$181,$BL$173:$BL$181),IF($N$2="CMH",LOOKUP(F15,$BI$187:$BI$195,$BL$187:$BL$195)," ")))) | V15: =IF(F15="","",IF($N$2="CFM",LOOKUP(F15,$BI$14:$BI$22,$BM$14:$BM$22),IF($N$2="LPS", LOOKUP(F15,$BI$173:$BI$181,$BM$173:$BM$181),IF($N$2="CMH",LOOKUP(F15,$BI$187:$BI$195,$BM$187:$BM$195)," ")))) | W15: =IF(F15="","",IF($N$2="CFM",LOOKUP(F15,$BI$14:$BI$22,$BN$14:$BN$22),IF($N$2="LPS", LOOKUP(F15,$BI$173:$BI$181,$BN$173:$BN$181),IF($N$2="CMH",LOOKUP(F15,$BI$187:$BI$195,$BN$187:$BN$195)," ")))) | X15: =IF(RIGHT(E15,7)="AVT3000","No",IF(RIGHT(E15,7)="AVC5000","Yes","")) | Y15: =IF(LEFT(E15,1)="H","H-","") | Z15: =IF(RIGHT(E15,7)="AVT3000","AVT3",IF(RIGHT(E15,7)="AVC5000","AVC5","")) | AA15: =IF(RIGHT(E15,6)="AV3000","AV3",IF(RIGHT(E15,7)="AVC5000","AVC5","")) | AB15: =IF(F15="","",LOOKUP(F15,$BI$14:$BI$22,$BQ$14:$BQ$22)) | AC15: =IF(G15="","",LOOKUP(G15,$BI$31:$BJ$37)) | AD15: =IF(H15="","",LOOKUP(H15,$BI$41:$BJ$47)) | AE15: =IF(AF15="","","-") | AF15: =IF(F15="","",LOOKUP(F15,$BI$14:$BI$22,$BO$14:$BO$22)) | AG15: =IF(G15="","","-") | AH15: =IF(I15="AccuNet","A","") | AI15: =IF(J15="BACnet","B","") | AJ15: =IF(K15="Flanged","F","") | AK15: =IF(L15="Insulation","I","") | AL15: =IF(M15="Tight Shutoff","S","") | AP15: =IF(S15="NO",1,0) -> 0 | AQ15: =SUM(AP$10:AP15) -> 0 | AR15: =IF(AP15>0,AQ15,AQ15+0.1) -> 0.1 | AS15: =IF(S15="NO",C15,"") | AT15: =IF(S15="no",IF(B15="","",B15),"") | AV15: =IF(D15="",0,1) -> 0 | AW15: =SUM(AV$10:AV15) -> 0 | AX15: =IF(AV15>0,AW15,AW15+0.1) -> 0.1 | AY15: =IF(AV15=0,"",IF(C15="","",C15)) | AZ15: =IF(AV15=0,"",IF(B15="","",B15)) | BB15: =CONCATENATE(Y15,Z15,AB15,AC15,AD15,AE15,AF15,AG15,AH15,AI15,AJ15,AK15,AL15) | BC15: =BB15 | BD15: =IF(N15="","",N15) | BG15: =IF(D15="","",Q15-$T$3) | BI15: 8 | BJ15: 80 | BK15: 650 | BL15: 800 | BM15: 0 | BN15: 850 | BO15: 08 | BP15: Round | BQ15: 1 | BR15: 0.16 | BT15: Insulation | BU15: Insulation | BV15: Insulation | BW15: Not Available | BX15: Not Available | BY15: =IF(G15="","",IF(LEFT(G15,3)="304","_304SS",IF(LEFT(G15,3)="316","_316SS",G15))) | BZ15: =IF(E15="AVT3000","AV3000X",IF(E15="AVC5000","AVC5000X",IF(E15="H-AVT3000","H_AV3000",IF(E15="H-AVC5000","H_AVC5000","")))) | CB15: =IF(CD15="CageRack","AVC5000CR",BZ15) | CD15: =IF(D15="supply","supply",IF(D15="FH Exhaust","FHExhaust", IF(D15="GE","GE",IF(D15="Other Exhaust","OtherExhaust",IF(D15="Return","Return",IF(D15="Cage Rack","CageRack",IF(D15="Bio Safety Cab","BioSafetyCab",IF(D15="Canopy Ex","CanopyEx",IF(D15="Snorkel","Snorkel",IF(D15="Acid resistant","AcidRes","")))))))))) | CF15: =IF(D15="supply","supplyV",IF(D15="FH Exhaust","FHExhaustV",IF(D15="GE","GEV",IF(D15="Other Exhaust","OtherExhaustV",IF(D15="Return","ReturnV",IF(D15="Cage Rack","CageRackV",IF(D15="Bio Safety Cab","BioSafetyCabV",IF(D15="Canopy Ex","CanopyExV",IF(D15="Snorkel","SnorkelV",IF(D15="Acid resistant","AcidResV","")))))))))) | CH15: =IF(F15=6,"AL",IF(F15=8,"AL",(IF(F15=10,"AL",IF(F15=12,"AL",IF(F15=14,"AL",IF(F15="12x18","NOAL",IF(F15="12x24","NOAL",IF(F15="12x36","NOAL",IF(F15="12x48","NOAL","")))))))))) | CJ15: =IF(AND(D15="acid resistant",E15="AVC5000"),"AVC5000MC",IF(AND(D15="acid resistant",E15="AVT3000"),"AV3000MC",IF(E15="AVT3000","AV3000M",IF(E15="AVC5000","AVC5000M",IF(E15="H-AVT3000","H_AV3000M",IF(E15="H-AVC5000","H_AVC5000M","")))))) | CL15: =IF(CD15="CageRack","AVC5000CRM",CJ15) | CN15: =IF(G15="PFAcoated","NOSOPFA",IF(F15=6,"NOSO",IF(F15=8,"SO",(IF(F15=10,"SO",IF(F15=12,"SO",IF(F15=14,"SO",IF(F15="12x18","SO",IF(F15="12x24","SO",IF(F15="12x36","SO",IF(F15="12x48","SO",""))))))))))) | CP15: =IF(G15="","",IF(G15="PFACoated", "NOFL","FL")) | CR15: =IF(S15="YES","CTL",IF(S15="NO","NOCTL","")) | CT15: =IF(E15="H-AVT3000","H_AVT3A",IF(E15="AVT3000","AVT3A",IF(E15="H-AVC5000","AVCA",IF(E15="AVC5000","AVCA","")))) | CV15: =IF(E15="","",IF(E15="H-AVT3000","H_AVT3B",IF(E15="AVT3000","AVT3B",IF(E15="H-AVC5000","AVCB",IF(E15="AVC5000","AVCB"))))) | CX15: =IF(X15="YES",0,IF(X15="NO",1,"")) | CY15: =IF(X15="YES",1,IF(X15="NO",0,"")) | DA15: =IF(H15="","",VLOOKUP(H15,$BI$41:$BJ$47,2)) | DC15: =P15 -> 0 | DD15: =P15*$DD$6 -> 0 | DE15: =P15*$DE$6 -> 0 | DF15: =IF($N$2="CFM",(0.0026*(($DC15)/25)^2+0.0035*($DC15)/25-0.0047),IF($N$2="LPS",(0.0026*(($DD15)/25)^2+0.0035*($DD15)/25-0.0047),IF($N$2="CMH",(0.0026*(($DE15)/25)^2+0.0035*($DE15)/25-0.0047),""))) -> -0.0047 | DG15: =DF15*249 -> -1.1703 | DH15: =IF($N$2="CFM",(0.0017*(($DC15-50)/50)^2+0.0041*($DC15-50)/50+0.0056),IF($N$2="LPS",(0.0017*(($DD15-50)/50)^2+0.0041*($DD15-50)/50+0.0056),IF($N$2="CMH",(0.0017*(($DE15-50)/50)^2+0.0041*($DE15-50)/50+0.0056),""))) -> 0.0032 | DI15: =DH15*249 -> 0.7968 | DJ15: =IF($N$2="CFM",(0.0026*(($DC15)/100)^2+0.0012*($DC15)/100-0.0027),IF($N$2="LPS",(0.0026*(($DD15)/100)^2+0.0012*($DD15)/100-0.0027),IF($N$2="CMH",(0.0026*(($DE15)/100)^2+0.0012*($DE15)/100-0.0027),""))) -> -0.0027 | DK15: =DJ15*249 -> -0.6723 | DL15: =IF($N$2="CFM",(0.0056*(($DC15)/200)^2-0.0008*($DC15)/200+0.0012),IF($N$2="LPS",(0.0056*(($DD15)/200)^2-0.0008*($DD15)/200+0.0012),IF($N$2="CMH",(0.0056*(($DE15)/200)^2-0.0008*($DE15)/200+0.0012),""))) -> 0.0012 | DM15: =DL15*249 -> 0.2988 | DN15: =IF($N$2="CFM",(0.0062*(($DC15)/300)^2-0.0094*($DC15)/300+0.0146),IF($N$2="LPS",(0.0062*(($DD15)/300)^2-0.0094*($DD15)/300+0.0146),IF($N$2="CMH",(0.0062*(($DE15)/300)^2-0.0094*($DE15)/300+0.0146),""))) -> 0.0146 | DO15: =DN15*249 -> 3.6354 | DP15: =IF($N$2="CFM",(0.0058*((DC15)/400)^2+0.0106*(DC15)/400-0.013),IF($N$2="LPS",(0.0058*((DD15)/400)^2+0.0106*(DD15)/400-0.013),IF($N$2="CMH",(0.0058*((DE15)/400)^2+0.0106*(DE15)/400-0.013),""))) -> -0.013 | DQ15: =DP15*249 -> -3.237 | DR15: =IF($N$2="CFM",(0.0063*(($DC15)/500)^2+0.0066*($DC15)/500-0.0067),IF($N$2="LPS",(0.0063*(($DD15)/500)^2+0.0066*($DD15)/500-0.0067),IF($N$2="CMH",(0.0063*(($DE15)/500)^2+0.0066*($DE15)/500-0.0067),""))) -> -0.0067 | DS15: =DR15*249 -> -1.6683 | DT15: =IF($N$2="CFM",(0.0058*(($DC15)/800)^2+0.0106*($DC15)/800-0.013),IF($N$2="LPS",(0.0058*(($DD15)/800)^2+0.0106*($DD15)/800-0.013),IF($N$2="CMH",(0.0058*(($DE15)/800)^2+0.0106*($DE15)/800-0.013),""))) -> -0.013 | DU15: =DT15*249 -> -3.237 | DV15: =IF($N$2="CFM",(0.0063*(($DC15)/1000)^2+0.0066*($DC15)/1000-0.0067),IF($N$2="LPS",(0.0063*(($DD15)/1000)^2+0.0066*($DD15)/1000-0.0067),IF($N$2="CMH",(0.0063*(($DE15)/1000)^2+0.0066*($DE15)/1000-0.0067),""))) -> -0.0067 | DW15: =DV15*249 -> -1.6683
